Workbook
Name _______EJE1: [1]INICIO!$Y$166:$Y$186
Name _______EJE1: [2]INICIO!$Y$166:$Y$186
Name _______EJE2: [1]INICIO!$Y$188:$Y$229
Name _______EJE2: [2]INICIO!$Y$188:$Y$229
Name _______EJE3: [1]INICIO!$Y$231:$Y$247
Name _______EJE3: [2]INICIO!$Y$231:$Y$247
Name _______EJE4: [1]INICIO!$Y$249:$Y$272
Name _______EJE4: [2]INICIO!$Y$249:$Y$272
Name _______EJE5: [1]INICIO!$Y$274:$Y$287
Name _______EJE5: [2]INICIO!$Y$274:$Y$287
Name _______EJE6: [1]INICIO!$Y$289:$Y$314
Name _______EJE6: [2]INICIO!$Y$289:$Y$314
Name _______EJE7: [1]INICIO!$Y$316:$Y$356
Name _______EJE7: [2]INICIO!$Y$316:$Y$356
Name ______EJE1: [1]INICIO!$Y$166:$Y$186
Name ______EJE1: [2]INICIO!$Y$166:$Y$186
Name ______EJE2: [1]INICIO!$Y$188:$Y$229
Name ______EJE2: [2]INICIO!$Y$188:$Y$229
Name ______EJE3: [1]INICIO!$Y$231:$Y$247
Name ______EJE3: [2]INICIO!$Y$231:$Y$247
Name ______EJE4: [1]INICIO!$Y$249:$Y$272
Name ______EJE4: [2]INICIO!$Y$249:$Y$272
Name ______EJE5: [1]INICIO!$Y$274:$Y$287
Name ______EJE5: [2]INICIO!$Y$274:$Y$287
Name ______EJE6: [1]INICIO!$Y$289:$Y$314
Name ______EJE6: [2]INICIO!$Y$289:$Y$314
Name ______EJE7: [1]INICIO!$Y$316:$Y$356
Name ______EJE7: [2]INICIO!$Y$316:$Y$356
Name _____EJE1: [1]INICIO!$Y$166:$Y$186
Name _____EJE1: [2]INICIO!$Y$166:$Y$186
Name _____EJE2: [1]INICIO!$Y$188:$Y$229
Name _____EJE2: [2]INICIO!$Y$188:$Y$229
Name _____EJE3: [1]INICIO!$Y$231:$Y$247
Name _____EJE3: [2]INICIO!$Y$231:$Y$247
Name _____EJE4: [1]INICIO!$Y$249:$Y$272
Name _____EJE4: [2]INICIO!$Y$249:$Y$272
Name _____EJE5: [1]INICIO!$Y$274:$Y$287
Name _____EJE5: [2]INICIO!$Y$274:$Y$287
Name _____EJE6: [1]INICIO!$Y$289:$Y$314
Name _____EJE6: [2]INICIO!$Y$289:$Y$314
Name _____EJE7: [1]INICIO!$Y$316:$Y$356
Name _____EJE7: [2]INICIO!$Y$316:$Y$356
Name ____EJE1: [3]INICIO!$Y$166:$Y$186
Name ____EJE1: [3]INICIO!$Y$166:$Y$186
Name ____EJE1: [4]INICIO!$Y$166:$Y$186
Name ____EJE2: [3]INICIO!$Y$188:$Y$229
Name ____EJE2: [3]INICIO!$Y$188:$Y$229
Name ____EJE2: [4]INICIO!$Y$188:$Y$229
Name ____EJE3: [3]INICIO!$Y$231:$Y$247
Name ____EJE3: [3]INICIO!$Y$231:$Y$247
Name ____EJE3: [4]INICIO!$Y$231:$Y$247
Name ____EJE4: [3]INICIO!$Y$249:$Y$272
Name ____EJE4: [3]INICIO!$Y$249:$Y$272
Name ____EJE4: [4]INICIO!$Y$249:$Y$272
Name ____EJE5: [3]INICIO!$Y$274:$Y$287
Name ____EJE5: [3]INICIO!$Y$274:$Y$287
Name ____EJE5: [4]INICIO!$Y$274:$Y$287
Name ____EJE6: [3]INICIO!$Y$289:$Y$314
Name ____EJE6: [3]INICIO!$Y$289:$Y$314
Name ____EJE6: [4]INICIO!$Y$289:$Y$314

Sheet Caratula
A14: 09PFRC FIDEICOMISO DE RECUPERACIÓN CREDITICIA DE LA CIUDAD DE MÉXICO FIDERE
A18: INFORME DE AVANCE TRIMESTRAL ENERO-SEPTIEMBRE 2017
A33: Titular: | G33: Responsable:
B34: Nombre, Cargo y Firma | I34: Nombre, Cargo y Firma
B35: LIC. MARIA YSAURA MORENO ALAMINA | H35: LIC. ELISA LUGO IPIÑA
B36: DIRECTORA GENERAL DE FIDERE | H36: GERENTE DE ADMINISTRACIÓN Y FINANZAS

Sheet ECG-1
A1: ECG-1 EVOLUCIÓN PRESUPUESTAL POR CAPÍTULO DE GASTO CON DÍGITO IDENTIFICADOR 1
A3: UNIDAD RESPONSABLE DEL GASTO: 09PFRC FIDEICOMISO DE RECUPERACIÓN CREDITICIA DE LA CIUDAD DE MÉXICO FIDERE
A4: PERÍODO: Enero-septiembre 2017
A5: CAPÍTULO | B5: PRESUPUESTO (Pesos con dos decimales) | F5: VARIACIÓN | H5: A) EXPLICACIÓN A LAS VARIACIONES DEL PRESUPUESTO DEVENGADO RESPECTO DEL PROGRAMADO AL PERIODO
B6: PROGRAMADO (1) | C6: DEVENGADO (2) | D6: EJERCIDO (3) | E6: PAGADO (4) | F6: (5)=2-1 | G6: (6)=3-2 | H6: B) EXPLICACIÓN A LAS VARIACIONES DEL PRESUPUESTO EJERCIDO RESPECTO AL DEVENGADO
A8: TOTAL GASTO CORRIENTE | B8: =+B9+B11+B13+B15 -> 62393271 | C8: =+C9+C11+C13+C15 -> 49261561 | D8: =+D9+D11+D13+D15 -> 49260057 | E8: =+E9+E11+E13+E15 -> 49260057 | F8: =+F9+F11+F13+F15 -> -13131710 | G8: =+G9+G11+G13+G15 -> -1504
A9: 1000 | B9: 33160333 | C9: 27767000 | D9: 27767000 | E9: 27767000 | F9: =+C9-B9 -> -5393333.2 | G9: =+D9-C9 -> 0 | H9: A) | I9: Situación: Se ejercieron menores recursos para el pago de sueldos, sueldo personal eventual, prima de vacaciones, gratificación de fin de año, aportaciones al IMSS, INFONAVIT, al Sistema para el retiro o la administración de fondos para el retiro y ahorro solidario, prima de seguro de vida del personal civil, cuotas para el fondo de ahorro y fondo de trabajo, asignaciones para el pago de antigüedad y asignaciones para Requerimiento de servidores públicos superiores y de mandos medios, así como de los lideres coordinadores y enlace. Causas de la situación: Derivado a plazas vacantes, incapacidades medicas, faltas, por la no autorización del incremento salarial al personal de estructura, teniéndolo considerado en el presupuesto desde el mes de enero.
H10: B) | I10: No existe variación
A11: 2000 | B11: 1468954 | C11: 951680.64 | D11: 951680.64 | E11: 951680.64 | F11: =+C11-B11 -> -517273.36 | G11: =+D11-C11 -> 0 | H11: A) | I11: Situación: Se ejercieron menores recursos en materiales, útiles y equipos menores de oficina como de tecnologías de información y comunicaciones, productos alimenticios y bebidas para personas, maderas y productos de madera, material eléctrico, otros artículos de construcción, combustibles, lubricantes y aditivos, y refacciones y accesorios menores de equipo computo y de transporte. Causas de la situación: Por los tramites de cotizaciones para la obtención de un mejor costo así como de las compras consolidadas y a que no fue necesario la utilización del total de los recursos, sin afectar las metas que se tenían contempladas.
H12: B) | I12: No existe variación
A13: 3000 | B13: 23400344 | C13: =16177736.35+1504 -> 16179240 | D13: =16177736.35 -> 16177736 | E13: 16177736 | F13: =+C13-B13 -> -7221103.7 | G13: =+D13-C13 -> -1504 | H13: A) | I13: Situación: No se utilizaron todos los recursos en servicios de energía eléctrica, servicio de agua, telefónica, servicio de acceso de internet, redes y procesamiento de información, servicios postales, servicios integrales y otros servicios, servicio de consultoría administrativa, procesos, técnica y en tecnología de la información, servicios de apoyo administrativo y fotocopiado, servicio de impresión, servicio de vigilancia, servicios financieros y bancarios, gastos inherentes a la recaudación, seguros, conservación y mantenimiento de inmuebles, de equipo de computo y transporte, gastos de difusión, pasajes terrestres al interior del Distrito Federal, impuestos y derechos, otros gastos por responsabilidades, impuesto sobre nominas. Causas de la situación: Por los procesos de licitaciones y cotizaciones para la contratación de los servicio, los tramites de autorizaciones ante las diferentes instancias y al uso racional de los servicios atendiendo las medidas de austeridad implementadas y a la no presentación de facturas para el pago de energía eléctrica, que el pago de comisiones son variables conforme al numero de pago de acreditados . Las economías obtenidas no afectaron en el cumplimiento de las actividades sustantantivas de la entidad
H14: B) | I14: El importe devengado corrresponde a la comisión pendiente de pago del Banco Afirme
A15: 4000 | B15: 4363640 | C15: 4363640 | D15: 4363640 | E15: 4363640 | F15: =+C15-B15 -> 0 | G15: =+D15-C15 -> 0 | H15: A) | I15: No existe variación
H16: B) | I16: No existe variación

Sheet ECG-1 (2)
A1: ECG-1 EVOLUCIÓN PRESUPUESTAL POR CAPÍTULO DE GASTO CON DÍGITO IDENTIFICADOR 1
A3: UNIDAD RESPONSABLE DEL GASTO: 09PFRC FIDEICOMISO DE RECUPERACIÓN CREDITICIA DE LA CIUDAD DE MÉXICO FIDERE
A4: PERÍODO: Enero-septiembre 2017
A5: CAPÍTULO | B5: PRESUPUESTO (Pesos con dos decimales) | F5: VARIACIÓN | H5: A) EXPLICACIÓN A LAS VARIACIONES DEL PRESUPUESTO DEVENGADO RESPECTO DEL PROGRAMADO AL PERIODO
B6: PROGRAMADO (1) | C6: DEVENGADO (2) | D6: EJERCIDO (3) | E6: PAGADO (4) | F6: (5)=2-1 | G6: (6)=3-2 | H6: B) EXPLICACIÓN A LAS VARIACIONES DEL PRESUPUESTO EJERCIDO RESPECTO AL DEVENGADO
A7: TOTAL GASTO DE CAPITAL | B7: =+B15 -> 1133000 | C7: =+C15 -> 0 | D7: =+D15 -> 0 | E7: =+E15 -> 0 | F7: =+F15 -> -1133000 | G7: =+G15 -> 0
A8: 1000
A10: 2000
A12: 3000
A15: 5000 | B15: 1133000 | C15: 0 | D15: 0 | E15: 0 | F15: =+C15-B15 -> -1133000 | G15: =+D15-C15 -> 0 | H15: A) | I15: Situación: No se ejercieron los recursos para la adquisición de Mobiliario de oficina, Equipo de cómputo y tecnologías de la información, equipos de generación eléctrica, aparatos y accesorios eléctricos y Software Causas de la situación: Por los tramites de autorizaciones ante las diferentes instancias al ser compras consolidadas.
H16: B) | I16: No existe variación
A17: 6000
A19: 7000
A21: TOTAL URG (10) | B21: ='ECG-1'!B8+'ECG-1 (2)'!B7 -> 63526271 | C21: ='ECG-1'!C8+'ECG-1 (2)'!C7 -> 49261561 | D21: ='ECG-1'!D8+'ECG-1 (2)'!D7 -> 49260057 | E21: ='ECG-1'!E8+'ECG-1 (2)'!E7 -> 49260057 | F21: ='ECG-1'!F8+'ECG-1 (2)'!F7 -> -14264710 | G21: ='ECG-1'!G8+'ECG-1 (2)'!G7 -> -1504

Sheet APP-1
A1: APP-1 AVANCE PROGRAMÁTICO-PRESUPUESTAL DE ACTIVIDADES INSTITUCIONALES
A3: UNIDAD RESPONSABLE DEL GASTO: 09PFRC FIDEICOMISO DE RECUPERACIÓN CREDITICIA DE LA CIUDAD DE MÉXICO FIDERE
A4: PERÍODO: Enero-septiembre 2017
A5: EJE | B5: FI | C5: F | D5: SF | E5: AI | F5: PP | G5: DENOMINACIÓN | H5: UNIDAD DE MEDIDA | I5: R E S U L T A D O S
I6: FÍSICO | K6: ICMPP (%) 2/1=(3) | L6: PRESUPUESTAL (Pesos con dos decimales) | P6: ICPPP (%) 5/4 (8) | Q6: IARCM (%) 3/8
I7: PROGRAMADO (1) | J7: ALCANZADO (2) | L7: PROGRAMADO (4) | M7: DEVENGADO (5) | N7: EJERCIDO (6) | O7: PAGADO (7)
A8: 1 | G8: Equidad e Inclusión social para el Desarrollo Humano | L8: =+L9 -> 80000 | M8: =+M9 -> 57000 | N8: =+N9 -> 57000 | O8: =+O9 -> 57000
B9: 1 | G9: Gobierno | L9: =+L10 -> 80000 | M9: =+M10 -> 57000 | N9: =+N10 -> 57000 | O9: =+O10 -> 57000
C10: 2 | G10: Justicia | L10: =+L11 -> 80000 | M10: =+M11 -> 57000 | N10: =+N11 -> 57000 | O10: =+O11 -> 57000
D11: 4 | G11: Derechos Humanos | L11: =+L12 -> 80000 | M11: =+M12 -> 57000 | N11: =+N12 -> 57000 | O11: =+O12 -> 57000
E12: 306 | G12: Fomento y Concertación de acciones institucionales en Pro de la igualdad (Políticas Públicas) | H12: Persona | I12: 0 | J12: 0 | K12: 0 | L12: 80000 | M12: 57000 | N12: 57000 | O12: 57000 | P12: =M12/L12*100 -> 71.25 | Q12: =K12/P12*100 -> 0
A14: 2 | G14: Gobernabilidad, Seguridad y Protección Ciudadana | L14: =+L15 -> 62000 | M14: =+M15 -> 888 | N14: =+N15 -> 888 | O14: =+O15 -> 888
B15: 1 | G15: Gobierno | L15: =+L16 -> 62000 | M15: =+M16 -> 888 | N15: =+N16 -> 888 | O15: =+O16 -> 888
C16: 7 | G16: Asuntos de Orden Público y de Seguridad Interior | L16: =+L17 -> 62000 | M16: =+M17 -> 888 | N16: =+N17 -> 888 | O16: =+O17 -> 888
D17: 2 | G17: Protección Civil | L17: =+L18 -> 62000 | M17: =+M18 -> 888 | N17: =+N18 -> 888 | O17: =+O18 -> 888
E18: 301 | G18: Gestión Integral del riesgo en Materia de Protección Civil | H18: Acción | I18: 0 | J18: 0 | K18: 0 | L18: 62000 | M18: 888 | N18: 888 | O18: 888 | P18: =M18/L18*100 -> 1.4322581 | Q18: =K18/P18*100 -> 0
A20: 5 | G20: Efectividad, rendición de Cuentas y Combate a la Corrupción | L20: =+L22+L26 -> 63384271 | M20: =+M22+M26 -> 49203673 | N20: =+N22+N26 -> 49202169 | O20: =+O22+O26 -> 49202169
B22: 1 | G22: Gobierno | L22: =+L23 -> 15455527 | M22: =+M23 -> 12816412 | N22: =+N23 -> 12816412 | O22: =+O23 -> 12816412
C23: 8 | G23: Otros Servicios Generales | L23: =+L25 -> 15455527 | M23: =+M25 -> 12816412 | N23: =+N25 -> 12816412 | O23: =+O25 -> 12816412
D24: 5 | G24: Otros | L24: =+L25 -> 15455527 | M24: =+M25 -> 12816412 | N24: =+N25 -> 12816412 | O24: =+O25 -> 12816412
E25: 301 | G25: Administración de Recursos Institucionales | H25: Tramite | I25: 12428 | J25: 11903 | K25: =+J25/I25*100 -> 95.775668 | L25: 15455527 | M25: 12816412 | N25: 12816412 | O25: 12816412 | P25: =M25/L25*100 -> 82.924457 | Q25: =K25/P25*100 -> 115.49749
B26: 2 | G26: Desarrollo Social | L26: =+L27 -> 47928744 | M26: =+M27 -> 36387261 | N26: =+N27 -> 36385757 | O26: =+O27 -> 36385757
C27: 2 | G27: Vivienda y Servicios a la Comunidad | L27: =+L28 -> 47928744 | M27: =+M28 -> 36387261 | N27: =+N28 -> 36385757 | O27: =+O28 -> 36385757
D28: 7 | G28: Desarrollo Regional | L28: =+L29 -> 47928744 | M28: =+M29 -> 36387261 | N28: =+N29 -> 36385757 | O28: =+O29 -> 36385757
E29: 326 | G29: Recuperación Crediticia | H29: MILL/PESOS | I29: =+I30+I33+I37+I44 -> 855.4 | J29: =+J30+J33+J37+J44 -> 819 | K29: =+J29/I29*100 -> 95.744681 | L29: 47928744 | M29: =36385756.94+1504 -> 36387261 | N29: 36385757 | O29: 36385757 | P29: =M29/L29*100 -> 75.919496 | Q29: =K29/P29*100 -> 126.11343 | R29: =+R30+R33+R37+R44 -> 747.7 | S29: =+S30+S33+S37+S44 -> 71.3 | T29: =+T30+T33+T37+T44 -> 819
G30: BANCARIA | I30: =+I31+I32 -> 12.5 | J30: =+J31+J32 -> 6.1 | R30: =+R31+R32 -> 6 | S30: =+S31+S32 -> 0.1 | T30: =+T31+T32 -> 6.1
G31: Banco Nacional de México, S.A. | I31: 10.9 | J31: 5.5 | R31: 5.4 | S31: 0.1 | T31: =+R31+S31 -> 5.5
G32: Banco Mercantil del Norte S.A. | I32: 1.6 | J32: 0.6 | R32: 0.6 | S32: 0 | T32: =+R32+S32 -> 0.6
G33: GUBERNAMENTAL | I33: =SUM(I34:I36) -> 842.5 | J33: =SUM(J34:J36) -> 812.4 | R33: =SUM(R34:R36) -> 741.2 | S33: =SUM(S34:S36) -> 71.2 | T33: =SUM(T34:T36) -> 812.4
G34: Fideicomiso de Vivienda y Desarrollo Urbano | I34: 11.1 | J34: 7.6 | R34: 7.1 | S34: 0.5 | T34: =+R34+S34 -> 7.6
G35: Fideicomiso Casa Propia | I35: 3.7 | J35: 1.9 | R35: 1.8 | S35: 0.1 | T35: =+R35+S35 -> 1.9
G36: Instituto de Vivienda del Distrito Federal | I36: 827.7 | J36: 802.9 | R36: 732.3 | S36: 70.6 | T36: =+R36+S36 -> 802.9
G37: PROPIAS | I37: =SUM(I38:I43) -> 0.2 | J37: =SUM(J38:J43) -> 0.2 | R37: =SUM(R38:R43) -> 0.2 | S37: =SUM(S38:S43) -> 0 | T37: =SUM(T38:T43) -> 0.2
G38: Renovación Habitación Popular (R.H.P) | I38: 0 | J38: 0.1 | R38: 0.1 | S38: 0 | T38: 0.1
G39: Suelo-Ficapro-Fidere | I39: 0 | J39: 0 | R39: 0 | S39: 0 | T39: 0
G40: Fondo de Desarrollo Económico Mypes Locales | I40: 0.1 | J40: 0.1 | R40: 0.1 | S40: 0 | T40: 0.1
G41: Fondo de Desarrollo Económico (Mypes Federales) | I41: 0.1 | J41: 0 | R41: 0 | S41: 0 | T41: 0
G42: Fondo para la Consolidación de la Micro Empresa (Focomi Mypes) | I42: 0 | J42: 0 | R42: 0 | S42: 0 | T42: 0
G43: Fondo de Desarrollo Económico ( Empresarial) | I43: 0 | J43: 0 | R43: 0 | S43: 0 | T43: 0
G44: SOCIALES | I44: =SUM(I45:I48) -> 0.2 | J44: =SUM(J45:J48) -> 0.3 | R44: =SUM(R45:R48) -> 0.3 | S44: =SUM(S45:S48) -> 0 | T44: =SUM(T45:T48) -> 0.3
...

Sheet APP-2
A1: APP-2 EXPLICACIÓN A LAS VARIACIONES DEL AVANCE PROGRAMÁTICO-PRESUPUESTAL DE ACTIVIDADES INSTITUCIONALES
A3: UNIDAD RESPONSABLE DEL GASTO: 09PFRC FIDEICOMISO DE RECUPERACIÓN CREDITICIA DE LA CIUDAD DE MÉXICO FIDERE
A4: PERÍODO: Enero-septiembre 2017
A5: EJE | B5: FI | C5: F | D5: SF | E5: AI | F5: DENOMINACIÓN | G5: A) Causas de las variaciones del Índice de Aplicación de Recursos para la Consecución de Metas Programadas (IARCM)
A7: 1 | F7: Equidad e Inclusión social para el Desarrollo Humano
B8: 1 | F8: Gobierno
C9: 2 | F9: Justicia
D10: 4 | F10: Derechos Humanos
E11: 306 | F11: Fomento y Concertación de acciones institucionales en Pro de la igualdad (Políticas Públicas) | G11: A)Sin variación
A13: 2 | F13: Gobernabilidad, Seguridad y Protección Ciudadana
B14: 1 | F14: Gobierno
C15: 7 | F15: Asuntos de Orden Público y de Seguridad Interior
D16: 2 | F16: Protección Civil
E17: 301 | F17: Gestión Integral del riesgo en Materia de Protección Civil | G17: A) Sin variación
A19: 5 | F19: Efectividad, rendición de Cuentas y Combate a la Corrupción
B20: 1 | F20: Gobierno
C21: 8 | F21: Otros Servicios Generales
D22: 5 | F22: Otros
E23: 301 | F23: Administración de Recursos Institucionales | G23: A) Se tiene como satisfactorio, por menores tramites realizados en la elaboración de oficios en atención a las auditorias internas y externas, elaboración de nóminas del personal eventual por menor rotación del personal, eficientandose la utilización de los recursos.
B25: 2 | F25: Desarrollo Social
C26: 2 | F26: Vivienda y Servicios a la Comunidad
D27: 7 | F27: Desarrollo Regional
E28: 326 | F28: Recuperación Crediticia | G28: A) Se tiene como satisfactorio, derivado a que la meta programada de recuperación de créditos fue inferior en un 95.74 %, con la utilización mas eficiente de los recursos en las actividades de recuperación de llamada telefónicas, envió de recordatorios de pago, pago de comisiones, en gastos inherentes a la recuperación y mantenimientos a los equipos informáticos y vehículos propiedad de la entidad.

Sheet APP-3
A1: APP-3 AVANCE PROGRAMÁTICO-PRESUPUESTAL DE ACTIVIDADES INSTITUCIONALES FINANCIADAS CON RECURSOS DE ORIGEN FEDERAL
A2: FONDO, CONVENIO, SUBSIDIO O PARTICIPACIÓN: (1)
A4: UNIDAD RESPONSABLE DEL GASTO: 09PFRC FIDEICOMISO DE RECUPERACIÓN CREDITICIA DE LA CIUDAD DE MÉXICO FIDERE
A5: PERÍODO: Enero-septiembre 2017
A6: EJE | B6: FI | C6: F | D6: SF | E6: AI | F6: DENOMINACIÓN | G6: UNIDAD DE MEDIDA | H6: R E S U L T A D O S
H7: FÍSICO | K7: AVANCE % | M7: PRESUPUESTAL (Pesos con dos decimales) | R7: AVANCE %
H8: ORIGINAL (1) | I8: PROGRAMADO (2) | J8: ALCANZADO (3) | K8: 3/1*100 =(4) | L8: 3/2*100 =(5) | M8: APROBADO (6) | N8: MODIFICADO (7) | O8: DEVENGADO (8) | P8: EJERCIDO (9) | Q8: PAGADO (10) | R8: 8/6*100 =(11) | S8: 8/7*100 =(12) | T8: 9/6*100 =(13) | U8: 9/7*100 =(14)
H17: NO APLICA
F39: TOTAL URG (19)

Sheet APP-4
A1: APP-4 AVANCE PROGRAMÁTICO-PRESUPUESTAL DE LAS ACCIONES REALIZADAS CON RECURSOS DE ORIGEN FEDERAL
A3: UNIDAD RESPONSABLE DEL GASTO: 09PFRC FIDEICOMISO DE RECUPERACIÓN CREDITICIA DE LA CIUDAD DE MÉXICO FIDERE
A4: PERÍODO: Enero-septiembre 2017
A5: FONDO, CONVENIO, SUBSIDIO O PARTICIPACIÓN: (3)
A6: ACCIONES REALIZADAS CON RECURSOS DE ORIGEN FEDERAL: (4)
A17: NO APLICA

Sheet AR
A1: AR ACCIONES REALIZADAS PARA LA CONSECUCIÓN DE METAS DE LAS ACTIVIDADES INSTITUCIONALES
A3: UNIDAD RESPONSABLE DEL GASTO: 09PFRC FIDEICOMISO DE RECUPERACIÓN CREDITICIA DE LA CIUDAD DE MÉXICO FIDERE
A4: PERÍODO: Enero-septiembre 2017
A5: EJE | B5: AO | C5: FI | D5: F | E5: SF | F5: AI | G5: PP | H5: DENOMINACIÓN | I5: UNIDAD DE MEDIDA | J5: METAS | M5: PRESUPUESTO (Pesos)
J6: ORIGINAL | K6: PROGRAMADA | L6: ALCANZADA | M6: APROBADO | N6: PROGRAMADO | O6: EJERCIDO
A7: 1 | B7: 1 | C7: 1 | D7: 2 | E7: 4 | F7: 306 | H7: Fomento y Concertación de acciones institucionales en Pro de la igualdad (Políticas Públicas) | I7: Persona | J7: 160 | K7: 0 | L7: 0 | M7: 115000 | N7: 80000 | O7: 57000 | Q7: =88806148 -> 88806148 | R7: 63526271 | S7: 49260057
Q8: =M7+M20+'AR (2)'!M7+'AR (2)'!M20 -> 88806148 | R8: =N7+N20+'AR (2)'!N7+'AR (2)'!N20 -> 63526271 | S8: =O7+O20+'AR (2)'!O7+'AR (2)'!O20 -> 49260057
A9: Objetivo: Promover la igualdad de Género, mediante acciones dirigidas a sensibilizar al personal del fideicomiso, con la finalidad de reducir las brechas de desigualdad entre hombres y mujeres | Q9: =+Q7-Q8 -> 0 | R9: =+R7-R8 -> 0 | S9: =+S7-S8 -> 0
A11: Acciones Realizadas : Se tiene programado hasta el ultimo trimestre
A20: 2 | B20: 6 | C20: 1 | D20: 7 | E20: 2 | F20: 301 | H20: Gestión Integral del riesgo en Materia de Protección Civil | I20: Accion | J20: 2 | K20: 0 | L20: 0 | M20: 122000 | N20: 62000 | O20: 888
A22: Objetivo: Realizar acciones de prevención en materia de protección civil, adquiriendo equipo de seguridad necesario y adecuado para las instalaciones y brigadistas así como programar cursos de capacitación en la materia.
A24: Acciones Realizadas : Se adquirieron silbatos para el personal de las brigadas, las demás acciones previstas se está en el proceso de tramites de cotizaciones para la compra de material necesario para la mejor seguridad del personal y las instalaciones y un curso en materia de protección civil, con el objeto de eficientar los recursos.

Sheet AR (2)
A1: AR ACCIONES REALIZADAS PARA LA CONSECUCIÓN DE METAS DE LAS ACTIVIDADES INSTITUCIONALES
A3: UNIDAD RESPONSABLE DEL GASTO: 09PFRC FIDEICOMISO DE RECUPERACIÓN CREDITICIA DE LA CIUDAD DE MÉXICO FIDERE
A4: PERÍODO: Enero-septiembre 2017
A5: EJE | B5: AO | C5: FI | D5: F | E5: SF | F5: AI | G5: PP | H5: DENOMINACIÓN | I5: UNIDAD DE MEDIDA | J5: METAS | M5: PRESUPUESTO (Pesos)
J6: ORIGINAL | K6: PROGRAMADA | L6: ALCANZADA | M6: APROBADO | N6: PROGRAMADO | O6: EJERCIDO
A7: 5 | B7: 1 | C7: 1 | D7: 8 | E7: 5 | F7: 301 | H7: Administración de Recursos Institucionales | I7: Trámite | J7: 16791 | K7: 8225 | L7: 7867 | M7: 22625558 | N7: 15455527 | O7: 12816412
A9: Objetivo: Este resultado se orienta a la optimización de los recursos financieros para apoyar las acciones encomendadas al fideicomiso.
A11: Acciones Realizadas: Dentro de las actividades realizadas en este programa son las siguientes: Pagos de remuneraciones al personal de acuerdo de las disposiciones y tabuladores autorizados, contratación de los servicios necesarios para la operación, adquisición de materiales de acuerdo a la normatividad vigente en la materia, controlar el correcto movimiento de los recursos de las diversas cuentas bancarias del fideicomiso por la recaudación del pago de los acreditados y presupuesto autorizado, registro de los movimientos presupuéstales y contables en forma transparente y oportuna, así como atender de manera ágil la liquidación de las adquisiciones y servicios contratados y los enteros de la recaudación a los dueños de las carteras.
A20: 5 | B20: 5 | C20: 2 | D20: 2 | E20: 7 | F20: 326 | H20: Recuperación Crediticia | I20: MILL/PESOS | J20: 1152.4 | K20: 573.9 | L20: 568.5 | M20: 65943590 | N20: 47928744 | O20: 36385757
A22: Objetivo: Recuperar créditos financieros otorgados por el Gobierno del Distrito Federal y sus entidades así como instituciones públicas o privadas, abatiendo la morosidad, con el fin de canalizar estos recursos a los dueños de las carteras, para que se reciclen en la ejecución de nuevos proyectos que ayuden al abatimiento del rezago en materia habitacional.
A24: Acciones Realizadas : El fideicomiso realizara tareas de recuperación de la cobranza, a través de la red de sucursales bancarias y las cajas ubicadas en nuestras oficinas, así como el registro y control de cobranza individualizado, emisión y distribución a domicilio de estados de cuenta, de talonarios de pago, de avisos y recordatorio de pagos, gestión a domicilio de cobranza extrajudicial a deudores morosos, cobranza judicial, operación de módulos permanentes de orientación y atención a los acreditados Realizado 615,689 acciones, las cuales consisten en 222,371 llamadas telefónicas, 52,417 visitas, entrega de 3,951 recibos de pago, 336,950 envíos de recordatorios de pago cobranza administrativa y 11,700 cobranza judicial , lo que ha permitido tener un 95.74% de avance en la meta de recuperación programada | Q24: =222371+52417+3951+336950 -> 615689
Q26: =222371+52417+3951+336950 -> 615689

Sheet PPI
A1: PPI PROGRAMAS Y PROYECTOS DE INVERSIÓN
A3: UNIDAD RESPONSABLE DEL GASTO: 09PFRC FIDEICOMISO DE RECUPERACIÓN CREDITICIA DE LA CIUDAD DE MÉXICO FIDERE
A4: PERÍODO: Enero-septiembre 2017
A6: Clave Proyecto de Inversión | B6: Denominación del Proyecto de Inversión | C6: Avance Físico % | D6: Presupuesto (Pesos con dos decimales) | G6: Descripción de Acciones Realizadas
D7: Aprobado | E7: Modificado | F7: Ejercido
C15: NO APLICA

Sheet IAPP
A1: IAPP INDICADORES ASOCIADOS A PROGRAMAS PRESUPUESTARIOS
A3: UNIDAD RESPONSABLE DEL GASTO: 09PFRC FIDEICOMISO DE RECUPERACIÓN CREDITICIA DE LA CIUDAD DE MÉXICO FIDERE
A4: PERIODO: Enero-septiembre 2017
A6: PROGRAMA PRESUPUESTARIO: (3)
A8: Nombre del Indicador | B8: Objetivo | C8: Nivel del Objetivo | D8: Tipo de Indicador | E8: Método de Cálculo | F8: Dimensión a Medir | G8: Frecuencia de Medición | H8: Unidad de Medida | I8: Línea Base | J8: Meta Programada al Periodo | K8: Meta Alcanzada al Periodo
A9: (4) | B9: (5) | C9: (6) | D9: (7) | E9: (8) | F9: (9) | G9: (10) | H9: (11) | I9: (12) | J9: (13) | K9: (14)
D11: NO APLICA

Sheet EAP
A1: EAP EVOLUCIÓN DE LAS ADECUACIONES PRESUPUESTALES
A3: UNIDAD RESPONSABLE DEL GASTO: 09PFRC FIDEICOMISO DE RECUPERACIÓN CREDITICIA DE LA CIUDAD DE MÉXICO FIDERE
A4: PERÍODO: Enero-septiembre 2017
A5: PRESUPUESTO (Pesos con dos decimales)
A6: APROBADO | B6: MODIFICADO | D6: VARIACIÓN ABSOLUTA: (MODIFICADO-APROBADO) | F6: VARIACIÓN %: ((MODIFICADO/APROBADO)-1)*100
A7: 88806148 | B7: 89919148 | D7: =+B7-A7 -> 1113000 | F7: 1.25 | G7: =((B7/A7)-1)*100 -> 1.2532916
A9: PROYECTOS, ACCIONES, O PROGRAMAS | B9: APROBADO | C9: MODIFICADO | D9: FUENTE DE FINANCIAMIENTO | E9: GASTO CORRIENTE O DE INVERSIÓN
F10: CAUSAS DE LAS ADECUACIONES AL PRESUPUESTO
C15: NO APLICA

Sheet ADS-1
A1: ADS-1 AYUDAS, DONATIVOS Y SUBSIDIOS
A3: UNIDAD RESPONSABLE DEL GASTO: 09PFRC FIDEICOMISO DE RECUPERACIÓN CREDITICIA DE LA CIUDAD DE MÉXICO FIDERE
A4: PERÍODO: Enero-septiembre 2017
A5: AYUDAS, DONATIVOS Y SUBSIDIOS OTORGADOS | B5: BENEFICIARIO | D5: PRESUPUESTO EJERCIDO (Pesos con dos decimales) | E5: CARACTERÍSTICAS
B6: TIPO | C6: TOTAL
A7: 4419 " Otras ayudas sociales a personas" | B7: Persona | C7: Variable * | D7: 4363640 | E7: Esta cantidad se encuentra en una cuenta de Inversión de fideicomiso, ya que esta aportación fue con el fin de fortalecer el fondo colateral de garantía, siendo solamente la participación de este fideicomiso como el ente encargado de dar seguimiento e instrumentar el convenio de Colaboración para Apoyar a los Acreditados Finales del Programa FOVI DDF (Banamex Banorte), firmado el día 27 de noviembre de 2006, entre la Sociedad Hipotecaria Federal, S.N.C. y el Gobierno del Distrito Federal, con el objeto reducir el riesgo de afectación de la garantía otorgada por el entonces Departamento del Distrito Federal. Es relevante aclarar que al no contar con los fondos suficientes para dar cumplimiento con lo estipulado en el Convenio de Colaboración para Apoyar a los Acreditados Finales del Programa FOVI DDF (Banamex Banorte), en donde el Gobierno del Distrito Federal es Garante, se corre el riesgo de hacerse exigible al 100% dicha garantía.
A8: Fortalecimiento del Fondo Colateral de Garantía
A15: TOTAL URG (8) | D15: =+D7 -> 4363640

Sheet ADS-2
A1: ADS-2 AYUDAS, DONATIVOS Y SUBSIDIOS A FIDEICOMISOS
A3: UNIDAD RESPONSABLE DEL GASTO: 09PFRC FIDEICOMISO DE RECUPERACIÓN CREDITICIA DE LA CIUDAD DE MÉXICO FIDERE
A4: PERÍODO: Enero-septiembre 2017
A5: NOMBRE DEL FIDEICOMISO | B5: MONTO (Pesos con dos decimales) | F5: DESTINO DEL GASTO
B6: INGRESO | C6: GASTO | D6: RENDIMIENTOS FINANCIEROS | E6: SALDO
A7: (3) | B7: (4) | C7: (5) | D7: (6) | E7: (7) | F7: (8)
C11: NO APLICA
A25: TOTAL URG (9)

Sheet SAP
A1: SAP PROGRAMAS QUE OTORGAN SUBSIDIOS Y APOYOS A LA POBLACIÓN
A3: UNIDAD RESPONSABLE DEL GASTO: 09PFRC FIDEICOMISO DE RECUPERACIÓN CREDITICIA DE LA CIUDAD DE MÉXICO FIDERE
A4: PERÍODO: Enero-septiembre 2017
A5: DENOMINACIÓN DEL PROGRAMA1/ | B5: FECHA DE PUBLICACIÓN DE REGLAS DE OPERACIÓN | C5: DELEGACIÓN | D5: COLONIA | E5: BENEFICIARIO | G5: PRESUPUESTO EJERCIDO (Pesos con dos decimales)
E6: TIPO | F6: TOTAL
A7: (3) | B7: (4) | C7: (5) | D7: (5) | E7: (6) | F7: (7) | G7: (8)
C13: NO APLICA
A30: TOTAL URG (9)
A32: 1/ Se refiere a programas que cuentan con reglas de operación publicadas en la Gaceta Oficial de la Ciudad de México.

Sheet FIC
A1: FIC FIDEICOMISOS CONSTITUIDOS
A3: UNIDAD RESPONSABLE DEL GASTO: 09PFRC FIDEICOMISO DE RECUPERACIÓN CREDITICIA DE LA CIUDAD DE MÉXICO FIDERE
A5: PERÍODO: Enero-septiembre 2017)
A7: DATOS GENERALES DEL FIDEICOMISO
A9: Denominación del Fideicomiso: (3) | B9: Fideicomiso de Recuperación Crediticia de la Ciudad de México FIDERE
A10: Fecha de su constitución: (4) | B10: 19 de octubre de 1972
A11: Fideicomitente: (5) | B11: El Gobierno de la Ciudad de México, por conducto de la Secretaria de Finanzas
A12: Fideicomisario: (6) | B12: No aplica
A13: Fiduciario: (7) | B13: Banco SCOTIA BANK-INVERLAT, S.A., Institución de BANCA MÚLTIPLE, GRUPO FINANCIERO SCOTIA BANK-INVERLAT
A14: Objeto de su constitución: (8) | B14: Se hizo constar la constitución por escritura pública No.37,872, ante el Notario No. 74 del Distrito Federal, como Fideicomiso de Administración "Programa de Remodelación Urbana de la Ciudad de México, teniendo por objeto que el Instituto Nacional para el Desarrollo de la Comunidad Rural y de la Vivienda Popular continuara con la política habitacional del gobierno federal en beneficio de sectores de bajos ingresos
A15: Modificaciones al objeto de su constitución: (9) | B15: Con fecha 25 de marzo de 1987 se modificó el "Fideicomiso Programa de Remodelación Urbana de la Ciudad de México" por "Fideicomiso de Recuperación Crediticia de la Vivienda Popular" (FIDERE), por instrumento de fecha primero de junio de 1987, se llevó a cabo el él convenio modificatorio para cambio de denominación y ampliación del objeto del mismo; con fecha 30 de junio 1994, se modificó el contrato a "Fideicomiso de Recuperación de la Vivienda Popular (FIDEREII) y se ampliaron los objetivos para la recuperación de créditos de vivienda otorgados por instituciones de crédito e instituciones no Gubernamentales en el D.F., y con fecha 14 de septiembre de 2001 cambió la denominación por "Fideicomiso de Recuperación Crediticia del Distrito Federal (FIDEREIII), se estableció con carácter de Fideicomitente al Gobierno del Distrito Federal, por conducto de la Secretaría de Finanzas. Con fecha 9 de mayo 2015, se amplió el objeto del Fideicomiso, a fin de que se recuperen créditos fiscales que le encomiende la Secretaría de Finanzas del Distrito Federal. Con fecha 11 de julio 2016 cambia a Fideicomiso de Recuperación Crediticia de la Ciudad de México (Fidere)
A16: Objeto actual: (10) | B16: "Recuperar el producto de los créditos otorgados por el Distrito Federal (ahora Ciudad de México) y sus entidades así como Instituciones públicas o privadas, conforme a las condiciones definidas en los contratos o convenios suscritos con los beneficiarios"; "Liquidar y transferir el importe de la cobranza a las entidades, Institutos u Organismos financieros que atiendan programas, de financiamiento en el Distrito federal (ahora Ciudad de México) y a la Instituciones no gubernamentales de acuerdo a los esquemas financieros de los contratos de apertura de créditos respectivos"; recuperar créditos fiscales que le encominede la Secretaria de Finanzas del Distrito Federal (ahora Ciudad de México), entre otras.
A18: DISPONIBILIDAD PRESUPUESTAL DEL FIDEICOMISO
A19: Disponibilidad de Recursos al Finalizar el Trimestre Anterior: (11) | B19: Disponibilidad de Recursos al Finalizar el Trimestre de Referencia: (12) | C19: Variación de la Disponibilidad: (13)
A20: 1.2630934e+08 | B20: 88314736 | C20: =B20-A20 -> -37994602
A22: ESTADO FINANCIERO DEL FIDEICOMISO
A23: Activo: (14) | B23: Pasivo: (15) | C23: Capital: (16)
A24: 1.2882848e+08 | B24: 87823764 | C24: =+A24-B24 -> 41004711
A26: AVANCE PRESUPUESTAL DEL FIDEICOMISO
A27: Naturaleza del Gasto: (17) | B27: Destino del Gasto: (18) | C27: Monto Ejercido (19)
A28: Corriente | B28: Para pago de sueldos y prestaciones, papelería, combustibles, envió de avisos a los acreditados, servicio telefónico, acceso a internet, comisiones bancarias, servicio de conducciones y señales analógicas, seguros de bienes muebles e inmuebles, pago de tenencias y gastos de fedatarios públicos, gastos inherentes a la recaudación, pasajes, pago de impuesto sobre nómina, etc. | C28: 49260057 | D28: =+C28-'ECG-1 (2)'!E21 -> 0
A29: La disponibilidad financiera corresponde al mes de agosto 2017.

Sheet AUR
A1: AUR ASIGNACIONES ADICIONALES AUTORIZADOS A LAS UNIDADES RESPONSABLES DEL GASTO EN EL DECRETO DE PRESUPUESTO DE EGRESOS DE LA CIUDAD DE MÉXICO PARA EL EJERCICIO FISCAL 2017
A3: UNIDAD RESPONSABLE DEL GASTO: 09PFRC FIDEICOMISO DE RECUPERACIÓN CREDITICIA DE LA CIUDAD DE MÉXICO FIDERE
A4: PERÍODO: Enero-septiembre 2017
A5: ACCIÓN O PROYECTO | B5: PRESUPUESTO (Pesos con dos decimales) | D5: DESCRIPCIÓN
B6: APROBADO* | C6: EJERCIDO
A7: (3) | B7: (4) | C7: (5) | D7: (6)
B10: NO APLICA
A23: TOTAL URG (7)
A25: * Se refiere al presupuesto autorizado en el Anexo II del Decreto de Presupuesto de Egresos para el ejercicio fiscal 2017.

Sheet LAPI
B1: EPI ESTRATEGIAS DEL PDHCDMX PRESUPUESTALMENTE IDENTIFICADAS POR LAS UNIDADES RESPONSABLES DEL GASTO
B3: UNIDAD RESPONSABLE DEL GASTO: 09PFRC FIDEICOMISO DE RECUPERACIÓN CREDITICIA DE LA CIUDAD DE MÉXICO FIDERE
B4: PERÍODO: Enero-septiembre 2017
B6: ESTRATEGIAS DEL PDHCDMX | D6: CLAVE FUNCIONAL | I6: PRESUPUESTO (Pesos con dos decimales) | L6: ACCIONES REALIZADAS
B7: No. | C7: DENOMINACIÓN | D7: FI | E7: F | F7: SF | G7: AI | H7: DENOMINACIÓN | I7: ORIGINAL | J7: PROGRAMADO | K7: EJERCIDO
D8: (4) | H8: (4)
E9: (4) | H9: (4)
F10: (4) | H10: (4)
B11: (3) | C11: (3) | G11: (4) | H11: (4) | I11: (5) | J11: (5) | K11: (5) | L11: (6)
H16: NO APLICA
C31: TOTAL URG (7)

Sheet IDH
A1: IDH INDICADORES DE DERECHOS HUMANOS
A3: UNIDAD RESPONSABLE RESPONSABLE DEL GASTO: 09PFRC FIDEICOMISO DE RECUPERACIÓN CREDITICIA DE LA CIUDAD DE MÉXICO FIDERE
A4: PERIODO: Enero-septiembre 2017
A6: Derecho o Grupo de Población del PDHCDMX: | D6: Estrategia del PDHCDMX | H6: FI/F/SF/AI | I6: Nivel del Indicador: | K6: Fin (Impacto] | L6: Propósito (Resultado) | M6: Componente | N6: Actividades
A7: (3) | D7: (4) | H7: (5) | K7: (6) | L7: (6) | M7: (6) | N7: (6)
A9: Objetivo de la Estrategia o Derecho: | D9: (7)
A10: Nombre del Indicador: | D10: (8)
A11: Método de Cálculo: | D11: (9)
A12: Sustitución de Valores: | D12: NO APLICA
A13: Frecuencia del Indicador: | D13: (11)
A14: Línea Base: | D14: (12)
A15: Meta: | D15: (13)
A16: Valor al concluir el periodo de estudio: | D16: (14)
A17: Valor en el mismo periodo del año anterior: | D17: (15)
A18: Interpretación al cambio de valores: | D18: (16)
A19: Medios de Verificación: | D19: (17)
A21: GRUPOS DE ATENCIÓN
A22: SEXO | C22: Población Objetivo | D22: Población Beneficiada
D23: Infantes 0-14años | F23: Jóvenes 15-29 años | H23: Personas Adultas 30-59 | J23: Personas Adultas Mayores > 60 | L23: TOTAL
A24: Mujeres | C24: (18) | D24: (18) | F24: (18) | H24: (18) | J24: (18) | L24: (18)
A25: Hombres
A26: TOTAL
