Workbook
Name _______EJE1: [1]INICIO!$Y$166:$Y$186
Name _______EJE2: [1]INICIO!$Y$188:$Y$229
Name _______EJE3: [1]INICIO!$Y$231:$Y$247
Name _______EJE4: [1]INICIO!$Y$249:$Y$272
Name _______EJE5: [1]INICIO!$Y$274:$Y$287
Name _______EJE6: [1]INICIO!$Y$289:$Y$314
Name _______EJE7: [1]INICIO!$Y$316:$Y$356
Name ______EJE1: [1]INICIO!$Y$166:$Y$186
Name ______EJE2: [1]INICIO!$Y$188:$Y$229
Name ______EJE3: [1]INICIO!$Y$231:$Y$247
Name ______EJE4: [1]INICIO!$Y$249:$Y$272
Name ______EJE5: [1]INICIO!$Y$274:$Y$287
Name ______EJE6: [1]INICIO!$Y$289:$Y$314
Name ______EJE7: [1]INICIO!$Y$316:$Y$356
Name _____EJE1: [1]INICIO!$Y$166:$Y$186
Name _____EJE2: [1]INICIO!$Y$188:$Y$229
Name _____EJE3: [1]INICIO!$Y$231:$Y$247
Name _____EJE4: [1]INICIO!$Y$249:$Y$272
Name _____EJE5: [1]INICIO!$Y$274:$Y$287
Name _____EJE6: [1]INICIO!$Y$289:$Y$314
Name _____EJE7: [1]INICIO!$Y$316:$Y$356
Name ____EJE1: [2]INICIO!$Y$166:$Y$186
Name ____EJE1: [2]INICIO!$Y$166:$Y$186
Name ____EJE1: [3]INICIO!$Y$166:$Y$186
Name ____EJE2: [2]INICIO!$Y$188:$Y$229
Name ____EJE2: [2]INICIO!$Y$188:$Y$229
Name ____EJE2: [3]INICIO!$Y$188:$Y$229
Name ____EJE3: [2]INICIO!$Y$231:$Y$247
Name ____EJE3: [2]INICIO!$Y$231:$Y$247
Name ____EJE3: [3]INICIO!$Y$231:$Y$247
Name ____EJE4: [2]INICIO!$Y$249:$Y$272
Name ____EJE4: [2]INICIO!$Y$249:$Y$272
Name ____EJE4: [3]INICIO!$Y$249:$Y$272
Name ____EJE5: [2]INICIO!$Y$274:$Y$287
Name ____EJE5: [2]INICIO!$Y$274:$Y$287
Name ____EJE5: [3]INICIO!$Y$274:$Y$287
Name ____EJE6: [2]INICIO!$Y$289:$Y$314
Name ____EJE6: [2]INICIO!$Y$289:$Y$314
Name ____EJE6: [3]INICIO!$Y$289:$Y$314
Name ____EJE7: [2]INICIO!$Y$316:$Y$356
Name ____EJE7: [2]INICIO!$Y$316:$Y$356
Name ____EJE7: [3]INICIO!$Y$316:$Y$356
Name ___EJE1: [1]INICIO!$Y$166:$Y$186
Name ___EJE1: [1]INICIO!$Y$166:$Y$186
Name ___EJE1: [2]INICIO!$Y$166:$Y$186
Name ___EJE1: [2]INICIO!$Y$166:$Y$186
Name ___EJE1: [3]INICIO!$Y$166:$Y$186
Name ___EJE2: [1]INICIO!$Y$188:$Y$229
Name ___EJE2: [1]INICIO!$Y$188:$Y$229
Name ___EJE2: [2]INICIO!$Y$188:$Y$229
Name ___EJE2: [2]INICIO!$Y$188:$Y$229
Name ___EJE2: [3]INICIO!$Y$188:$Y$229
Name ___EJE3: [1]INICIO!$Y$231:$Y$247
Name ___EJE3: [1]INICIO!$Y$231:$Y$247
Name ___EJE3: [2]INICIO!$Y$231:$Y$247
Name ___EJE3: [2]INICIO!$Y$231:$Y$247
Name ___EJE3: [3]INICIO!$Y$231:$Y$247
Name ___EJE4: [1]INICIO!$Y$249:$Y$272
Name ___EJE4: [1]INICIO!$Y$249:$Y$272
Name ___EJE4: [2]INICIO!$Y$249:$Y$272

Sheet Caratula
A14: 09PFRC FIDEICOMISO DE RECUPERACIÓN CREDITICIA DE LA CIUDAD DE MÉXICO FIDERE
A18: INFORME DE AVANCE TRIMESTRAL ENERO-MARZO 2017
A33: Titular: | G33: Responsable:
B34: Nombre, Cargo y Firma | I34: Nombre, Cargo y Firma
B35: LIC. MARIA YSAURA MORENO ALAMINA | H35: LIC. ELISA LUGO IPIÑA
B36: DIRECTORA GENERAL DE FIDERE | H36: GERENTE DE ADMINISTRACIÓN Y FINANZAS

Sheet ECG-1
A1: ECG-1 EVOLUCIÓN PRESUPUESTAL POR CAPÍTULO DE GASTO CON DÍGITO IDENTIFICADOR 1
A3: UNIDAD RESPONSABLE DEL GASTO: 09PFRC FIDEICOMISO DE RECUPERACIÓN CREDITICIA DE LA CIUDAD DE MÉXICO FIDERE
A4: PERÍODO: Enero - marzo 2017
A5: CAPÍTULO | B5: PRESUPUESTO (Pesos con dos decimales) | F5: VARIACIÓN | H5: A) EXPLICACIÓN A LAS VARIACIONES DEL PRESUPUESTO DEVENGADO RESPECTO DEL PROGRAMADOAL PERIODO
B6: PROGRAMADO (1) | C6: DEVENGADO (2) | D6: EJERCIDO (3) | E6: PAGADO (4) | F6: (5)=2-1 | G6: (6)=3-2 | H6: B) EXPLICACIÓN A LAS VARIACIONES DEL PRESUPUESTO EJERCIDO RESPECTO AL DEVENGADO
A8: TOTAL GASTO CORRIENTE | B8: =+B9+B11+B13+B15 -> 19648010 | C8: =+C9+C11+C13+C15 -> 14119150 | D8: =+D9+D11+D13+D15 -> 14115151 | E8: =+E9+E11+E13+E15 -> 14115151 | F8: =+F9+F11+F13+F15 -> -5528860.1 | G8: =+G9+G11+G13+G15 -> -3999
A9: 1000 | B9: 10836720 | C9: 8516383.1 | D9: 8516383.1 | E9: 8516383.1 | F9: =+C9-B9 -> -2320336.9 | G9: =+D9-C9 -> 0 | H9: A) | I9: Situación: Se ejercieron menores recursos para el pago de sueldos, sueldo personal eventual, prima de vacaciones, gratificación de fin de año, aportaciones al IMSS, INFONAVIT, al Sistema para el retiro o la administración de fondos para el retiro y ahorro solidario, prima de seguro de vida del personal civil, cuotas para el fondo de ahorro y fondo de trabajo, asignaciones para el pago de antigüedad y asignaciones para Requerimiento de servidores públicos superiores y de mandos medios, así como de los lideres coordinadores y enlace. Causas de la situación: Derivado a plazas vacantes, incapacidades medicas, faltas, por la autorización del incremento salarial al personal, teniéndolo considerado el presupuesto desde el mes de enero.
H10: B) | I10: No existe variación
A11: 2000 | B11: 605654 | C11: =209866.19+3999 -> 213865.19 | D11: 209866.19 | E11: 209866.19 | F11: =+C11-B11 -> -391788.81 | G11: =+D11-C11 -> -3999 | H11: A) | I11: Situación: Se ejercieron menores recursos en materiales, útiles y equipos menores de oficina como de tecnologías de información y comunicaciones, productos alimenticios y bebidas para personas, maderas y productos de madera, material eléctrico, otros artículos de construcción, combustibles, lubricantes y aditivos, y refacciones y accesorios menores de equipo computo y de transporte. Causas de la situación: Por los tramites de cotizaciones para la obtención de un mejor costo así como de las compras consolidadas y a que no fue necesario la utilización del total de los recursos, sin afectar las metas que se tenían contempladas.
H12: B) | I12: La variación corresponde al desfase en la entrega de la factura correspondiente a compra de refacciones para impresoras.
A13: 3000 | B13: 7114725.8 | C13: 4297991.3 | D13: 4297991.3 | E13: 4297991.3 | F13: =+C13-B13 -> -2816734.4 | G13: =+D13-C13 -> 0 | H13: A) | I13: Situación: No se utilizaron todos los recursos en servicios de energía eléctrica, servicio de agua, telefónica, servicio de acceso de internet, redes y procesamiento de información, servicios postales, servicios integrales y otros servicios, servicio de consultoría administrativa, procesos, técnica y en tecnología de la información, servicios de apoyo administrativo y fotocopiado, servicio de impresión, servicio de vigilancia, servicios financieros y bancarios, gastos inherentes a la recaudación, seguros, conservación y mantenimiento de inmuebles, de equipo de computo y transporte, gastos de difusión, pasajes terrestres al interior del Distrito Federal, impuestos y derechos, otros gastos por responsabilidades, impuesto sobre nominas. Causas de la situación: Por los procesos de licitaciones y cotizaciones para la contratación de los servicio y al uso racional de los servicios atendiendo las medidas de austeridad implementadas y a la no presentación de facturas para el pago de energía eléctrica, que el pago de comisiones son variables conforme al numero de pago de acreditados . Las economías obtenidas no afectaron en el cumplimiento de las actividades sustantantivas de la entidad
H14: B) | I14: No existe variación
A15: 4000 | B15: 1090910 | C15: 1090910 | D15: 1090910 | E15: 1090910 | F15: =+C15-B15 -> 0 | G15: =+D15-C15 -> 0 | H15: A) | I15: No existe variación
H16: B) | I16: No existe variación

Sheet ECG-1 (2)
A1: ECG-1 EVOLUCIÓN PRESUPUESTAL POR CAPÍTULO DE GASTO CON DÍGITO IDENTIFICADOR 1
A3: UNIDAD RESPONSABLE DEL GASTO: 09PFRC FIDEICOMISO DE RECUPERACIÓN CREDITICIA DE LA CIUDAD DE MÉXICO FIDERE
A4: PERÍODO: Enero - marzo 2017
A5: CAPÍTULO | B5: PRESUPUESTO (Pesos con dos decimales) | F5: VARIACIÓN | H5: A) EXPLICACIÓN A LAS VARIACIONES DEL PRESUPUESTO DEVENGADO RESPECTO DEL PROGRAMADOAL PERIODO
B6: PROGRAMADO (1) | C6: DEVENGADO (2) | D6: EJERCIDO (3) | E6: PAGADO (4) | F6: (5)=2-1 | G6: (6)=3-2 | H6: B) EXPLICACIÓN A LAS VARIACIONES DEL PRESUPUESTO EJERCIDO RESPECTO AL DEVENGADO
A7: TOTAL GASTO DE CAPITAL
A8: 1000
A10: 2000
A12: 3000
A15: 5000
A17: 6000
A19: 7000
A21: TOTAL URG (10) | B21: =B7+'ECG-1'!B8 -> 19648010 | C21: =C7+'ECG-1'!C8 -> 14119150 | D21: =D7+'ECG-1'!D8 -> 14115151 | E21: =E7+'ECG-1'!E8 -> 14115151 | F21: =F7+'ECG-1'!F8 -> -5528860.1 | G21: =G7+'ECG-1'!G8 -> -3999

Sheet APP-1
A1: APP-1 AVANCE PROGRAMÁTICO-PRESUPUESTAL DE ACTIVIDADES INSTITUCIONALES
A3: UNIDAD RESPONSABLE DEL GASTO: 09PFRC FIDEICOMISO DE RECUPERACIÓN CREDITICIA DE LA CIUDAD DE MÉXICO FIDERE
A4: PERÍODO: Enero - marzo 2017
A5: EJE | B5: FI | C5: F | D5: SF | E5: AI | F5: PP | G5: DENOMINACIÓN | H5: UNIDAD DE MEDIDA | I5: R E S U L T A D O S
I6: FÍSICO | K6: ICMPP (%) 2/1=(3) | L6: PRESUPUESTAL (Pesos con dos decimales) | P6: ICPPP (%) 5/4 (8) | Q6: IARCM (%) 3/8
I7: PROGRAMADO (1) | J7: ALCANZADO (2) | L7: PROGRAMADO (4) | M7: DEVENGADO (5) | N7: EJERCIDO (6) | O7: PAGADO (7)
A8: 1 | G8: Equidad e Inclusión social para el Desarrollo Humano | L8: =+L9 -> 0 | M8: =+M9 -> 0 | N8: =+N9 -> 0 | O8: =+O9 -> 0
B9: 1 | G9: Gobierno | L9: =+L10 -> 0 | M9: =+M10 -> 0 | N9: =+N10 -> 0 | O9: =+O10 -> 0
C10: 2 | G10: Justicia | L10: =+L11 -> 0 | M10: =+M11 -> 0 | N10: =+N11 -> 0 | O10: =+O11 -> 0
D11: 4 | G11: Derechos Humanos | L11: =+L12 -> 0 | M11: =+M12 -> 0 | N11: =+N12 -> 0 | O11: =+O12 -> 0
E12: 306 | G12: Fomento y Concertación de acciones institucionales en Pro de la igualdad (Políticas Públicas) | H12: Persona | I12: 0 | J12: 0 | K12: 0 | L12: 0 | M12: 0 | N12: 0 | O12: 0 | P12: 0 | Q12: 0
A14: 2 | G14: Gobernabilidad, Seguridad y Protección Ciudadana | L14: =+L15 -> 42000 | M14: =+M15 -> 0 | N14: =+N15 -> 0 | O14: =+O15 -> 0
B15: 1 | G15: Gobierno | L15: =+L16 -> 42000 | M15: =+M16 -> 0 | N15: =+N16 -> 0 | O15: =+O16 -> 0
C16: 7 | G16: Asuntos de Orden Público y de Seguridad Interior | L16: =+L17 -> 42000 | M16: =+M17 -> 0 | N16: =+N17 -> 0 | O16: =+O17 -> 0
D17: 2 | G17: Protección Civil | L17: =+L18 -> 42000 | M17: =+M18 -> 0 | N17: =+N18 -> 0 | O17: =+O18 -> 0
E18: 301 | G18: Gestión Integral del riesgo en Materia de Protección Civil | H18: Acción | I18: 1 | J18: 0 | K18: =+J18/I18*100 -> 0 | L18: 42000 | M18: 0 | N18: 0 | O18: 0 | P18: =M18/L18*100 -> 0 | Q18: 0
A20: 5 | G20: Efectividad, rendición de Cuentas y Combate a la Corrupción | L20: =+L21+L26 -> 19606010 | M20: =+M21+M26 -> 14119150 | N20: =+N21+N26 -> 14115151 | O20: =+O21+O26 -> 14115151
B21: 1 | G21: Gobierno | L21: =+L22 -> 5134485 | M21: =+M22 -> 3403631 | N21: =+N22 -> 3403631 | O21: =+O22 -> 3403631
C22: 8 | G22: Otros Servicios Generales | L22: =+L24 -> 5134485 | M22: =+M24 -> 3403631 | N22: =+N24 -> 3403631 | O22: =+O24 -> 3403631
D23: 5 | G23: Otros | L23: =+L24 -> 5134485 | M23: =+M24 -> 3403631 | N23: =+N24 -> 3403631 | O23: =+O24 -> 3403631
E24: 301 | G24: Administración de Recursos Institucionales | H24: Tramite | I24: 4069 | J24: 3931 | K24: =+J24/I24*100 -> 96.608503 | L24: 5134485 | M24: 3403631 | N24: 3403631 | O24: 3403631 | P24: =M24/L24*100 -> 66.289627 | Q24: =K24/P24*100 -> 145.73698
B26: 2 | G26: Desarrollo Social | L26: =+L27 -> 14471525 | M26: =+M27 -> 10715519 | N26: =+N27 -> 10711520 | O26: =+O27 -> 10711520
C27: 2 | G27: Vivienda y Servicios a la Comunidad | L27: =+L28 -> 14471525 | M27: =+M28 -> 10715519 | N27: =+N28 -> 10711520 | O27: =+O28 -> 10711520
D28: 7 | G28: Desarrollo Regional | L28: =+L29 -> 14471525 | M28: =+M29 -> 10715519 | N28: =+N29 -> 10711520 | O28: =+O29 -> 10711520
E29: 326 | G29: Recuperación Crediticia | H29: MILL/PESOS | I29: =+I30+I33+I37+I44 -> 285.3 | J29: =+J30+J33+J37+J44 -> 302.1 | K29: =+J29/I29*100 -> 105.88854 | L29: 14471525 | M29: =10711519.67+3999 -> 10715519 | N29: 10711520 | O29: 10711520 | P29: =M29/L29*100 -> 74.04554 | Q29: =K29/P29*100 -> 143.00461
G30: BANCARIA | I30: =+I31+I32 -> 4 | J30: =+J31+J32 -> 2.7
G31: Banco Nacional de México, S.A. | I31: 3.5 | J31: 2.5
G32: Banco Mercantil del Norte S.A. | I32: 0.5 | J32: 0.2
G33: GUBERNAMENTAL | I33: =SUM(I34:I36) -> 281.2 | J33: =SUM(J34:J36) -> 299.3
G34: Fideicomiso de Vivienda y Desarrollo Urbano | I34: 3.2 | J34: 3
G35: Fideicomiso Casa Propia | I35: 0.9 | J35: 0.9
G36: Instituto de Vivienda del Distrito Federal | I36: 277.1 | J36: 295.4
G37: PROPIAS | I37: =SUM(I38:I43) -> 0 | J37: =SUM(J38:J43) -> 0.1
G38: Renovación Habitación Popular (R.H.P) | I38: 0 | J38: 0
G39: Suelo-Ficapro-Fidere | I39: 0 | J39: 0
G40: Fondo de Desarrollo Económico Mypes Locales | I40: 0 | J40: 0.1
G41: Fondo de Desarrollo Económico (Mypes Federales) | I41: 0 | J41: 0
G42: Fondo para la Consolidación de la Micro Empresa ( Focomi Mypes) | I42: 0 | J42: 0
G43: Fondo de Desarrollo Económico ( Empresarial) | I43: 0 | J43: 0
G44: SOCIALES | I44: =SUM(I45:I48) -> 0.1 | J44: =SUM(J45:J48) -> 0
...

Sheet APP-2
A1: APP-2 EXPLICACIÓN A LAS VARIACIONES DEL AVANCE PROGRAMÁTICO-PRESUPUESTAL DE ACTIVIDADES INSTITUCIONALES
A3: UNIDAD RESPONSABLE DEL GASTO: 09PFRC FIDEICOMISO DE RECUPERACIÓN CREDITICIA DE LA CIUDAD DE MÉXICO FIDERE
A4: PERÍODO: Enero - marzo 2017
A5: EJE | B5: FI | C5: F | D5: SF | E5: AI | F5: DENOMINACIÓN | G5: A) Causas de las variaciones del Índice de Aplicación de Recursos para la Consecución de Metas Programadas (IARCM)
A7: 1 | F7: Equidad e Inclusión social para el Desarrollo Humano
B8: 1 | F8: Gobierno
C9: 2 | F9: Justicia
D10: 4 | F10: Derechos Humanos
E11: 306 | F11: Fomento y Concertación de acciones institucionales en Pro de la igualdad (Políticas Públicas) | G11: A)Sin variación
A13: 2 | F13: Gobernabilidad, Seguridad y Protección Ciudadana
B14: 1 | F14: Gobierno
C15: 7 | F15: Asuntos de Orden Público y de Seguridad Interior
D16: 2 | F16: Protección Civil
E17: 301 | F17: Gestión Integral del riesgo en Materia de Protección Civil | G17: A) Sin variación
A19: 5 | F19: Efectividad, rendición de Cuentas y Combate a la Corrupción
B20: 1 | F20: Gobierno
C21: 8 | F21: Otros Servicios Generales
D22: 5 | F22: Otros
E23: 301 | F23: Administración de Recursos Institucionales | G23: A) Se tiene como satisfactorio, por menores tramites realizados en la elaboración de oficios en atención a las auditorias internas y externas elaboración de nóminas del personal eventual y expedición de cheques, eficientandose la utilización de los recursos.
B25: 2 | F25: Desarrollo Social
C26: 2 | F26: Vivienda y Servicios a la Comunidad
D27: 7 | F27: Desarrollo Regional
E28: 326 | F28: Recuperación Crediticia | G28: A) Se tiene como satisfactorio, derivado a que la meta programada de recuperación de créditos fue superior en un 105.89 %, con la utilización mas eficiente de los recursos en las actividades de recuperación de llamada telefónicas, envió de recordatorios de pago, pago de comisiones y en gastos inherentes a la recuperación.

Sheet APP-3
A1: APP-3 AVANCE PROGRAMÁTICO-PRESUPUESTAL DE ACTIVIDADES INSTITUCIONALES FINANCIADAS CON RECURSOS DE ORIGEN FEDERAL
A2: FONDO, CONVENIO, SUBSIDIO O PARTICIPACIÓN: (1)
A4: UNIDAD RESPONSABLE DEL GASTO: 09PFRC FIDEICOMISO DE RECUPERACIÓN CREDITICIA DE LA CIUDAD DE MÉXICO FIDERE
A5: PERÍODO: Enero - marzo 2017
A6: EJE | B6: FI | C6: F | D6: SF | E6: AI | F6: DENOMINACIÓN | G6: UNIDAD DE MEDIDA | H6: R E S U L T A D O S
H7: FÍSICO | K7: AVANCE % | M7: PRESUPUESTAL (Pesos con dos decimales) | R7: AVANCE %
H8: ORIGINAL (1) | I8: PROGRAMADO (2) | J8: ALCANZADO (3) | K8: 3/1*100 =(4) | L8: 3/2*100 =(5) | M8: APROBADO (6) | N8: MODIFICADO (7) | O8: DEVENGADO (8) | P8: EJERCIDO (9) | Q8: PAGADO (10) | R8: 8/6*100 =(11) | S8: 8/7*100 =(12) | T8: 9/6*100 =(13) | U8: 9/7*100 =(14)
H17: NO APLICA
F39: TOTAL URG (19)

Sheet ARF
A1: ARF APLICACIÓN DE LOS RECURSOS DE ORIGEN FEDERAL
A3: UNIDAD RESPONSABLE DEL GASTO: 09PFRC FIDEICOMISO DE RECUPERACIÓN CREDITICIA DE LA CIUDAD DE MÉXICO FIDERE
A4: PERÍODO: Enero - marzo 2017
A5: FONDO, CONVENIO, SUBSIDIO O PARTICIPACIÓN: (3)
A6: ACCIONES REALIZADAS CON RECURSOS DE ORIGEN FEDERAL: (4)
A14: NO APLICA

Sheet AR
A2: AR ACCIONES REALIZADAS PARA LA CONSECUCIÓN DE METAS DE LAS ACTIVIDADES INSTITUCIONALES
A4: UNIDAD RESPONSABLE DEL GASTO: 09PFRC FIDEICOMISO DE RECUPERACIÓN CREDITICIA DE LA CIUDAD DE MÉXICO FIDERE
A5: PERÍODO: Enero - marzo 2017
A6: EJE | B6: AO | C6: FI | D6: F | E6: SF | F6: AI | G6: PP | H6: DENOMINACIÓN | I6: UNIDAD DE MEDIDA | J6: METAS | M6: PRESUPUESTO (Pesos)
J7: ORIGINAL | K7: PROGRAMADA | L7: ALCANZADA | M7: APROBADO | N7: PROGRAMADO | O7: EJERCIDO
A8: 1 | B8: 1 | C8: 1 | D8: 2 | E8: 4 | F8: 306 | H8: Fomento y Concertación de acciones institucionales en Pro de la igualdad (Políticas Públicas) | I8: Persona | J8: 160 | K8: 0 | L8: 0 | M8: 115000 | N8: 0 | O8: 0 | Q8: =+M8+M20+'AR (2)'!M8+'AR (2)'!M20 -> 88806148 | R8: =+N8+N20+'AR (2)'!N8+'AR (2)'!N20 -> 19648010 | S8: =+O8+O20+'AR (2)'!O8+'AR (2)'!O20 -> 14115151
Q9: =AR!Q8-88806148 -> 0 | R9: =+R8-'ECG-1 (2)'!B21 -> 0 | S9: =+S8-'ECG-1 (2)'!E21 -> 0
A10: Objetivo: Promover la igualdad de Género, mediante acciones dirigidas a sensibilizar al personal del fideicomiso, con la finalidad de reducir las brechas de desigualdad entre hombres y mujeres
A12: Acciones Realizadas con Gasto Corriente: Se tiene programado hasta el ultimo trimestre
A16: Acciones Realizadas con Gasto de Inversión: No aplica
A20: 2 | B20: 6 | C20: 1 | D20: 7 | E20: 2 | F20: 301 | H20: Gestión Integral del riesgo en Materia de Protección Civil | I20: Accion | J20: 2 | K20: 1 | L20: 0 | M20: 122000 | N20: 42000 | O20: 0
A22: Objetivo: Realizar acciones de prevención en materia de protección civil, adquiriendo equipo de seguridad necesario y adecuado para las instalaciones y brigadistas así como programar cursos de capacitación en la materia.
A24: Acciones Realizadas con Gasto Corriente: No se realizaron las acciones ya que estamos en el proceso de tramites de cotizaciones para la compra de material necesario para la mejor seguridad del personal y las instalaciones, con el objeto de eficientar los recursos.
A28: Acciones Realizadas con Gasto de Inversión: no aplica

Sheet AR (2)
A2: AR ACCIONES REALIZADAS PARA LA CONSECUCIÓN DE METAS DE LAS ACTIVIDADES INSTITUCIONALES
A4: UNIDAD RESPONSABLE DEL GASTO: 09PFRC FIDEICOMISO DE RECUPERACIÓN CREDITICIA DE LA CIUDAD DE MÉXICO FIDERE
A5: PERÍODO: Enero - marzo 2017
A6: EJE | B6: AO | C6: FI | D6: F | E6: SF | F6: AI | G6: PP | H6: DENOMINACIÓN | I6: UNIDAD DE MEDIDA | J6: METAS | M6: PRESUPUESTO (Pesos)
J7: ORIGINAL | K7: PROGRAMADA | L7: ALCANZADA | M7: APROBADO | N7: PROGRAMADO | O7: EJERCIDO
A8: 5 | B8: 1 | C8: 1 | D8: 8 | E8: 5 | F8: 301 | H8: Administración de Recursos Institucionales | I8: Trámite | J8: 16791 | K8: 4069 | L8: 3931 | M8: 22625558 | N8: 5134485 | O8: 3403631
A10: Objetivo: Este resultado se orienta a la optimización de los recursos financieros para apoyar las acciones encomendadas al fideicomiso. Dentro de las actividades realizadas en este programa son las siguientes: Pagos de remuneraciones al personal de acuerdo de las disposiciones y tabuladores autorizados, contratación de los servicios necesarios para la operación, adquisición de materiales de acuerdo a la normatividad vigente en la materia, controlar el correcto movimiento de los recursos de las diversas cuentas bancarias del fideicomiso por la recaudación del pago de los acreditados y presupuesto autorizado, registro de los movimientos presupuéstales y contables en forma transparente y oportuna, así como atender de manera ágil la liquidación de las adquisiciones y servicios contratados y los enteros de la recaudación a los dueños de las carteras.
A12: Acciones Realizadas con Gasto Corriente: Se realizaron tramites en la elaboración de cheques y transferencia para los enteros a los dueños de las carteras, pago a proveedores de bienes y servicios, oficios en atención a las auditorias internas y externas, elaboración de nóminas del personal eventual y pólizas contable
A16: Acciones Realizadas con Gasto de Inversión: No aplica
A20: 5 | B20: 5 | C20: 2 | D20: 2 | E20: 7 | F20: 326 | H20: Recuperación Crediticia | I20: MILL/PESOS | J20: 1152.4 | K20: 285.3 | L20: 302.1 | M20: 65943590 | N20: 14471525 | O20: 10711520
A22: Objetivo: Recuperar créditos financieros otorgados por el Gobierno del Distrito Federal y sus entidades así como instituciones públicas o privadas, abatiendo la morosidad, con el fin de canalizar estos recursos a los dueños de las carteras, para que se reciclen en la ejecución de nuevos proyectos que ayuden al abatimiento del rezago en materia habitacional.
A24: Acciones Realizadas con Gasto Corriente: El fideicomiso realizara tareas de recuperación de la cobranza, a través de la red de sucursales bancarias y las cajas ubicadas en nuestras oficinas, así como el registro y control de cobranza individualizado, emisión y distribución a domicilio de estados de cuenta, de talonarios de pago, de avisos y recordatorio de pagos, gestión a domicilio de cobranza extrajudicial a deudores morosos, cobranza judicial, operación de módulos permanentes de orientación y atención a los acreditados Realizado 203,832 acciones, las cuales consisten en 75,813 llamadas telefónicas, 12,352 visitas, entrega de 1,637 recibos de pago, 109,350 envíos de recordatorios de pago cobranza administrativa y 4,680 cobranza judicial , lo que ha permitido tener un 105.89% de avance en la meta de recuperación programada | Q24: =75813+12352+1637+109350+4680 -> 203832
A28: Acciones Realizadas con Gasto de Inversión: No aplica

Sheet IPP
B2: IAPP INDICADORES ASOCIADOS A PROGRAMAS PRESUPUESTARIOS Y RAMO GENERAL 33
B4: UNIDAD RESPONSABLE DEL GASTO: 09PFRC FIDEICOMISO DE RECUPERACIÓN CREDITICIA DE LA CIUDAD DE MÉXICO FIDERE
B5: PERIODO: Enero - marzo 2017
B7: PROGRAMA PRESUPUESTARIO O FONDO DEL RAMO GENERAL 33: (3)
B8: FUENTE DE FINANCIAMIENTO: (4)
B10: Nombre del Indicador (5) | C10: Objetivo (6) | D10: Nivel del Objetivo (7) | E10: Tipo de Indicador (8) | F10: Método de Cálculo (9) | G10: Dimensión a Medir (10) | H10: Frecuencia de Medición (11) | I10: Unidad de Medida (12) | J10: Línea Base (13) | K10: Meta Programada al Periodo (14) | L10: Meta Alcanzada al Periodo (15)
E12: NO APLICA

Sheet EAP
A1: EAP EVOLUCIÓN DE LAS ADECUACIONES PRESUPUESTALES
A3: UNIDAD RESPONSABLE DEL GASTO: 09PFRC FIDEICOMISO DE RECUPERACIÓN CREDITICIA DE LA CIUDAD DE MÉXICO FIDERE
A4: PERÍODO: Enero - marzo 2017
A5: PRESUPUESTO (Pesos con dos decimales)
A6: APROBADO | B6: MODIFICADO | D6: VARIACIÓN ABSOLUTA: (MODIFICADO-APROBADO) | F6: VARIACIÓN %: ((MODIFICADO/APROBADO)-1)*100
A7: (3) | B7: (4) | D7: (5) | F7: (6)
A9: PROYECTOS, ACCIONES, O PROGRAMAS | B9: APROBADO | C9: MODIFICADO | D9: FUENTE DE FINANCIAMIENTO | E9: GASTO CORRIENTE O DE INVERSIÓN
F10: CAUSAS DE LAS ADECUACIONES AL PRESUPUESTO
B15: NO APLICA

Sheet ADS-1
A1: ADS-1 AYUDAS, DONATIVOS Y SUBSIDIOS
A3: UNIDAD RESPONSABLE DEL GASTO: 09PFRC FIDEICOMISO DE RECUPERACIÓN CREDITICIA DE LA CIUDAD DE MÉXICO FIDERE
A4: PERÍODO: Enero - marzo 2017
A5: AYUDAS, DONATIVOS Y SUBSIDIOS OTORGADOS | B5: BENEFICIARIO | D5: PRESUPUESTO EJERCIDO (Pesos con dos decimales) | E5: CARACTERÍSTICAS
B6: TIPO | C6: TOTAL
A7: 4419 " Otras ayudas sociales a personas" | B7: Persona | C7: Variable * | D7: 1090910 | E7: Esta cantidad se encuentra en una cuenta de Inversión de fideicomiso, ya que esta aportación fue con el fin de fortalecer el fondo colateral de garantía, siendo solamente la participación de este fideicomiso como el ente encargado de dar seguimiento e instrumentar el convenio de Colaboración para Apoyar a los Acreditados Finales del Programa FOVI DDF (Banamex Banorte), firmado el día 27 de noviembre de 2006, entre la Sociedad Hipotecaria Federal, S.N.C. y el Gobierno del Distrito Federal, con el objeto reducir el riesgo de afectación de la garantía otorgada por el entonces Departamento del Distrito Federal. Es relevante aclarar que al no contar con los fondos suficientes para dar cumplimiento con lo estipulado en el Convenio de Colaboración para Apoyar a los Acreditados Finales del Programa FOVI DDF (Banamex Banorte), en donde el Gobierno del Distrito Federal es Garante, se corre el riesgo de hacerse exigible al 100% dicha garantía.
A8: Fortalecimiento del Fondo Colateral de Garantía
A15: TOTAL URG (8) | D15: =+D7 -> 1090910

Sheet ADS-2
A1: ADS-2 AYUDAS, DONATIVOS Y SUBSIDIOS A FIDEICOMISOS
A3: UNIDAD RESPONSABLE DEL GASTO: 09PFRC FIDEICOMISO DE RECUPERACIÓN CREDITICIA DE LA CIUDAD DE MÉXICO FIDERE
A4: PERÍODO: Enero - marzo 2017
A5: NOMBRE DEL FIDEICOMISO | B5: MONTO (Pesos con dos decimales) | F5: DESTINO DEL GASTO
B6: INGRESO | C6: GASTO | D6: RENDIMIENTOS FINANCIEROS | E6: SALDO
C13: NO APLICA
A25: TOTAL URG (9)

Sheet SAP
A1: SAP PROGRAMAS QUE OTORGAN SUBSIDIOS Y APOYOS A LA POBLACIÓN
A3: UNIDAD RESPONSABLE DEL GASTO :09PFRC FIDEICOMISO DE RECUPERACIÓN CREDITICIA DE LA CIUDAD DE MÉXICO FIDERE
A4: PERÍODO: Enero - marzo 2017
A5: DENOMINACIÓN DEL PROGRAMA1/ | B5: FECHA DE PUBLICACIÓN DE REGLAS DE OPERACIÓN | C5: DELEGACIÓN | D5: COLONIA | E5: BENEFICIARIO | G5: PRESUPUESTO EJERCIDO (Pesos con dos decimales)
E6: TIPO | F6: TOTAL
B11: NO APLICA
A30: TOTAL URG (9)
A32: 1/ Se refiere a programas que cuentan con reglas de operación publicadas en la Gaceta Oficial del Distrito Federal.

Sheet FIC
A1: FIC FIDEICOMISOS CONSTITUIDOS
A3: UNIDAD RESPONSABLE DEL GASTO: 09PFRC FIDEICOMISO DE RECUPERACIÓN CREDITICIA DE LA CIUDAD DE MÉXICO FIDERE
A5: PERÍODO: Enero - marzo 2017
A7: DATOS GENERALES DEL FIDEICOMISO
A9: Denominación del Fideicomiso: | B9: Fideicomiso de Recuperación Crediticia de la Ciudad de México FIDERE
A10: Fecha de su constitución: | B10: 19 de octubre de 1972
A11: Fideicomitente: | B11: El Gobierno de la Ciudad de México, por conducto de la Secretaria de Finanzas
A12: Fideicomisario: | B12: No aplica
A13: Fiduciario: | B13: Banco SCOTIA BANK-INVERLAT, S.A., Institución de BANCA MÚLTIPLE, GRUPO FINANCIERO SCOTIA BANK-INVERLAT
A14: Objeto de su constitución: | B14: Se hizo constar la constitución por escritura pública No.37,872, ante el Notario No. 74 del Distrito Federal, como Fideicomiso de Administración "Programa de Remodelación Urbana de la Ciudad de México, teniendo por objeto que el Instituto Nacional para el Desarrollo de la Comunidad Rural y de la Vivienda Popular continuara con la política habitacional del gobierno federal en beneficio de sectores de bajos ingresos
A15: Modificaciones al objeto de su constitución: | B15: Con fecha 25 de marzo de 1987 se modificó el "Fideicomiso Programa de Remodelación Urbana de la Ciudad de México" por "Fideicomiso de Recuperación Crediticia de la Vivienda Popular" (FIDERE), por instrumento de fecha primero de junio de 1987, se llevó a cabo el él convenio modificatorio para cambio de denominación y ampliación del objeto del mismo; con fecha 30 de junio 1994, se modificó el contrato a "Fideicomiso de Recuperación de la Vivienda Popular (FIDEREII) y se ampliaron los objetivos para la recuperación de créditos de vivienda otorgados por instituciones de crédito e instituciones no Gubernamentales en el D.F., y con fecha 14 de septiembre de 2001 cambió la denominación por "Fideicomiso de Recuperación Crediticia del Distrito Federal (FIDEREIII), se estableció con carácter de Fideicomitente al Gobierno del Distrito Federal, por conducto de la Secretaría de Finanzas. Con fecha 9 de mayo 2015, se amplió el objeto del Fideicomiso, a fin de que se recuperen créditos fiscales que le encomiende la Secretaría de Finanzas del Distrito Federal. Con fecha 11 de julio 2016 cambia a Fideicomiso de Recuperación Crediticia de la Ciudad de México (Fidere)
A16: Objeto actual: | B16: "Recuperar el producto de los créditos otorgados por el Distrito Federal (ahora Ciudad de México) y sus entidades así como Instituciones públicas o privadas, conforme a las condiciones definidas en los contratos o convenios suscritos con los beneficiarios"; "Liquidar y transferir el importe de la cobranza a las entidades, Institutos u Organismos financieros que atiendan programas, de financiamiento en el Distrito federal (ahora Ciudad de México) y a la Instituciones no gubernamentales de acuerdo a los esquemas financieros de los contratos de apertura de créditos respectivos"; recuperar créditos fiscales que le encominede la Secretaria de Finanzas del Distrito Federal (ahora Ciudad de México), entre otras.
A18: DISPONIBILIDAD PRESUPUESTAL DEL FIDEICOMISO
A19: Disponibilidad de Recursos al Finalizar el Trimestre Anterior: | B19: Disponibilidad de Recursos al Finalizar el Trimestre de Referencia: | C19: Variación de la Disponibilidad:
A20: 1.1922497e+08 | B20: 1.0921289e+08 | C20: =B20-A20 -> -10012077
A22: ESTADO FINANCIERO DEL FIDEICOMISO
A23: Activo: | B23: Pasivo: | C23: Capital:
A24: 1.2103891e+08 | B24: 83620606 | C24: =+A24-B24 -> 37418304
A26: AVANCE PRESUPUESTAL DEL FIDEICOMISO
A27: Naturaleza del Gasto: | B27: Destino del Gasto: | C27: Monto Ejercido
A28: Corriente | B28: Para pago de sueldos y prestaciones, papelería, combustibles, envió de avisos a los acreditados, servicio telefónico, acceso a internet, comisiones bancarias, servicio de conducciones y señales analógicas, seguros de bienes muebles e inmuebles, pago de tenencias y gastos de fedatarios públicos, gastos inherentes a la recaudación, pasajes, pago de impuesto sobre nómina, etc. | C28: 14115151
A29: La disponibilidad financiera del trimestre anterior por $109,709,673.51 correspondia al mes de noviembre 2016, por lo que se actualizó la información al mes de diciembre 2016.

Sheet AUR
A1: AUR ASIGNACIONES ADICIONALES AUTORIZADOS A LAS UNIDADES RESPONSABLES DEL GASTO EN EL DECRETO DE PRESUPUESTO DE EGRESOS DE LA CIUDAD DE MÉXICO PARA EL EJERCICIO FISCAL 2017
A3: UNIDAD RESPONSABLE DEL GASTO: 09PFRC FIDEICOMISO DE RECUPERACIÓN CREDITICIA DE LA CIUDAD DE MÉXICO FIDERE
A4: PERÍODO: Enero - marzo 2017
A5: ACCIÓN O PROYECTO | B5: PRESUPUESTO (Pesos con dos decimales) | D5: DESCRIPCIÓN
B6: APROBADO* | C6: EJERCIDO
B11: NO APLICA
A23: TOTAL URG (7)
A25: * Se refiere al presupuesto autorizado en el Anexo II del Decreto de Presupuesto de Egresos para el ejercicio fiscal 2017.

Sheet LAPI
B1: EPI ESTRATEGIAS DEL PDHCDMX PRESUPUESTALMENTE IDENTIFICADAS POR LAS UNIDADES RESPONSABLES DEL GASTO
B3: UNIDAD RESPONSABLE DEL GASTO: 09PFRC FIDEICOMISO DE RECUPERACIÓN CREDITICIA DE LA CIUDAD DE MÉXICO FIDERE
B4: PERÍODO: Enero - marzo 2017
B6: ESTRATEGIAS DEL PDHCDMX | D6: CLAVE FUNCIONAL | I6: PRESUPUESTO (Pesos con dos decimales) | L6: ACCIONES REALIZADAS
B7: No. | C7: DENOMINACIÓN | D7: FI | E7: F | F7: SF | G7: AI | H7: DENOMINACIÓN | I7: ORIGINAL | J7: PROGRAMADO | K7: EJERCIDO
I16: NO APLICA
C31: TOTAL URG (7)

Sheet IDH
A1: IDH INDICADORES DE DERECHOS HUMANOS
A3: UNIDAD RESPONSABLE RESPONSABLE DEL GASTO: 09PFRC FIDEICOMISO DE RECUPERACIÓN CREDITICIA DE LA CIUDAD DE MÉXICO FIDERE
A4: PERIODO: Enero - marzo 2017
A6: Derecho o Grupo de Población del PDHCDMX: | D6: Estrategia del PDHCDMX | H6: FI/F/SF/AI | I6: Nivel del Indicador: | K6: Fin (Impacto] | L6: Propósito (Resultado) | M6: Componente | N6: Actividades
A7: (3) | D7: (4) | H7: (5) | K7: (6) | L7: (6) | M7: (6) | N7: (6)
A9: Objetivo de la Estrategia o Derecho:
A10: Nombre del Indicador:
A11: Método de Cálculo: | D11: NO APLICA
A12: Sustitución de Valores:
A13: Frecuencia del Indicador:
A14: Línea Base:
A15: Meta:
A16: Valor al concluir el periodo de estudio:
A17: Valor en el mismo periodo del año anterior:
A18: Interpretación al cambio de valores:
A19: Medios de Verificación:
A21: GRUPOS DE ATENCIÓN
A22: SEXO | C22: Población Objetivo | D22: Población Beneficiada
D23: Infantes 0-14años | F23: Jóvenes 15-29 años | H23: Personas Adultas 30-59 | J23: Personas Adultas Mayores > 60 | L23: TOTAL
A24: Mujeres | C24: (18) | D24: (18) | F24: (18) | H24: (18) | J24: (18) | L24: (18)
A25: Hombres
A26: TOTAL
