Workbook

Sheet BANCARIA
A1: FIDEICOMISO DE RECUPERACIÓN CREDITICIA DEL DISTRITO FEDERAL FIDERE III
A2: RECUPERACIÓN DEL PERÍODO JULIO 2015 - JULIO 2016
A3: MILES DE PESOS
B5: 2015 | G5: 2 0 1 6
A6: CARTERA | Q6: SIN CONTAR DICIEMBRE 2015 | T6: 2017
B7: AGOSTO | C7: SEPTIEMBRE | D7: OCTUBRE | E7: NOVIEMBRE | F7: DICIEMBRE | G7: ENERO | H7: FEBRERO | I7: MARZO | J7: ABRIL | K7: MAYO | L7: JUNIO | M7: JULIO | N7: B C D E F G H I J K L M | O7: PROMEDIO REAL | P7: PROMEDIO GENERAL | Q7: MAXIMO | R7: MEDIA | S7: MINIMO | T7: ENERO | U7: FEBRERO | V7: MARZO | W7: ABRIL | X7: MAYO | Y7: JUNIO | Z7: JULIO | AA7: AGOSTO | AB7: SEPTIEMBRE | AC7: OCTUBRE | AD7: NOVIEMBRE | AE7: DICIEMBRE | AF7: TOTAL | AG7: VARIACION
N8: AGO SEP OCT NOV DIC ENE FEB MAR ABR MAY JUN JUL
A9: BANCARIA | B9: =SUM(B10:B11) -> 1843750.6 | C9: =SUM(C10:C11) -> 2251119.5 | D9: =SUM(D10:D11) -> 1920511.5 | E9: =SUM(E10:E11) -> 1840485.4 | F9: =SUM(F10:F11) -> 1919007.4 | G9: =SUM(G10:G11) -> 1404941.8 | H9: =SUM(H10:H11) -> 1802832.2 | I9: =SUM(I10:I11) -> 1362574 | ... M9: =SUM(M10:M11) -> 1376262.6 | O9: =+AVERAGE(G9,I9,K9,L9,M9) -> 1394356.8 | P9: =+AVERAGE(B9:M9) -> 1701656.2 | Q9: =+MAX(B9:M9) -> 2251119.5 | R9: =+MEDIAN(B9:M9) -> 1821658.8 | S9: =+MIN(B9,E9,G9:J9,L9:M9) -> 1362574 | T9: =SUM(T10:T11) -> 1273671.4 | U9: =SUM(U10:U11) -> 1396344.9 | V9: =SUM(V10:V11) -> 1201948.5 | W9: =SUM(W10:W11) -> 1141812.7 | X9: =SUM(X10:X11) -> 1231733.2 | Y9: =SUM(Y10:Y11) -> 2059666.8 | Z9: =SUM(Z10:Z11) -> 922393.56 | AA9: =SUM(AA10:AA11) -> 1223166 | ... AE9: =SUM(AE10:AE11) -> 1551843.3 | AF9: =SUM(T9:AE9) -> 16732282 | AG9: =+AF9-SUM(B9:M9) -> -3687592.9
A10: (15) BANAMEX | B10: 1692936 | C10: 2039978.7 | D10: 1671651.8 | E10: 1696622.9 | F10: 1721250.8 | G10: 1246914.1 | H10: 1627284 | I10: 1214789.8 | J10: 1731188.5 | K10: 1019895.2 | L10: 1385787.9 | M10: 1268404.7 | O10: =+AVERAGE(G10,I10,K10,L10,M10) -> 1227158.3 | P10: =+AVERAGE(B10:M10) -> 1526392 | Q10: =+MAX(B10:M10) -> 2039978.7 | R10: =+MEDIAN(B10:M10) -> 1649467.9 | S10: =+MIN(B10,E10,G10:J10,L10:M10) -> 1214789.8 | T10: =+$O10+$O10*G14 -> 1106472.9 | U10: =+$O10+$O10*H14 -> 1229146.4 | V10: =+$O10+$O10*I14 -> 1034750 | W10: =+$O10+$O10*J14 -> 974614.21 | X10: =+$O10+$O10*K14 -> 1064534.7 | Y10: =+$O10+$O10*L14 -> 1892468.3 | Z10: =+$O10+$O10*M14 -> 755195.07 | AA10: =+$O10+$O10*B14 -> 1055967.6 | AB10: =+$O10+$O10*C14 -> 1478358.1 | AC10: =+$O10+$O10*D14 -> 1742456.6 | AD10: =+$O10+$O10*E14 -> 1007291.4 | AE10: =+$O10+$O10*F14 -> 1384644.9 | AF10: =SUM(T10:AE10) -> 14725900 | AG10: =+AF10-SUM(B10:M10) -> -3590804.4
A11: (13) BANORTE (BANCRECER) | B11: 150814.53 | C11: 211140.84 | D11: 248859.71 | E11: 143862.55 | F11: 197756.61 | G11: 158027.76 | H11: 175548.14 | I11: 147784.21 | J11: 139195.55 | K11: 152038.1 | L11: 270284.55 | M11: 107857.85 | O11: =+AVERAGE(G11,I11,K11,L11,M11) -> 167198.49 | P11: =+AVERAGE(B11:M11) -> 175264.2 | Q11: =+MAX(B11:M11) -> 270284.55 | R11: =+MEDIAN(B11:M11) -> 155032.93 | S11: =+MIN(B11,E11,G11:J11,L11:M11) -> 107857.85 | T11: =+$O11+$O11*G15 -> 167198.49 | U11: =+$O11+$O11*H15 -> 167198.49 | V11: =+$O11+$O11*I15 -> 167198.49 | W11: =+$O11+$O11*J15 -> 167198.49 | X11: =+$O11+$O11*K15 -> 167198.49 | Y11: =+$O11+$O11*L15 -> 167198.49 | Z11: =+$O11+$O11*M15 -> 167198.49 | AA11: =+$O11+$O11*NA5 -> 167198.49 | AB11: =+$O11+$O11*NB5 -> 167198.49 | AC11: =+$O11+$O11*NC5 -> 167198.49 | AD11: =+$O11+$O11*ND5 -> 167198.49 | AE11: =+$O11+$O11*NE5 -> 167198.49 | AF11: =SUM(T11:AE11) -> 2006381.9 | AG11: =+AF11-SUM(B11:M11) -> -96788.472
A13: PORCENTAJE DE INCREMENTO O DECREMENTO ANTE EL PROMEDIO | B13: =+B10/$P10*1-1 -> 0.10910957 | C13: =+C10/$P10*1-1 -> 0.33647101 | D13: =+D10/$P10*1-1 -> 0.095165436 | E13: =+E10/$P10*1-1 -> 0.11152496 | F13: =+F10/$P10*1-1 -> 0.12765973 | G13: =+G10/$P10*1-1 -> -0.1830971 | H13: =+H10/$P10*1-1 -> 0.066098342 | I13: =+I10/$P10*1-1 -> -0.20414297 | ... M13: =+M10/$P10*1-1 -> -0.16901774
B14: =+B11/$P11*1-1 -> -0.13950179 | C14: =+C11/$P11*1-1 -> 0.20470033 | D14: =+D11/$P11*1-1 -> 0.41991182 | E14: =+E11/$P11*1-1 -> -0.17916751 | F14: =+F11/$P11*1-1 -> 0.12833431 | G14: =+G11/$P11*1-1 -> -0.098345469 | H14: =+H11/$P11*1-1 -> 0.0016200684 | I14: =+I11/$P11*1-1 -> -0.1567918 | ... M14: =+M11/$P11*1-1 -> -0.38459851
A18: * SE TOMÓ EN CUENTA LA RECUPERACION DE UN AÑO, DE AGOSTO 2015 A JULIO 2016

Sheet GUBERNAMENTAL
A1: FIDEICOMISO DE RECUPERACIÓN CREDITICIA DEL DISTRITO FEDERAL FIDERE III
A2: RECUPERACIÓN DEL PERÍODO JULIO 2015 - JULIO 2016
A3: MILES DE PESOS
B5: 2015 | G5: 2 0 1 6
A6: CARTERA | Q6: SIN CONTAR DICIEMBRE 2015 | T6: 2017
B7: AGOSTO | C7: SEPTIEMBRE | D7: OCTUBRE | E7: NOVIEMBRE | F7: DICIEMBRE | G7: ENERO | H7: FEBRERO | I7: MARZO | J7: ABRIL | K7: MAYO | L7: JUNIO | M7: JULIO | N7: B C D E F G H I J K L M | O7: PROMEDIO REAL | P7: PROMEDIO GENERAL | Q7: MAXIMO | R7: MEDIA | S7: MINIMO | T7: ENERO | U7: FEBRERO | V7: MARZO | W7: ABRIL | X7: MAYO | Y7: JUNIO | Z7: JULIO | AA7: AGOSTO | AB7: SEPTIEMBRE | AC7: OCTUBRE | AD7: NOVIEMBRE | AE7: DICIEMBRE | AF7: TOTAL | AG7: VARIACION
N8: AGO SEP OCT NOV DIC ENE FEB MAR ABR MAY JUN JUL
A9: GUBERNAMENTAL | B9: =SUM(B10+B18+B33) -> 84389184 | C9: =SUM(C10+C18+C33) -> 83836384 | D9: =SUM(D10+D18+D33) -> 80230781 | E9: =SUM(E10+E18+E33) -> 82099266 | F9: 1.0993904e+08 | G9: =SUM(G10+G18+G33) -> 90218854 | H9: =SUM(H10+H18+H33) -> 95306921 | I9: =SUM(I10+I18+I33) -> 93231354 | J9: =SUM(J10+J18+J33) -> 89121722 | K9: =SUM(K10+K18+K33) -> 91605468 | L9: =SUM(L10+L18+L33) -> 91488218 | M9: =SUM(M10+M18+M33) -> 88079380 | O9: =+O10+O18+O33 -> 89033195 | P9: =+P10+P18+P33 -> 88146139 | Q9: =+Q10+Q18+Q33 -> 96064431 | R9: =+R10+R18+R33 -> 89205049 | S9: =+S10+S18+S33 -> 79944396 | T9: =SUM(T10+T18+T33) -> 91121504 | U9: =SUM(U10+U18+U33) -> 96250777 | V9: =SUM(V10+V18+V33) -> 94140062 | W9: =SUM(W10+W18+W33) -> 90004188 | X9: =SUM(X10+X18+X33) -> 92495718 | Y9: =SUM(Y10+Y18+Y33) -> 92428985 | Z9: =SUM(Z10+Z18+Z33) -> 88988116 | AA9: =SUM(AA10+AA18+AA33) -> 85262693 | ... AD9: =SUM(AD10+AD18+AD33) -> 82946825 | AE9: 1.0993904e+08 | AF9: =SUM(T9:AE9) -> 1.0893042e+09 | AG9: =+AF9-SUM(B9:M9) -> 9757614.1
A10: FIVIDESU | B10: =SUM(B11:B16) -> 1270655.8 | C10: =SUM(C11:C16) -> 1293315.3 | D10: =SUM(D11:D16) -> 807857.54 | E10: =SUM(E11:E16) -> 1244553.3 | F10: 2200352.1 | G10: =SUM(G11:G16) -> 1036161.8 | H10: =SUM(H11:H16) -> 1032666.2 | I10: =SUM(I11:I16) -> 843991.7 | J10: =SUM(J11:J16) -> 920419.23 | K10: =SUM(K11:K16) -> 761407.55 | L10: =SUM(L11:L16) -> 1364212.5 | M10: =SUM(M11:M16) -> 1332594.3 | O10: =+AVERAGE(B10:C10,E10,G10:H10,J10,L10:M10) -> 1186822.3 | P10: =+AVERAGE(B10:E10,G10:M10) -> 1082530.5 | Q10: =+MAX(B10:E10,G10:M10) -> 1364212.5 | R10: =+MEDIAN(B10:E10,G10:M10) -> 1036161.8 | S10: =+MIN(B10:E10,G10:J10,L10:M10) -> 807857.54 | T10: =+$O10+$O10*G84 -> 1135986.5 | U10: =+$O10+$O10*H84 -> 1132154.1 | V10: =+$O10+$O10*I84 -> 925302.52 | W10: =+$O10+$O10*J84 -> 1009093.1 | X10: =+$O10+$O10*K84 -> 834762.15 | Y10: =+$O10+$O10*L84 -> 1495641.8 | Z10: =+$O10+$O10*M84 -> 1460977.5 | AA10: =+$O10+$O10*B84 -> 1393071.8 | AB10: =+$O10+$O10*C84 -> 1417914.3 | AC10: =+$O10+$O10*D84 -> 885687.17 | AD10: =+$O10+$O10*E84 -> 1364454.5 | AE10: =+$O10+$O10*F84 -> 2412335.7 | AF10: =SUM(T10:AE10) -> 15467381 | AG10: =+AF10-SUM(B10:M10) -> 1359193.8
A11: (34) ORDINARIO CONDICIONES 02, 03, 04, 05, y 07 | B11: 1060569.9 | C11: 1243934.9 | D11: 691050.39 | E11: 1019204.5 | F11: 2055118.5 | G11: 970769.8 | H11: 959588.99 | I11: 748636.02 | J11: 842130.82 | K11: 701857.72 | L11: 982864.07 | M11: 1027852.6 | O11: =+AVERAGE(B11:C11,E11,G11:H11,J11,L11:M11) -> 1013364.5 | P11: =+AVERAGE(B11:E11,G11:M11) -> 931678.16 | Q11: =+MAX(B11:E11,G11:M11) -> 1243934.9 | R11: =+MEDIAN(B11:E11,G11:M11) -> 970769.8 | S11: =+MIN(B11:E11,G11:J11,L11:M11) -> 691050.39 | T11: =+$O11+$O11*G85 -> 1055883.5 | U11: =+$O11+$O11*H85 -> 1043722.4 | V11: =+$O11+$O11*I85 -> 814273.82 | W11: =+$O11+$O11*J85 -> 915965.91 | X11: =+$O11+$O11*K85 -> 763394.16 | Y11: =+$O11+$O11*L85 -> 1069038.2 | Z11: =+$O11+$O11*M85 -> 1117971.1 | AA11: =+$O11+$O11*B85 -> 1153557 | AB11: =+$O11+$O11*C85 -> 1352998.8 | AC11: =+$O11+$O11*D85 -> 751639.28 | AD11: =+$O11+$O11*E85 -> 1108564.8 | AE11: =+$O11+$O11*F85 -> 2235304.2 | AF11: =SUM(T11:AE11) -> 13382313 | AG11: =+AF11-SUM(B11:M11) -> 1078734.8
A12: (54) FOVI - 7 DE JULIO | B12: 0 | C12: 0 | D12: 0 | E12: 0 | F12: 0 | G12: 0 | H12: 0 | I12: 0 | J12: 0 | K12: 0 | L12: 0 | M12: 0 | O12: =+AVERAGE(B12:C12,E12,G12:H12,J12,L12:M12) -> 0 | P12: =+AVERAGE(B12:E12,G12:M12) -> 0 | Q12: =+MAX(B12:E12,G12:M12) -> 0 | R12: =+MEDIAN(B12:E12,G12:M12) -> 0 | S12: =+MIN(B12:E12,G12:J12,L12:M12) -> 0 | T12: =+$O12+$O12*G86 -> #DIV/0! | U12: =+$O12+$O12*H86 -> #DIV/0! | V12: =+$O12+$O12*I86 -> #DIV/0! | W12: =+$O12+$O12*J86 -> #DIV/0! | X12: =+$O12+$O12*K86 -> #DIV/0! | Y12: =+$O12+$O12*L86 -> #DIV/0! | Z12: =+$O12+$O12*M86 -> #DIV/0! | AA12: =+$O12+$O12*B86 -> #DIV/0! | AB12: =+$O12+$O12*C86 -> #DIV/0! | AC12: =+$O12+$O12*D86 -> #DIV/0! | AD12: =+$O12+$O12*E86 -> #DIV/0! | AE12: =+$O12+$O12*F86 -> #DIV/0! | AF12: =SUM(T12:AE12) -> #DIV/0! | AG12: =+AF12-SUM(B12:M12) -> #DIV/0!
A13: (55) FOVI - PLUTARCO ELÍAS CALLES | B13: 15759.01 | C13: 7930.49 | D13: 19682.64 | E13: 7924.77 | F13: 19519.13 | G13: 10827.92 | H13: 10035.06 | I13: 20176.91 | J13: 13572.72 | K13: 11025.38 | L13: 19941.86 | M13: 14069.27 | O13: =+AVERAGE(B13:C13,E13,G13:H13,J13,L13:M13) -> 12507.638 | P13: =+AVERAGE(B13:E13,G13:M13) -> 13722.366 | Q13: =+MAX(B13:E13,G13:M13) -> 20176.91 | R13: =+MEDIAN(B13:E13,G13:M13) -> 13572.72 | S13: =+MIN(B13:E13,G13:J13,L13:M13) -> 7924.77 | T13: =+$O13+$O13*G87 -> 9869.4128 | U13: =+$O13+$O13*H87 -> 9146.7382 | V13: =+$O13+$O13*I87 -> 18390.813 | W13: =+$O13+$O13*J87 -> 12371.238 | X13: =+$O13+$O13*K87 -> 10049.393 | Y13: =+$O13+$O13*L87 -> 18176.57 | Z13: =+$O13+$O13*M87 -> 12823.833 | AA13: =+$O13+$O13*B87 -> 14363.994 | AB13: =+$O13+$O13*C87 -> 7228.4686 | AC13: =+$O13+$O13*D87 -> 17940.297 | AD13: =+$O13+$O13*E87 -> 7223.2549 | AE13: =+$O13+$O13*F87 -> 17791.261 | AF13: =SUM(T13:AE13) -> 155375.27 | AG13: =+AF13-SUM(B13:M13) -> -15089.886
A14: (56) RESCATE FINANCIERO | B14: 37503.72 | C14: 28641.94 | D14: 43646.47 | E14: 25257.76 | F14: 49854.89 | G14: 33972.22 | H14: 44922.04 | I14: 53651.48 | J14: 49182.91 | K14: 32182.51 | L14: 164124.79 | M14: 38370.15 | O14: =+AVERAGE(B14:C14,E14,G14:H14,J14,L14:M14) -> 52746.941 | P14: =+AVERAGE(B14:E14,G14:M14) -> 50132.363 | Q14: =+MAX(B14:E14,G14:M14) -> 164124.79 | R14: =+MEDIAN(B14:E14,G14:M14) -> 38370.15 | S14: =+MIN(B14:E14,G14:J14,L14:M14) -> 25257.76 | T14: =+$O14+$O14*G88 -> 35743.99 | U14: =+$O14+$O14*H88 -> 47264.882 | V14: =+$O14+$O14*I88 -> 56449.593 | W14: =+$O14+$O14*J88 -> 51747.971 | X14: =+$O14+$O14*K88 -> 33860.941 | Y14: =+$O14+$O14*L88 -> 172684.47 | Z14: =+$O14+$O14*M88 -> 40371.288 | AA14: =+$O14+$O14*B88 -> 39459.671 | AB14: =+$O14+$O14*C88 -> 30135.718 | AC14: =+$O14+$O14*D88 -> 45922.786 | AD14: =+$O14+$O14*E88 -> 26575.041 | AE14: =+$O14+$O14*F88 -> 52454.997 | AF14: =SUM(T14:AE14) -> 632671.35 | AG14: =+AF14-SUM(B14:M14) -> 31360.471
A15: (66) MEJORAMIENTO DE VIVIENDA | B15: 0 | C15: 0 | D15: 0 | E15: 0 | F15: 0 | G15: 0 | H15: 0 | I15: 0 | J15: 0 | K15: 0 | L15: 0 | M15: 0 | O15: =+AVERAGE(B15:C15,E15,G15:H15,J15,L15:M15) -> 0 | P15: =+AVERAGE(B15:E15,G15:M15) -> 0 | Q15: =+MAX(B15:E15,G15:M15) -> 0 | R15: =+MEDIAN(B15:E15,G15:M15) -> 0 | S15: =+MIN(B15:E15,G15:J15,L15:M15) -> 0 | T15: =+$O15+$O15*G89 -> #DIV/0! | U15: =+$O15+$O15*H89 -> #DIV/0! | V15: =+$O15+$O15*I89 -> #DIV/0! | W15: =+$O15+$O15*J89 -> #DIV/0! | X15: =+$O15+$O15*K89 -> #DIV/0! | Y15: =+$O15+$O15*L89 -> #DIV/0! | Z15: =+$O15+$O15*M89 -> #DIV/0! | AA15: =+$O15+$O15*B89 -> #DIV/0! | AB15: =+$O15+$O15*C89 -> #DIV/0! | AC15: =+$O15+$O15*D89 -> #DIV/0! | AD15: =+$O15+$O15*E89 -> #DIV/0! | AE15: =+$O15+$O15*F89 -> #DIV/0! | AF15: =SUM(T15:AE15) -> #DIV/0! | AG15: =+AF15-SUM(B15:M15) -> #DIV/0!
A16: (AN) ADQUISICIÓN DE VIVIENDA INVI - FIVIDESU | B16: 156823.16 | C16: 12807.96 | D16: 53478.04 | E16: 192166.29 | F16: 75859.52 | G16: 20591.88 | H16: 18120.12 | I16: 21527.29 | J16: 15532.78 | K16: 16341.94 | L16: 197281.76 | M16: 252302.27 | O16: =+AVERAGE(B16:C16,E16,G16:H16,J16,L16:M16) -> 108203.28 | P16: =+AVERAGE(B16:E16,G16:M16) -> 86997.59 | Q16: =+MAX(B16:E16,G16:M16) -> 252302.27 | R16: =+MEDIAN(B16:E16,G16:M16) -> 21527.29 | S16: =+MIN(B16:E16,G16:J16,L16:M16) -> 12807.96 | T16: =+$O16+$O16*G90 -> 25611.157 | U16: =+$O16+$O16*H90 -> 22536.904 | V16: =+$O16+$O16*I90 -> 26774.573 | W16: =+$O16+$O16*J90 -> 19318.9 | X16: =+$O16+$O16*K90 -> 20325.293 | Y16: =+$O16+$O16*L90 -> 245369.25 | Z16: =+$O16+$O16*M90 -> 313801.02 | AA16: =+$O16+$O16*B90 -> 195048.85 | AB16: =+$O16+$O16*C90 -> 15929.904 | AC16: =+$O16+$O16*D90 -> 66513.328 | AD16: =+$O16+$O16*E90 -> 239006.88 | AE16: =+$O16+$O16*F90 -> 94350.3 | AF16: =SUM(T16:AE16) -> 1284586.4 | AG16: =+AF16-SUM(B16:M16) -> 251753.34
A18: FICAPRO | B18: =SUM(B19:B31) -> 645050.72 | C18: =SUM(C19:C31) -> 290852.96 | D18: =SUM(D19:D31) -> 496259.74 | E18: =SUM(E19:E31) -> 424796.71 | F18: 323349.11 | G18: =SUM(G19:G31) -> 483433.01 | H18: =SUM(H19:H31) -> 219086.6 | I18: =SUM(I19:I31) -> 209874.58 | J18: =SUM(J19:J31) -> 464625.59 | K18: =SUM(K19:K31) -> 432209.29 | L18: =SUM(L19:L31) -> 355121.15 | M18: =SUM(M19:M31) -> 433188.49 | O18: =+AVERAGE(B18:C18,E18,G18:H18,J18,L18:M18) -> 414519.4 | P18: =+AVERAGE(B18:E18,G18:M18) -> 404954.44 | Q18: =+MAX(B18:E18,G18:M18) -> 645050.72 | R18: =+MEDIAN(B18:E18,G18:M18) -> 432209.29 | S18: =+MIN(B18:E18,G18:J18,L18:M18) -> 209874.58 | T18: =+$O18+$O18*G92 -> 494851.63 | U18: =+$O18+$O18*H92 -> 224261.39 | V18: =+$O18+$O18*I92 -> 214831.79 | W18: =+$O18+$O18*J92 -> 475599.98 | X18: =+$O18+$O18*K92 -> 442418.01 | Y18: =+$O18+$O18*L92 -> 363509.06 | Z18: =+$O18+$O18*M92 -> 443420.34 | AA18: =+$O18+$O18*B92 -> 660286.72 | AB18: =+$O18+$O18*C92 -> 297722.86 | AC18: =+$O18+$O18*D92 -> 507981.32 | AD18: =+$O18+$O18*E92 -> 434830.35 | AE18: =+$O18+$O18*F92 -> 330986.57 | AF18: =SUM(T18:AE18) -> 4890700 | AG18: =+AF18-SUM(B18:M18) -> 112852.06
A19: (10) BANOBRAS | B19: 0 | C19: 0 | D19: 0 | E19: 0 | F19: 0 | G19: 0 | H19: 0 | I19: 0 | J19: 0 | K19: 0 | L19: 0 | M19: 0 | O19: =+AVERAGE(B19:C19,E19,G19:H19,J19,L19:M19) -> 0 | P19: =+AVERAGE(B19:E19,G19:M19) -> 0 | Q19: =+MAX(B19:E19,G19:M19) -> 0 | R19: =+MEDIAN(B19:E19,G19:M19) -> 0 | S19: =+MIN(B19:E19,G19:J19,L19:M19) -> 0 | T19: =+$O19+$O19*G93 -> #DIV/0! | U19: =+$O19+$O19*H93 -> #DIV/0! | V19: =+$O19+$O19*I93 -> #DIV/0! | W19: =+$O19+$O19*J93 -> #DIV/0! | X19: =+$O19+$O19*K93 -> #DIV/0! | Y19: =+$O19+$O19*L93 -> #DIV/0! | Z19: =+$O19+$O19*M93 -> #DIV/0! | AA19: =+$O19+$O19*B93 -> #DIV/0! | AB19: =+$O19+$O19*C93 -> #DIV/0! | AC19: =+$O19+$O19*D93 -> #DIV/0! | AD19: =+$O19+$O19*E93 -> #DIV/0! | AE19: =+$O19+$O19*F93 -> #DIV/0! | AF19: =SUM(T19:AE19) -> #DIV/0! | AG19: =+AF19-SUM(B19:M19) -> #DIV/0!
A20: (08/43) SUELO | B20: 0 | C20: 0 | D20: 0 | E20: 0 | F20: 0 | G20: 0 | H20: 0 | I20: 0 | J20: 0 | K20: 0 | L20: 0 | M20: 0 | O20: =+AVERAGE(B20:C20,E20,G20:H20,J20,L20:M20) -> 0 | P20: =+AVERAGE(B20:E20,G20:M20) -> 0 | Q20: =+MAX(B20:E20,G20:M20) -> 0 | R20: =+MEDIAN(B20:E20,G20:M20) -> 0 | S20: =+MIN(B20:E20,G20:J20,L20:M20) -> 0 | T20: =+$O20+$O20*G94 -> #DIV/0! | U20: =+$O20+$O20*H94 -> #DIV/0! | V20: =+$O20+$O20*I94 -> #DIV/0! | W20: =+$O20+$O20*J94 -> #DIV/0! | X20: =+$O20+$O20*K94 -> #DIV/0! | Y20: =+$O20+$O20*L94 -> #DIV/0! | Z20: =+$O20+$O20*M94 -> #DIV/0! | AA20: =+$O20+$O20*B94 -> #DIV/0! | AB20: =+$O20+$O20*C94 -> #DIV/0! | AC20: =+$O20+$O20*D94 -> #DIV/0! | AD20: =+$O20+$O20*E94 -> #DIV/0! | AE20: =+$O20+$O20*F94 -> #DIV/0! | AF20: =SUM(T20:AE20) -> #DIV/0! | AG20: =+AF20-SUM(B20:M20) -> #DIV/0!
A21: (27) HIPOTECA | B21: 15487.11 | C21: 11212.55 | D21: 11589.49 | E21: 12279.09 | F21: 11899.68 | G21: 9014.27 | H21: 3095.63 | I21: 5892.94 | J21: 3556.55 | K21: 5057 | L21: 3241.54 | M21: 2527.34 | O21: =+AVERAGE(B21:C21,E21,G21:H21,J21,L21:M21) -> 7551.76 | P21: =+AVERAGE(B21:E21,G21:M21) -> 7541.2282 | Q21: =+MAX(B21:E21,G21:M21) -> 15487.11 | R21: =+MEDIAN(B21:E21,G21:M21) -> 5892.94 | S21: =+MIN(B21:E21,G21:J21,L21:M21) -> 2527.34 | T21: =+$O21+$O21*G95 -> 9026.859 | U21: =+$O21+$O21*H95 -> 3099.9532 | V21: =+$O21+$O21*I95 -> 5901.1699 | W21: =+$O21+$O21*J95 -> 3561.517 | X21: =+$O21+$O21*K95 -> 5064.0624 | Y21: =+$O21+$O21*L95 -> 3246.067 | Z21: =+$O21+$O21*M95 -> 2530.8696 | AA21: =+$O21+$O21*B95 -> 15508.739 | AB21: =+$O21+$O21*C95 -> 11228.209 | AC21: =+$O21+$O21*D95 -> 11605.675 | AD21: =+$O21+$O21*E95 -> 12296.239 | AE21: =+$O21+$O21*F95 -> 11916.299 | AF21: =SUM(T21:AE21) -> 94985.659 | AG21: =+AF21-SUM(B21:M21) -> 132.46868
A22: (29/45) SUELO VIVIENDA | B22: 0 | C22: 0 | D22: 0 | E22: 0 | F22: 0 | G22: 0 | H22: 0 | I22: 0 | J22: 0 | K22: 0 | L22: 0 | M22: 0 | O22: =+AVERAGE(B22:C22,E22,G22:H22,J22,L22:M22) -> 0 | P22: =+AVERAGE(B22:E22,G22:M22) -> 0 | Q22: =+MAX(B22:E22,G22:M22) -> 0 | R22: =+MEDIAN(B22:E22,G22:M22) -> 0 | S22: =+MIN(B22:E22,G22:J22,L22:M22) -> 0 | T22: =+$O22+$O22*G96 -> #DIV/0! | U22: =+$O22+$O22*H96 -> #DIV/0! | V22: =+$O22+$O22*I96 -> #DIV/0! | W22: =+$O22+$O22*J96 -> #DIV/0! | X22: =+$O22+$O22*K96 -> #DIV/0! | Y22: =+$O22+$O22*L96 -> #DIV/0! | Z22: =+$O22+$O22*M96 -> #DIV/0! | AA22: =+$O22+$O22*B96 -> #DIV/0! | AB22: =+$O22+$O22*C96 -> #DIV/0! | AC22: =+$O22+$O22*D96 -> #DIV/0! | AD22: =+$O22+$O22*E96 -> #DIV/0! | AE22: =+$O22+$O22*F96 -> #DIV/0! | AF22: =SUM(T22:AE22) -> #DIV/0! | AG22: =+AF22-SUM(B22:M22) -> #DIV/0!
A23: (30/46) HIPOTECA ESPECIAL | B23: 0 | C23: 0 | D23: 0 | E23: 0 | F23: 0 | G23: 0 | H23: 0 | I23: 0 | J23: 0 | K23: 95371.48 | L23: 0 | M23: 0 | O23: =+AVERAGE(B23:C23,E23,G23:H23,J23,L23:M23) -> 0 | P23: =+AVERAGE(B23:E23,G23:M23) -> 8670.1345 | Q23: =+MAX(B23:E23,G23:M23) -> 95371.48 | R23: =+MEDIAN(B23:E23,G23:M23) -> 0 | S23: =+MIN(B23:E23,G23:J23,L23:M23) -> 0 | T23: =+$O23+$O23*G97 -> 0 | U23: =+$O23+$O23*H97 -> 0 | V23: =+$O23+$O23*I97 -> 0 | W23: =+$O23+$O23*J97 -> 0 | X23: =+$O23+$O23*K97 -> 0 | Y23: =+$O23+$O23*L97 -> 0 | Z23: =+$O23+$O23*M97 -> 0 | AA23: =+$O23+$O23*B97 -> 0 | AB23: =+$O23+$O23*C97 -> 0 | AC23: =+$O23+$O23*D97 -> 0 | AD23: =+$O23+$O23*E97 -> 0 | AE23: =+$O23+$O23*F97 -> 0 | AF23: =SUM(T23:AE23) -> 0 | AG23: =+AF23-SUM(B23:M23) -> -95371.48
A24: (32) ALAMEDA | B24: 10835.29 | C24: 9192.32 | D24: 9200.57 | E24: 9736.26 | F24: 58614.7 | G24: 4969.94 | H24: 10355.81 | I24: 10218.62 | J24: 0 | K24: 6743.75 | L24: 0 | M24: 3378.23 | O24: =+AVERAGE(B24:C24,E24,G24:H24,J24,L24:M24) -> 6058.4813 | P24: =+AVERAGE(B24:E24,G24:M24) -> 6784.6173 | Q24: =+MAX(B24:E24,G24:M24) -> 10835.29 | R24: =+MEDIAN(B24:E24,G24:M24) -> 9192.32 | S24: =+MIN(B24:E24,G24:J24,L24:M24) -> 0 | T24: =+$O24+$O24*G98 -> 4438.0231 | U24: =+$O24+$O24*H98 -> 9247.4606 | V24: =+$O24+$O24*I98 -> 9124.9536 | W24: =+$O24+$O24*J98 -> 0 | X24: =+$O24+$O24*K98 -> 6021.9879 | Y24: =+$O24+$O24*L98 -> 0 | Z24: =+$O24+$O24*M98 -> 3016.6688 | AA24: =+$O24+$O24*B98 -> 9675.6233 | AB24: =+$O24+$O24*C98 -> 8208.4952 | AC24: =+$O24+$O24*D98 -> 8215.8622 | AD24: =+$O24+$O24*E98 -> 8694.219 | AE24: =+$O24+$O24*F98 -> 52341.355 | AF24: =SUM(T24:AE24) -> 118984.65 | AG24: =+AF24-SUM(B24:M24) -> -14260.841
A25: (41) CASA PROPIA '98 | B25: 1068.74 | C25: 1067.18 | D25: 0 | E25: 1072 | F25: 1071.21 | G25: 1044.01 | H25: 0 | I25: 0 | J25: 0 | K25: 0 | L25: 0 | M25: 0 | O25: =+AVERAGE(B25:C25,E25,G25:H25,J25,L25:M25) -> 531.49125 | P25: =+AVERAGE(B25:E25,G25:M25) -> 386.53909 | Q25: =+MAX(B25:E25,G25:M25) -> 1072 | R25: =+MEDIAN(B25:E25,G25:M25) -> 0 | S25: =+MIN(B25:E25,G25:J25,L25:M25) -> 0 | T25: =+$O25+$O25*G99 -> 1435.5138 | U25: =+$O25+$O25*H99 -> 0 | V25: =+$O25+$O25*I99 -> 0 | W25: =+$O25+$O25*J99 -> 0 | X25: =+$O25+$O25*K99 -> 0 | Y25: =+$O25+$O25*L99 -> 0 | Z25: =+$O25+$O25*M99 -> 0 | AA25: =+$O25+$O25*B99 -> 1469.5175 | AB25: =+$O25+$O25*C99 -> 1467.3725 | AC25: =+$O25+$O25*D99 -> 0 | AD25: =+$O25+$O25*E99 -> 1474 | AE25: =+$O25+$O25*F99 -> 1472.9137 | AF25: =SUM(T25:AE25) -> 7319.3175 | AG25: =+AF25-SUM(B25:M25) -> 1996.1775
A26: (48) SUELO '98 | B26: 0 | C26: 0 | D26: 0 | E26: 0 | F26: 0 | G26: 0 | H26: 0 | I26: 0 | J26: 0 | K26: 0 | L26: 0 | M26: 0 | O26: =+AVERAGE(B26:C26,E26,G26:H26,J26,L26:M26) -> 0 | P26: =+AVERAGE(B26:E26,G26:M26) -> 0 | Q26: =+MAX(B26:E26,G26:M26) -> 0 | R26: =+MEDIAN(B26:E26,G26:M26) -> 0 | S26: =+MIN(B26:E26,G26:J26,L26:M26) -> 0 | T26: =+$O26+$O26*G100 -> #DIV/0! | U26: =+$O26+$O26*H100 -> #DIV/0! | V26: =+$O26+$O26*I100 -> #DIV/0! | W26: =+$O26+$O26*J100 -> #DIV/0! | X26: =+$O26+$O26*K100 -> #DIV/0! | Y26: =+$O26+$O26*L100 -> #DIV/0! | Z26: =+$O26+$O26*M100 -> #DIV/0! | AA26: =+$O26+$O26*B100 -> #DIV/0! | AB26: =+$O26+$O26*C100 -> #DIV/0! | AC26: =+$O26+$O26*D100 -> #DIV/0! | AD26: =+$O26+$O26*E100 -> #DIV/0! | AE26: =+$O26+$O26*F100 -> #DIV/0! | AF26: =SUM(T26:AE26) -> #DIV/0! | AG26: =+AF26-SUM(B26:M26) -> #DIV/0!
A27: (52) CAMPAMENTOS | B27: 0 | C27: 0 | D27: 0 | E27: 0 | F27: 0 | G27: 0 | H27: 0 | I27: 0 | J27: 0 | K27: 0 | L27: 0 | M27: 0 | O27: =+AVERAGE(B27:C27,E27,G27:H27,J27,L27:M27) -> 0 | P27: =+AVERAGE(B27:E27,G27:M27) -> 0 | Q27: =+MAX(B27:E27,G27:M27) -> 0 | R27: =+MEDIAN(B27:E27,G27:M27) -> 0 | S27: =+MIN(B27:E27,G27:J27,L27:M27) -> 0 | T27: =+$O27+$O27*G101 -> #DIV/0! | U27: =+$O27+$O27*H101 -> #DIV/0! | V27: =+$O27+$O27*I101 -> #DIV/0! | W27: =+$O27+$O27*J101 -> #DIV/0! | X27: =+$O27+$O27*K101 -> #DIV/0! | Y27: =+$O27+$O27*L101 -> #DIV/0! | Z27: =+$O27+$O27*M101 -> #DIV/0! | AA27: =+$O27+$O27*B101 -> #DIV/0! | AB27: =+$O27+$O27*C101 -> #DIV/0! | AC27: =+$O27+$O27*D101 -> #DIV/0! | AD27: =+$O27+$O27*E101 -> #DIV/0! | AE27: =+$O27+$O27*F101 -> #DIV/0! | AF27: =SUM(T27:AE27) -> #DIV/0! | AG27: =+AF27-SUM(B27:M27) -> #DIV/0!
A28: (58) SUSTITUCIÓN DE VIVIENDA 98 Y CARTERA II | B28: 293110.56 | C28: 107235.19 | D28: 378174.54 | E28: 292749.11 | F28: 102428.3 | G28: 377163.63 | H28: 85971.33 | I28: 96178.96 | J28: 211912.17 | K28: 248473.56 | L28: 253086.26 | M28: 214883.7 | O28: =+AVERAGE(B28:C28,E28,G28:H28,J28,L28:M28) -> 229513.99 | P28: =+AVERAGE(B28:E28,G28:M28) -> 232630.82 | Q28: =+MAX(B28:E28,G28:M28) -> 378174.54 | R28: =+MEDIAN(B28:E28,G28:M28) -> 248473.56 | S28: =+MIN(B28:E28,G28:J28,L28:M28) -> 85971.33 | T28: =+$O28+$O28*G102 -> 372110.33 | U28: =+$O28+$O28*H102 -> 84819.472 | V28: =+$O28+$O28*I102 -> 94890.339 | W28: =+$O28+$O28*J102 -> 209072.94 | X28: =+$O28+$O28*K102 -> 245144.47 | Y28: =+$O28+$O28*L102 -> 249695.37 | Z28: =+$O28+$O28*M102 -> 212004.65 | AA28: =+$O28+$O28*B102 -> 289183.42 | AB28: =+$O28+$O28*C102 -> 105798.44 | AC28: =+$O28+$O28*D102 -> 373107.7 | AD28: =+$O28+$O28*E102 -> 288826.81 | AE28: =+$O28+$O28*F102 -> 101055.95 | AF28: =SUM(T28:AE28) -> 2625709.9 | AG28: =+AF28-SUM(B28:M28) -> -35657.43
A29: (75) FICAPRO - FOVI I y II | B29: 0 | C29: 3176.26 | D29: 1582.24 | E29: 1579.93 | F29: 30801.9 | G29: 3164.7 | H29: 16736.58 | I29: 11444.21 | J29: 6743.64 | K29: 5091.14 | L29: 5129.69 | M29: 5082.56 | O29: =+AVERAGE(B29:C29,E29,G29:H29,J29,L29:M29) -> 5201.67 | P29: =+AVERAGE(B29:E29,G29:M29) -> 5430.0864 | Q29: =+MAX(B29:E29,G29:M29) -> 16736.58 | R29: =+MEDIAN(B29:E29,G29:M29) -> 5082.56 | S29: =+MIN(B29:E29,G29:J29,L29:M29) -> 0 | T29: =+$O29+$O29*G103 -> 3031.577 | U29: =+$O29+$O29*H103 -> 16032.556 | V29: =+$O29+$O29*I103 -> 10962.81 | W29: =+$O29+$O29*J103 -> 6459.9691 | X29: =+$O29+$O29*K103 -> 4876.9814 | Y29: =+$O29+$O29*L103 -> 4913.9098 | Z29: =+$O29+$O29*M103 -> 4868.7623 | AA29: =+$O29+$O29*B103 -> 0 | AB29: =+$O29+$O29*C103 -> 3042.6508 | AC29: =+$O29+$O29*D103 -> 1515.6831 | AD29: =+$O29+$O29*E103 -> 1513.4703 | AE29: =+$O29+$O29*F103 -> 29506.219 | AF29: =SUM(T29:AE29) -> 86724.589 | AG29: =+AF29-SUM(B29:M29) -> -3808.2607
A30: (81) SUSTITUCIÓN DE VIVIENDA AUTOADMINISTRACIÓN | B30: 0 | C30: 0 | D30: 0 | E30: 0 | F30: 0 | G30: 0 | H30: 0 | I30: 0 | J30: 0 | K30: 0 | L30: 0 | M30: 0 | O30: =+AVERAGE(B30:C30,E30,G30:H30,J30,L30:M30) -> 0 | P30: =+AVERAGE(B30:E30,G30:M30) -> 0 | Q30: =+MAX(B30:E30,G30:M30) -> 0 | R30: =+MEDIAN(B30:E30,G30:M30) -> 0 | S30: =+MIN(B30:E30,G30:J30,L30:M30) -> 0 | T30: =+$O30+$O30*G104 -> #DIV/0! | U30: =+$O30+$O30*H104 -> #DIV/0! | V30: =+$O30+$O30*I104 -> #DIV/0! | W30: =+$O30+$O30*J104 -> #DIV/0! | X30: =+$O30+$O30*K104 -> #DIV/0! | Y30: =+$O30+$O30*L104 -> #DIV/0! | Z30: =+$O30+$O30*M104 -> #DIV/0! | AA30: =+$O30+$O30*B104 -> #DIV/0! | AB30: =+$O30+$O30*C104 -> #DIV/0! | AC30: =+$O30+$O30*D104 -> #DIV/0! | AD30: =+$O30+$O30*E104 -> #DIV/0! | AE30: =+$O30+$O30*F104 -> #DIV/0! | AF30: =SUM(T30:AE30) -> #DIV/0! | AG30: =+AF30-SUM(B30:M30) -> #DIV/0!
A31: (AG) SUSTITUCIÓN DE VIVIENDA - INVI - FICAPRO | B31: 324549.02 | C31: 158969.46 | D31: 95712.9 | E31: 107380.32 | F31: 118533.32 | G31: 88076.46 | H31: 102927.25 | I31: 86139.85 | J31: 242413.23 | K31: 71472.36 | L31: 93663.66 | M31: 207316.66 | O31: =+AVERAGE(B31:C31,E31,G31:H31,J31,L31:M31) -> 165662.01 | P31: =+AVERAGE(B31:E31,G31:M31) -> 143511.02 | Q31: =+MAX(B31:E31,G31:M31) -> 324549.02 | R31: =+MEDIAN(B31:E31,G31:M31) -> 102927.25 | S31: =+MIN(B31:E31,G31:J31,L31:M31) -> 86139.85 | T31: =+$O31+$O31*G105 -> 101671.1 | U31: =+$O31+$O31*H105 -> 118814.12 | V31: =+$O31+$O31*I105 -> 99435.576 | W31: =+$O31+$O31*J105 -> 279829.82 | X31: =+$O31+$O31*K105 -> 82504.152 | Y31: =+$O31+$O31*L105 -> 108120.69 | Z31: =+$O31+$O31*M105 -> 239316.08 | AA31: =+$O31+$O31*B105 -> 374643.31 | AB31: =+$O31+$O31*C105 -> 183506.47 | AC31: =+$O31+$O31*D105 -> 110486.23 | AD31: =+$O31+$O31*E105 -> 123954.52 | AE31: =+$O31+$O31*F105 -> 136828.99 | AF31: =SUM(T31:AE31) -> 1959111.1 | AG31: =+AF31-SUM(B31:M31) -> 261956.59
A33: INVI | B33: =SUM(B34+B35+B36+B41+B43+B48+B55+B65+B67+B69+B71+B78+B81) -> 82473477 | C33: =SUM(C34+C35+C36+C41+C43+C48+C55+C65+C67+C69+C71+C78+C81) -> 82252216 | D33: =SUM(D34+D35+D36+D41+D43+D48+D55+D65+D67+D69+D71+D78+D81) -> 78926664 | E33: =SUM(E34+E35+E36+E41+E43+E48+E55+E65+E67+E69+E71+E78+E81) -> 80429916 | F33: 1.0741534e+08 | G33: =SUM(G34+G35+G36+G41+G43+G48+G55+G65+G67+G69+G71+G78+G81) -> 88699259 | H33: =SUM(H34+H35+H36+H41+H43+H48+H55+H65+H67+H69+H71+H78+H81) -> 94055168 | I33: =SUM(I34+I35+I36+I41+I43+I48+I55+I65+I67+I69+I71+I78+I81) -> 92177487 | J33: =SUM(J34+J35+J36+J41+J43+J48+J55+J65+J67+J69+J71+J78+J81) -> 87736678 | K33: =SUM(K34+K35+K36+K41+K43+K48+K55+K65+K67+K69+K71+K78+K81) -> 90411852 | L33: =SUM(L34+L35+L36+L41+L43+L48+L55+L65+L67+L69+L71+L78+L81) -> 89768885 | M33: =SUM(M34+M35+M36+M41+M43+M48+M55+M65+M67+M69+M71+M78+M81) -> 86313598 | O33: =+AVERAGE(B33:C33,E33,G33:M33) -> 87431853 | P33: =+AVERAGE(B33:E33,G33:M33) -> 86658654 | Q33: =+MAX(B33:E33,G33:M33) -> 94055168 | R33: =+MEDIAN(B33:E33,G33:M33) -> 87736678 | S33: =+MIN(B33:E33,G33:M33) -> 78926664 | T33: =+$O33+$O33*G107 -> 89490665 | U33: =+$O33+$O33*H107 -> 94894361 | V33: =+$O33+$O33*I107 -> 92999927 | W33: =+$O33+$O33*J107 -> 88519495 | X33: =+$O33+$O33*K107 -> 91218538 | Y33: =+$O33+$O33*L107 -> 90569834 | Z33: =+$O33+$O33*M107 -> 87083718 | AA33: =+$O33+$O33*B107 -> 83209334 | AB33: =+$O33+$O33*C107 -> 82986099 | AC33: =+$O33+$O33*D107 -> 79630876 | AD33: =+$O33+$O33*E107 -> 81147540 | AE33: =+$O33+$O33*F107 -> 1.0837373e+08 | AF33: =SUM(T33:AE33) -> 1.0701241e+09 | AG33: =+AF33-SUM(B33:M33) -> 9463586.8
A34: (11) INVI-SEDUVI | B34: 0 | C34: 0 | D34: 0 | E34: 0 | F34: 0 | G34: 0 | H34: 0 | I34: 0 | J34: 0 | K34: 0 | L34: 0 | M34: 0 | O34: =+AVERAGE(B34:C34,E34,G34:M34) -> 0 | P34: =+AVERAGE(B34:E34,G34:M34) -> 0 | Q34: =+MAX(B34:E34,G34:M34) -> 0 | R34: =+MEDIAN(B34:E34,G34:M34) -> 0 | S34: =+MIN(B34:E34,G34:M34) -> 0 | T34: =+$O34+$O34*G108 -> #DIV/0! | U34: =+$O34+$O34*H108 -> #DIV/0! | V34: =+$O34+$O34*I108 -> #DIV/0! | W34: =+$O34+$O34*J108 -> #DIV/0! | X34: =+$O34+$O34*K108 -> #DIV/0! | Y34: =+$O34+$O34*L108 -> #DIV/0! | Z34: =+$O34+$O34*M108 -> #DIV/0! | AA34: =+$O34+$O34*B108 -> #DIV/0! | AB34: =+$O34+$O34*C108 -> #DIV/0! | AC34: =+$O34+$O34*D108 -> #DIV/0! | AD34: =+$O34+$O34*E108 -> #DIV/0! | AE34: =+$O34+$O34*F108 -> #DIV/0! | AF34: =SUM(T34:AE34) -> #DIV/0! | AG34: =+AF34-SUM(B34:M34) -> #DIV/0!
A35: (24) INVI-DDF | B35: 0 | C35: 0 | D35: 0 | E35: 0 | F35: 0 | G35: 0 | H35: 0 | I35: 0 | J35: 0 | K35: 0 | L35: 0 | M35: 0 | O35: =+AVERAGE(B35:C35,E35,G35:M35) -> 0 | P35: =+AVERAGE(B35:E35,G35:M35) -> 0 | Q35: =+MAX(B35:E35,G35:M35) -> 0 | R35: =+MEDIAN(B35:E35,G35:M35) -> 0 | S35: =+MIN(B35:E35,G35:M35) -> 0 | T35: =+$O35+$O35*G109 -> #DIV/0! | U35: =+$O35+$O35*H109 -> #DIV/0! | V35: =+$O35+$O35*I109 -> #DIV/0! | W35: =+$O35+$O35*J109 -> #DIV/0! | X35: =+$O35+$O35*K109 -> #DIV/0! | Y35: =+$O35+$O35*L109 -> #DIV/0! | Z35: =+$O35+$O35*M109 -> #DIV/0! | AA35: =+$O35+$O35*B109 -> #DIV/0! | AB35: =+$O35+$O35*C109 -> #DIV/0! | AC35: =+$O35+$O35*D109 -> #DIV/0! | AD35: =+$O35+$O35*E109 -> #DIV/0! | AE35: =+$O35+$O35*F109 -> #DIV/0! | AF35: =SUM(T35:AE35) -> #DIV/0! | AG35: =+AF35-SUM(B35:M35) -> #DIV/0!
A36: SUSTITUCIÓN DE VIVIENDA | B36: =SUM(B37:B40) -> 1663574.8 | C36: =SUM(C37:C40) -> 2342092.1 | D36: =SUM(D37:D40) -> 1936891.2 | E36: =SUM(E37:E40) -> 1791779.6 | F36: 1664035.5 | G36: =SUM(G37:G40) -> 1532459.2 | H36: =SUM(H37:H40) -> 2234378.7 | I36: =SUM(I37:I40) -> 1727376 | J36: =SUM(J37:J40) -> 1434130.4 | K36: =SUM(K37:K40) -> 1723828.5 | L36: =SUM(L37:L40) -> 1668207.4 | M36: =SUM(M37:M40) -> 1691782.6 | O36: =+AVERAGE(B36:C36,E36,G36:M36) -> 1780960.9 | P36: =+AVERAGE(B36:E36,G36:M36) -> 1795136.4 | Q36: =+MAX(B36:E36,G36:M36) -> 2342092.1 | R36: =+MEDIAN(B36:E36,G36:M36) -> 1723828.5 | S36: =+MIN(B36:E36,G36:M36) -> 1434130.4 | T36: =+$O36+$O36*G110 -> 1520358 | U36: =+$O36+$O36*H110 -> 2216734.7 | V36: =+$O36+$O36*I110 -> 1713735.5 | W36: =+$O36+$O36*J110 -> 1422805.6 | X36: =+$O36+$O36*K110 -> 1710216.1 | Y36: =+$O36+$O36*L110 -> 1655034.2 | Z36: =+$O36+$O36*M110 -> 1678423.2 | AA36: =+$O36+$O36*B110 -> 1650438.2 | AB36: =+$O36+$O36*C110 -> 2323597.5 | AC36: =+$O36+$O36*D110 -> 1921596.4 | AD36: =+$O36+$O36*E110 -> 1777630.6 | AE36: =+$O36+$O36*F110 -> 1650895.2 | AF36: =SUM(T36:AE36) -> 21241465 | AG36: =+AF36-SUM(B36:M36) -> -169070.53
A37: (51) ADQUISICION DE SUELO | B37: 29656.33 | C37: 18048.33 | D37: 21733 | E37: 51863.75 | F37: 25275.7 | G37: 38002.95 | H37: 47960.48 | I37: 35826.47 | J37: 21937.94 | K37: 71796.78 | L37: 34865.87 | M37: 17485.67 | O37: =+AVERAGE(B37:C37,E37,G37:M37) -> 36744.457 | P37: =+AVERAGE(B37:E37,G37:M37) -> 35379.779 | Q37: =+MAX(B37:E37,G37:M37) -> 71796.78 | R37: =+MEDIAN(B37:E37,G37:M37) -> 34865.87 | S37: =+MIN(B37:E37,G37:M37) -> 17485.67 | T37: =+$O37+$O37*G111 -> 39468.81 | U37: =+$O37+$O37*H111 -> 49810.424 | V37: =+$O37+$O37*I111 -> 37208.378 | W37: =+$O37+$O37*J111 -> 22784.136 | X37: =+$O37+$O37*K111 -> 74566.144 | Y37: =+$O37+$O37*L111 -> 36210.725 | Z37: =+$O37+$O37*M111 -> 18160.132 | AA37: =+$O37+$O37*B111 -> 30800.242 | AB37: =+$O37+$O37*C111 -> 18744.495 | AC37: =+$O37+$O37*D111 -> 22571.291 | AD37: =+$O37+$O37*E111 -> 53864.252 | AE37: =+$O37+$O37*F111 -> 26250.641 | AF37: =SUM(T37:AE37) -> 430439.67 | AG37: =+AF37-SUM(B37:M37) -> 15986.398
A38: (61) ESTUDIOS Y PROYECTOS | B38: 72.89 | C38: 0 | D38: 0 | E38: 0 | F38: 0 | G38: 0 | H38: 0 | I38: 76.3 | J38: 0 | K38: 0 | L38: 0 | M38: 0 | O38: =+AVERAGE(B38:C38,E38,G38:M38) -> 14.919 | P38: =+AVERAGE(B38:E38,G38:M38) -> 13.562727 | Q38: =+MAX(B38:E38,G38:M38) -> 76.3 | R38: =+MEDIAN(B38:E38,G38:M38) -> 0 | S38: =+MIN(B38:E38,G38:M38) -> 0 | T38: =+$O38+$O38*G112 -> 0 | U38: =+$O38+$O38*H112 -> 0 | V38: =+$O38+$O38*I112 -> 83.93 | W38: =+$O38+$O38*J112 -> 0 | X38: =+$O38+$O38*K112 -> 0 | Y38: =+$O38+$O38*L112 -> 0 | Z38: =+$O38+$O38*M112 -> 0 | AA38: =+$O38+$O38*B112 -> 80.179 | AB38: =+$O38+$O38*C112 -> 0 | AC38: =+$O38+$O38*D112 -> 0 | AD38: =+$O38+$O38*E112 -> 0 | AE38: =+$O38+$O38*F112 -> 0 | AF38: =SUM(T38:AE38) -> 164.109 | AG38: =+AF38-SUM(B38:M38) -> 14.919
A39: (65) SUSTITUCIÓN DE VIVIENDA DE ALTO RIESGO | B39: 759776.59 | C39: 1055410.6 | D39: 851075.41 | E39: 586352.85 | F39: 703296.67 | G39: 639077.91 | H39: 1083432 | I39: 806897.01 | J39: 707380.78 | K39: 722130.4 | L39: 785429.07 | M39: 733174.15 | O39: =+AVERAGE(B39:C39,E39,G39:M39) -> 787906.14 | P39: =+AVERAGE(B39:E39,G39:M39) -> 793648.8 | Q39: =+MAX(B39:E39,G39:M39) -> 1083432 | R39: =+MEDIAN(B39:E39,G39:M39) -> 759776.59 | S39: =+MIN(B39:E39,G39:M39) -> 586352.85 | T39: =+$O39+$O39*G113 -> 634453.69 | U39: =+$O39+$O39*H113 -> 1075592.6 | V39: =+$O39+$O39*I113 -> 801058.49 | W39: =+$O39+$O39*J113 -> 702262.33 | X39: =+$O39+$O39*K113 -> 716905.23 | Y39: =+$O39+$O39*L113 -> 779745.89 | Z39: =+$O39+$O39*M113 -> 727869.07 | AA39: =+$O39+$O39*B113 -> 754279.02 | AB39: =+$O39+$O39*C113 -> 1047773.9 | AC39: =+$O39+$O39*D113 -> 844917.22 | AD39: =+$O39+$O39*E113 -> 582110.14 | AE39: =+$O39+$O39*F113 -> 698207.78 | AF39: =SUM(T39:AE39) -> 9365175.3 | AG39: =+AF39-SUM(B39:M39) -> -68258.161
A40: (84) EDIFICACION II | B40: 874069.03 | C40: 1268633.2 | D40: 1064082.8 | E40: 1153563 | F40: 935463.1 | G40: 855378.39 | H40: 1102986.2 | I40: 884576.17 | J40: 704811.68 | K40: 929901.27 | L40: 847912.45 | M40: 941122.73 | O40: =+AVERAGE(B40:C40,E40,G40:M40) -> 956295.4 | P40: =+AVERAGE(B40:E40,G40:M40) -> 966094.26 | Q40: =+MAX(B40:E40,G40:M40) -> 1268633.2 | R40: =+MEDIAN(B40:E40,G40:M40) -> 929901.27 | S40: =+MIN(B40:E40,G40:M40) -> 704811.68 | T40: =+$O40+$O40*G114 -> 846702.5 | U40: =+$O40+$O40*H114 -> 1091798.9 | V40: =+$O40+$O40*I114 -> 875604.13 | W40: =+$O40+$O40*J114 -> 697662.95 | X40: =+$O40+$O40*K114 -> 920469.51 | Y40: =+$O40+$O40*L114 -> 839312.28 | Z40: =+$O40+$O40*M114 -> 931577.15 | AA40: =+$O40+$O40*B114 -> 865203.56 | AB40: =+$O40+$O40*C114 -> 1255765.7 | AC40: =+$O40+$O40*D114 -> 1053290.1 | AD40: =+$O40+$O40*E114 -> 1141862.7 | AE40: =+$O40+$O40*F114 -> 925974.93 | AF40: =SUM(T40:AE40) -> 11445224 | AG40: =+AF40-SUM(B40:M40) -> -117275.58
A41: MEJORAMIENTO DE VIVIENDA EN LOTES FAMILIARES | B41: =SUM(B42) -> 1037365.6 | C41: =SUM(C42) -> 733679.65 | D41: =SUM(D42) -> 842194.45 | E41: =SUM(E42) -> 592109.11 | F41: 1043983.2 | G41: =SUM(G42) -> 1115252.8 | H41: =SUM(H42) -> 1064629.8 | I41: =SUM(I42) -> 951857.66 | J41: =SUM(J42) -> 866584.43 | K41: =SUM(K42) -> 614667.12 | L41: =SUM(L42) -> 1213718.2 | M41: =SUM(M42) -> 1050850.6 | O41: =+AVERAGE(B41:C41,E41,G41:M41) -> 924071.49 | P41: =+AVERAGE(B41:E41,G41:M41) -> 916628.12 | Q41: =+MAX(B41:E41,G41:M41) -> 1213718.2 | R41: =+MEDIAN(B41:E41,G41:M41) -> 951857.66 | S41: =+MIN(B41:E41,G41:M41) -> 592109.11 | T41: =+$O41+$O41*G115 -> 1124309 | U41: =+$O41+$O41*H115 -> 1073275 | V41: =+$O41+$O41*I115 -> 959587.1 | W41: =+$O41+$O41*J115 -> 873621.42 | X41: =+$O41+$O41*K115 -> 619658.45 | Y41: =+$O41+$O41*L115 -> 1223574 | Z41: =+$O41+$O41*M115 -> 1059383.9 | AA41: =+$O41+$O41*B115 -> 1045789.4 | AB41: =+$O41+$O41*C115 -> 739637.41 | AC41: =+$O41+$O41*D115 -> 849033.39 | AD41: =+$O41+$O41*E115 -> 596917.26 | AE41: =+$O41+$O41*F115 -> 1052460.7 | AF41: =SUM(T41:AE41) -> 11217247 | AG41: =+AF41-SUM(B41:M41) -> 90354.581
A42: (60) CONSTRUCCIÓN Y MEJORAMIENTO - MÓDULOS | B42: 1037365.6 | C42: 733679.65 | D42: 842194.45 | E42: 592109.11 | F42: 1043983.2 | G42: 1115252.8 | H42: 1064629.8 | I42: 951857.66 | J42: 866584.43 | K42: 614667.12 | L42: 1213718.2 | M42: 1050850.6 | O42: =+AVERAGE(B42:C42,E42,G42:M42) -> 924071.49 | P42: =+AVERAGE(B42:E42,G42:M42) -> 916628.12 | Q42: =+MAX(B42:E42,G42:M42) -> 1213718.2 | R42: =+MEDIAN(B42:E42,G42:M42) -> 951857.66 | S42: =+MIN(B42:E42,G42:M42) -> 592109.11 | T42: =+$O42+$O42*G116 -> 1124309 | U42: =+$O42+$O42*H116 -> 1073275 | V42: =+$O42+$O42*I116 -> 959587.1 | W42: =+$O42+$O42*J116 -> 873621.42 | X42: =+$O42+$O42*K116 -> 619658.45 | Y42: =+$O42+$O42*L116 -> 1223574 | Z42: =+$O42+$O42*M116 -> 1059383.9 | AA42: =+$O42+$O42*B116 -> 1045789.4 | AB42: =+$O42+$O42*C116 -> 739637.41 | AC42: =+$O42+$O42*D116 -> 849033.39 | AD42: =+$O42+$O42*E116 -> 596917.26 | AE42: =+$O42+$O42*F116 -> 1052460.7 | AF42: =SUM(T42:AE42) -> 11217247 | AG42: =+AF42-SUM(B42:M42) -> 90354.581
A43: COFINANCIADOS | B43: =SUM(B44:B47) -> 107980.75 | C43: =SUM(C44:C47) -> 25822.14 | D43: =SUM(D44:D47) -> 62289.54 | E43: =SUM(E44:E47) -> 67796.49 | F43: 258868.72 | G43: =SUM(G44:G47) -> 160220.37 | H43: =SUM(H44:H47) -> 104940.53 | I43: =SUM(I44:I47) -> 89547.52 | J43: =SUM(J44:J47) -> 57058.98 | K43: =SUM(K44:K47) -> 81519.11 | L43: =SUM(L44:L47) -> 16912.52 | M43: =SUM(M44:M47) -> 146451.91 | O43: =+AVERAGE(B43:C43,E43,G43:M43) -> 85825.032 | P43: =+AVERAGE(B43:E43,G43:M43) -> 83685.442 | Q43: =+MAX(B43:E43,G43:M43) -> 160220.37 | R43: =+MEDIAN(B43:E43,G43:M43) -> 81519.11 | S43: =+MIN(B43:E43,G43:M43) -> 16912.52 | T43: =+$O43+$O43*G117 -> 164316.73 | U43: =+$O43+$O43*H117 -> 107623.55 | V43: =+$O43+$O43*I117 -> 91836.986 | W43: =+$O43+$O43*J117 -> 58517.81 | X43: =+$O43+$O43*K117 -> 83603.313 | Y43: =+$O43+$O43*L117 -> 17344.923 | Z43: =+$O43+$O43*M117 -> 150196.25 | AA43: =+$O43+$O43*B117 -> 110741.5 | AB43: =+$O43+$O43*C117 -> 26482.336 | AC43: =+$O43+$O43*D117 -> 63882.1 | AD43: =+$O43+$O43*E117 -> 69529.846 | AE43: =+$O43+$O43*F117 -> 265487.23 | AF43: =SUM(T43:AE43) -> 1209562.6 | AG43: =+AF43-SUM(B43:M43) -> 30154.002
...

Sheet PROPIA Y SOCIAL
A1: FIDEICOMISO DE RECUPERACIÓN CREDITICIA DEL DISTRITO FEDERAL FIDERE III
A2: RECUPERACIÓN DEL PERÍODO JULIO 2015 - JULIO 2016
A3: MILES DE PESOS
B5: 2015 | G5: 2 0 1 6
A6: CARTERA | Q6: SIN CONTAR DICIEMBRE 2015 | T6: 2017
B7: AGOSTO | C7: SEPTIEMBRE | D7: OCTUBRE | E7: NOVIEMBRE | F7: DICIEMBRE | G7: ENERO | H7: FEBRERO | I7: MARZO | J7: ABRIL | K7: MAYO | L7: JUNIO | M7: JULIO | N7: B C D E F G H I J K L M | O7: PROMEDIO REAL | P7: PROMEDIO GENERAL | Q7: MAXIMO | R7: MEDIA | S7: MINIMO | T7: ENERO | U7: FEBRERO | V7: MARZO | W7: ABRIL | X7: MAYO | Y7: JUNIO | Z7: JULIO | AA7: AGOSTO | AB7: SEPTIEMBRE | AC7: OCTUBRE | AD7: NOVIEMBRE | AE7: DICIEMBRE | AF7: TOTAL | AG7: VARIACION
N8: AGO SEP OCT NOV DIC ENE FEB MAR ABR MAY JUN JUL
A9: PROPIA | B9: =SUM(B10+B13+B14+B19) -> 22691.79 | C9: =SUM(C10+C13+C14+C19) -> 7100 | D9: =SUM(D10+D13+D14+D19) -> 22585.26 | E9: =SUM(E10+E13+E14+E19) -> 15459 | F9: =SUM(F10+F13+F14+F19) -> 30703.41 | G9: =SUM(G10+G13+G14+G19) -> 119049.35 | H9: =SUM(H10+H13+H14+H19) -> 9300 | I9: =SUM(I10+I13+I14+I19) -> 13251.25 | ... M9: =SUM(M10+M13+M14+M19) -> 15510 | O9: =+AVERAGE(B9:E9,H9:K9,M9) -> 16570.048 | P9: =+AVERAGE(B9:E9,H9:M9) -> 18288.571 | Q9: =+MAX(B9:E9,H9:M9) -> 33755.28 | R9: =+MEDIAN(B9:E9,H9:M9) -> 17694.195 | S9: =+MIN(B9:E9,G9:M9) -> 7100 | T9: =+T10+T14+T18+T19 -> #DIV/0! | U9: =+U10+U14+U18+U19 -> #DIV/0! | V9: =+V10+V14+V18+V19 -> #DIV/0! | W9: =+W10+W14+W18+W19 -> #DIV/0! | X9: =+X10+X14+X18+X19 -> #DIV/0! | Y9: =+Y10+Y14+Y18+Y19 -> #DIV/0! | Z9: =+Z10+Z14+Z18+Z19 -> #DIV/0! | AA9: =+AA10+AA14+AA18+AA19 -> #DIV/0! | ... AE9: =+AE10+AE14+AE18+AE19 -> #DIV/0! | AF9: =SUM(T9:AE9) -> #DIV/0! | AG9: =+AF9-SUM(B9:M9) -> #DIV/0!
A10: RHP | B10: =SUM(B11:B12) -> 1000 | C10: =SUM(C11:C12) -> 1000 | D10: =SUM(D11:D12) -> 119.26 | E10: =SUM(E11:E12) -> 0 | F10: =SUM(F11:F12) -> 7537.41 | G10: =SUM(G11:G12) -> 0 | H10: =SUM(H11:H12) -> 0 | I10: =SUM(I11:I12) -> 6951.25 | ... M10: =SUM(M11:M12) -> 1000 | O10: =+AVERAGE(B10:E10,H10:K10,M10) -> 3533.7378 | P10: =+AVERAGE(B10:E10,H10:M10) -> 5855.892 | Q10: =+MAX(B10:E10,H10:M10) -> 26755.28 | R10: =+MEDIAN(B10:E10,H10:M10) -> 1000 | S10: =+MIN(B10:E10,G10:M10) -> 0 | T10: =+$O10+$O10*G41 -> 0 | U10: =+$O10+$O10*H41 -> 0 | V10: =+$O10+$O10*I41 -> 4194.7315 | W10: =+$O10+$O10*J41 -> 5946.8424 | X10: =+$O10+$O10*K41 -> 7168.0139 | Y10: =+$O10+$O10*L41 -> 16145.473 | Z10: =+$O10+$O10*M41 -> 603.44996 | AA10: =+$O10+$O10*B41 -> 603.44996 | AB10: =+$O10+$O10*C41 -> 603.44996 | AC10: =+$O10+$O10*D41 -> 71.967442 | AD10: =+$O10+$O10*E41 -> 0 | AE10: =+$O10+$O10*F41 -> 4548.4497 | AF10: =SUM(T10:AE10) -> 39885.828 | AG10: =+AF10-SUM(B10:M10) -> -26210.502
A11: (16) CONGELADOS (a enero 2000) | B11: 1000 | C11: 1000 | D11: 0 | E11: 0 | F11: 7537.41 | G11: 0 | H11: 0 | I11: 6451.25 | J11: 0 | K11: 1000 | L11: 21866.14 | M11: 1000 | O11: =+AVERAGE(B11:E11,H11:K11,M11) -> 1161.25 | P11: =+AVERAGE(B11:E11,H11:M11) -> 3231.739 | Q11: =+MAX(B11:E11,H11:M11) -> 21866.14 | R11: =+MEDIAN(B11:E11,H11:M11) -> 1000 | S11: =+MIN(B11:E11,G11:M11) -> 0 | T11: =+$O11+$O11*G42 -> 0 | U11: =+$O11+$O11*H42 -> 0 | V11: =+$O11+$O11*I42 -> 2318.1062 | W11: =+$O11+$O11*J42 -> 0 | X11: =+$O11+$O11*K42 -> 359.32667 | Y11: =+$O11+$O11*L42 -> 7857.0872 | Z11: =+$O11+$O11*M42 -> 359.32667 | AA11: =+$O11+$O11*B42 -> 359.32667 | AB11: =+$O11+$O11*C42 -> 359.32667 | AC11: =+$O11+$O11*D42 -> 0 | AD11: =+$O11+$O11*E42 -> 0 | AE11: =+$O11+$O11*F42 -> 2708.3924 | AF11: =SUM(T11:AE11) -> 14320.892 | AG11: =+AF11-SUM(B11:M11) -> -25533.908
A12: (16) CONGELADOS (a julio 2003) | B12: 0 | C12: 0 | D12: 119.26 | E12: 0 | F12: 0 | G12: 0 | H12: 0 | I12: 500 | J12: 9854.74 | K12: 10878.39 | L12: 4889.14 | M12: 0 | O12: =+AVERAGE(B12:E12,H12:K12,M12) -> 2372.4878 | P12: =+AVERAGE(B12:E12,H12:M12) -> 2624.153 | Q12: =+MAX(B12:E12,H12:M12) -> 10878.39 | R12: =+MEDIAN(B12:E12,H12:M12) -> 59.63 | S12: =+MIN(B12:E12,G12:M12) -> 0 | T12: =+$O12+$O12*G43 -> 0 | U12: =+$O12+$O12*H43 -> 0 | V12: =+$O12+$O12*I43 -> 452.04829 | W12: =+$O12+$O12*J43 -> 8909.6368 | X12: =+$O12+$O12*K43 -> 9835.1153 | Y12: =+$O12+$O12*L43 -> 4420.2548 | Z12: =+$O12+$O12*M43 -> 0 | AA12: =+$O12+$O12*B43 -> 0 | AB12: =+$O12+$O12*C43 -> 0 | AC12: =+$O12+$O12*D43 -> 107.82256 | AD12: =+$O12+$O12*E43 -> 0 | AE12: =+$O12+$O12*F43 -> 0 | AF12: =SUM(T12:AE12) -> 23724.878 | AG12: =+AF12-SUM(B12:M12) -> -2516.6522
A13: (09/49) SUELO-FICAPRO-FIDERE | B13: 0 | C13: 0 | D13: 0 | E13: 3085.11 | F13: 0 | G13: 0 | H13: 0 | I13: 0 | J13: 0 | K13: 0 | L13: 0 | M13: 0 | O13: =+AVERAGE(B13:E13,H13:K13,M13) -> 342.79 | P13: =+AVERAGE(B13:E13,H13:M13) -> 308.511 | Q13: =+MAX(B13:E13,H13:M13) -> 3085.11 | R13: =+MEDIAN(B13:E13,H13:M13) -> 0 | S13: =+MIN(B13:E13,G13:M13) -> 0 | T13: =+$O13+$O13*G44 -> 0 | U13: =+$O13+$O13*H44 -> 0 | V13: =+$O13+$O13*I44 -> 0 | W13: =+$O13+$O13*J44 -> 0 | X13: =+$O13+$O13*K44 -> 0 | Y13: =+$O13+$O13*L44 -> 0 | Z13: =+$O13+$O13*M44 -> 0 | AA13: =+$O13+$O13*B44 -> 0 | AB13: =+$O13+$O13*C44 -> 0 | AC13: =+$O13+$O13*D44 -> 0 | AD13: =+$O13+$O13*E44 -> 3427.9 | AE13: =+$O13+$O13*F44 -> 0 | AF13: =SUM(T13:AE13) -> 3427.9 | AG13: =+AF13-SUM(B13:M13) -> 342.79
A14: FONDECO D.F. | B14: =SUM(B15+B18) -> 21691.79 | C14: =SUM(C15+C18) -> 2000 | D14: =SUM(D15+D18) -> 19900 | E14: =SUM(E15+E18) -> 9207.89 | F14: 20000 | G14: =SUM(G15+G18) -> 101184.36 | H14: =SUM(H15+H18) -> 6000 | I14: =SUM(I15+I18) -> 5000 | J14: =SUM(J15+J18) -> 12000 | K14: =SUM(K15+K18) -> 6000 | L14: =SUM(L15+L18) -> 5000 | M14: =SUM(M15+M18) -> 11510 | O14: =+AVERAGE(B14:E14,H14:K14,M14) -> 10367.742 | P14: =+AVERAGE(B14:E14,H14:M14) -> 9830.968 | Q14: =+MAX(B14:E14,H14:M14) -> 21691.79 | R14: =+MEDIAN(B14:E14,H14:M14) -> 7603.945 | S14: =+MIN(B14:E14,G14:M14) -> 2000 | T14: =+$O14+$O14*F45 -> 21092.007 | U14: =+$O14+$O14*H45 -> 6327.6021 | V14: =+$O14+$O14*I45 -> 5273.0017 | W14: =+$O14+$O14*J45 -> 12655.204 | X14: =+$O14+$O14*K45 -> 6327.6021 | Y14: =+$O14+$O14*L45 -> 5273.0017 | Z14: =+$O14+$O14*M45 -> 12138.45 | AA14: =+$O14+$O14*B45 -> 22876.169 | AB14: =+$O14+$O14*C45 -> 2109.2007 | AC14: =+$O14+$O14*D45 -> 20986.547 | AD14: =+$O14+$O14*E45 -> 9710.6439 | AE14: =+$O14+$O14*F45 -> 21092.007 | AF14: =SUM(T14:AE14) -> 145861.44 | AG14: =+AF14-SUM(B14:M14) -> -73632.604
A15: (93) FONDECO MYPES Local | B15: =SUM(B16:B17) -> 21691.79 | C15: =SUM(C16:C17) -> 2000 | D15: =SUM(D16:D17) -> 19900 | E15: 9207.89 | F15: 20000 | G15: =SUM(G16:G17) -> 101184.36 | H15: =SUM(H16:H17) -> 6000 | I15: =SUM(I16:I17) -> 5000 | J15: =SUM(J16:J17) -> 12000 | K15: =SUM(K16:K17) -> 6000 | L15: =SUM(L16:L17) -> 5000 | M15: =SUM(M16:M17) -> 11510 | O15: =+AVERAGE(B15:E15,H15:K15,M15) -> 10367.742 | P15: =+AVERAGE(B15:E15,H15:M15) -> 9830.968 | Q15: =+MAX(B15:E15,H15:M15) -> 21691.79 | R15: =+MEDIAN(B15:E15,H15:M15) -> 7603.945 | S15: =+MIN(B15:E15,G15:M15) -> 2000 | T15: =+$O15+$O15*F46 -> 21092.007 | U15: =+$O15+$O15*H46 -> 6327.6021 | V15: =+$O15+$O15*I46 -> 5273.0017 | W15: =+$O15+$O15*J46 -> 12655.204 | X15: =+$O15+$O15*K46 -> 6327.6021 | Y15: =+$O15+$O15*L46 -> 5273.0017 | Z15: =+$O15+$O15*M46 -> 12138.45 | AA15: =+$O15+$O15*B46 -> 22876.169 | AB15: =+$O15+$O15*C46 -> 2109.2007 | AC15: =+$O15+$O15*D46 -> 20986.547 | AD15: =+$O15+$O15*E46 -> 9710.6439 | AE15: =+$O15+$O15*F46 -> 21092.007 | AF15: =SUM(T15:AE15) -> 145861.44 | AG15: =+AF15-SUM(B15:M15) -> -73632.604
A16: (93) CARTERA VIGENTE | B16: 0 | C16: 0 | D16: 0 | E16: 0 | F16: 0 | G16: 0 | H16: 0 | I16: 0 | J16: 0 | K16: 0 | L16: 0 | M16: 0 | O16: =+AVERAGE(B16:E16,H16:K16,M16) -> 0 | P16: =+AVERAGE(B16:E16,H16:M16) -> 0 | Q16: =+MAX(B16:E16,H16:M16) -> 0 | R16: =+MEDIAN(B16:E16,H16:M16) -> 0 | S16: =+MIN(B16:E16,G16:M16) -> 0 | T16: =+$O16+$O16*F47 -> #DIV/0! | U16: =+$O16+$O16*H47 -> #DIV/0! | V16: =+$O16+$O16*I47 -> #DIV/0! | W16: =+$O16+$O16*J47 -> #DIV/0! | X16: =+$O16+$O16*K47 -> #DIV/0! | Y16: =+$O16+$O16*L47 -> #DIV/0! | Z16: =+$O16+$O16*M47 -> #DIV/0! | AA16: =+$O16+$O16*B47 -> #DIV/0! | AB16: =+$O16+$O16*C47 -> #DIV/0! | AC16: =+$O16+$O16*D47 -> #DIV/0! | AD16: =+$O16+$O16*E47 -> #DIV/0! | AE16: =+$O16+$O16*F47 -> #DIV/0! | AF16: =SUM(T16:AE16) -> #DIV/0! | AG16: =+AF16-SUM(B16:M16) -> #DIV/0!
A17: (93) CARTERA VENCIDA (Litigiosa) | B17: 21691.79 | C17: 2000 | D17: 19900 | E17: 9207.89 | F17: 20000 | G17: 101184.36 | H17: 6000 | I17: 5000 | J17: 12000 | K17: 6000 | L17: 5000 | M17: 11510 | O17: =+AVERAGE(B17:E17,H17:K17,M17) -> 10367.742 | P17: =+AVERAGE(B17:E17,H17:M17) -> 9830.968 | Q17: =+MAX(B17:E17,H17:M17) -> 21691.79 | R17: =+MEDIAN(B17:E17,H17:M17) -> 7603.945 | S17: =+MIN(B17:E17,G17:M17) -> 2000 | T17: =+$O17+$O17*F48 -> 21092.007 | U17: =+$O17+$O17*H48 -> 6327.6021 | V17: =+$O17+$O17*I48 -> 5273.0017 | W17: =+$O17+$O17*J48 -> 12655.204 | X17: =+$O17+$O17*K48 -> 6327.6021 | Y17: =+$O17+$O17*L48 -> 5273.0017 | Z17: =+$O17+$O17*M48 -> 12138.45 | AA17: =+$O17+$O17*B48 -> 22876.169 | AB17: =+$O17+$O17*C48 -> 2109.2007 | AC17: =+$O17+$O17*D48 -> 20986.547 | AD17: =+$O17+$O17*E48 -> 9710.6439 | AE17: =+$O17+$O17*F48 -> 21092.007 | AF17: =SUM(T17:AE17) -> 145861.44 | AG17: =+AF17-SUM(B17:M17) -> -73632.604
A18: (95) FONDECO EMPRESARIAL | B18: 0 | C18: 0 | D18: 0 | E18: 0 | F18: 0 | G18: 0 | H18: 0 | I18: 0 | J18: 0 | K18: 0 | L18: 0 | M18: 0 | O18: =+AVERAGE(B18:E18,H18:K18,M18) -> 0 | P18: =+AVERAGE(B18:E18,H18:M18) -> 0 | Q18: =+MAX(B18:E18,H18:M18) -> 0 | R18: =+MEDIAN(B18:E18,H18:M18) -> 0 | S18: =+MIN(B18:E18,G18:M18) -> 0 | T18: =+$O18+$O18*F49 -> #DIV/0! | U18: =+$O18+$O18*H49 -> #DIV/0! | V18: =+$O18+$O18*I49 -> #DIV/0! | W18: =+$O18+$O18*J49 -> #DIV/0! | X18: =+$O18+$O18*K49 -> #DIV/0! | Y18: =+$O18+$O18*L49 -> #DIV/0! | Z18: =+$O18+$O18*M49 -> #DIV/0! | AA18: =+$O18+$O18*B49 -> #DIV/0! | AB18: =+$O18+$O18*C49 -> #DIV/0! | AC18: =+$O18+$O18*D49 -> #DIV/0! | AD18: =+$O18+$O18*E49 -> #DIV/0! | AE18: =+$O18+$O18*F49 -> #DIV/0! | AF18: =SUM(T18:AE18) -> #DIV/0! | AG18: =+AF18-SUM(B18:M18) -> #DIV/0!
A19: (94) FOCOMI MYPES | B19: 0 | C19: 4100 | D19: 2566 | E19: 3166 | F19: 3166 | G19: 17864.99 | H19: 3300 | I19: 1300 | J19: 1500 | K19: 2000 | L19: 2000 | M19: 3000 | O19: =+AVERAGE(B19:E19,H19:K19,M19) -> 2325.7778 | P19: =+AVERAGE(B19:E19,H19:M19) -> 2293.2 | Q19: =+MAX(B19:E19,H19:M19) -> 4100 | R19: =+MEDIAN(B19:E19,H19:M19) -> 2283 | S19: =+MIN(B19:E19,G19:M19) -> 0 | T19: =+$O19+$O19*F50 -> 2325.7778 | U19: =+$O19+$O19*H50 -> 2325.7778 | V19: =+$O19+$O19*I50 -> 2325.7778 | W19: =+$O19+$O19*J50 -> 2325.7778 | X19: =+$O19+$O19*K50 -> 2325.7778 | Y19: =+$O19+$O19*L50 -> 2325.7778 | Z19: =+$O19+$O19*M50 -> 2325.7778 | AA19: =+$O19+$O19*B50 -> 2325.7778 | AB19: =+$O19+$O19*C50 -> 2325.7778 | AC19: =+$O19+$O19*D50 -> 2325.7778 | AD19: =+$O19+$O19*E50 -> 2325.7778 | AE19: =+$O19+$O19*F50 -> 2325.7778 | AF19: =SUM(T19:AE19) -> 27909.333 | AG19: =+AF19-SUM(B19:M19) -> -16053.657
A21: SOCIAL | B21: =SUM(B22+B23+B27+B34+B32) -> 118690.57 | C21: =SUM(C22+C23+C27+C34+C32) -> 208883.89 | D21: =SUM(D22+D23+D27+D34+D32) -> 59287.77 | E21: =SUM(E22+E23+E27+E34+E32) -> 7207 | F21: =SUM(F22+F23+F27+F34+F32) -> 22398.8 | G21: =SUM(G22+G23+G27+G34+G32) -> 20630.95 | H21: =SUM(H22+H23+H27+H34+H32) -> 40650.89 | I21: =SUM(I22+I23+I27+I34+I32) -> 23766.64 | ... M21: =SUM(M22+M23+M27+M34+M32) -> 2912.15 | O21: =+AVERAGE(E21:M21) -> 22009.182 | P21: =+AVERAGE(B21:M21) -> 48745.406 | Q21: =+MAX(B21:E21,G21:M21) -> 208883.89 | R21: =+MEDIAN(B21:E21,G21:M21) -> 25648.71 | S21: =+MIN(B21:E21,G21:M21) -> 2912.15 | T21: =+T22+T23+T27+T31+T32+T34 -> #DIV/0! | U21: =+U22+U23+U27+U31+U32+U34 -> #DIV/0! | V21: =+V22+V23+V27+V31+V32+V34 -> #DIV/0! | W21: =+W22+W23+W27+W31+W32+W34 -> #DIV/0! | X21: =+X22+X23+X27+X31+X32+X34 -> #DIV/0! | Y21: =+Y22+Y23+Y27+Y31+Y32+Y34 -> #DIV/0! | Z21: =+Z22+Z23+Z27+Z31+Z32+Z34 -> #DIV/0! | AA21: =+AA22+AA23+AA27+AA31+AA32+AA34 -> #DIV/0! | ... AE21: =+AE22+AE23+AE27+AE31+AE32+AE34 -> #DIV/0! | AF21: =SUM(T21:AE21) -> #DIV/0! | AG21: =+AF21-SUM(B21:M21) -> #DIV/0!
A22: (07) FAC | B22: 0 | C22: 0 | D22: 0 | E22: 0 | F22: 0 | G22: 0 | H22: 0 | I22: 0 | J22: 0 | K22: 0 | L22: 0 | M22: 0 | O22: =+AVERAGE(E22:M22) -> 0 | P22: =+AVERAGE(B22:M22) -> 0 | Q22: =+MAX(B22:E22,G22:M22) -> 0 | R22: =+MEDIAN(B22:E22,G22:M22) -> 0 | S22: =+MIN(B22:E22,G22:M22) -> 0 | T22: =+$O22+$O22*G53 -> #DIV/0! | U22: =+$O22+$O22*H53 -> #DIV/0! | V22: =+$O22+$O22*I53 -> #DIV/0! | W22: =+$O22+$O22*J53 -> #DIV/0! | X22: =+$O22+$O22*K53 -> #DIV/0! | Y22: =+$O22+$O22*L53 -> #DIV/0! | Z22: =+$O22+$O22*M53 -> #DIV/0! | AA22: =+$O22+$O22*B53 -> #DIV/0! | AB22: =+$O22+$O22*C53 -> #DIV/0! | AC22: =+$O22+$O22*D53 -> #DIV/0! | AD22: =+$O22+$O22*E53 -> #DIV/0! | AE22: =+$O22+$O22*F53 -> #DIV/0! | AF22: =SUM(T22:AE22) -> #DIV/0! | AG22: =+AF22-SUM(B22:M22) -> #DIV/0!
A23: FONDO DE MANDATO Y GARANTÍA | B23: =SUM(B24:B26) -> 97756.33 | C23: =SUM(C24:C26) -> 202083.89 | D23: =SUM(D24:D26) -> 10100 | E23: =SUM(E24:E26) -> 2407 | F23: 19798.8 | G23: =SUM(G24:G26) -> 3730.95 | H23: =SUM(H24:H26) -> 0 | I23: =SUM(I24:I26) -> 15566.64 | J23: =SUM(J24:J26) -> 9648.71 | K23: =SUM(K24:K26) -> 94.95 | L23: =SUM(L24:L26) -> 45672.55 | M23: =SUM(M24:M26) -> 812.15 | O23: =+AVERAGE(E23:M23) -> 10859.083 | P23: =+AVERAGE(B23:M23) -> 33972.664 | Q23: =+MAX(B23:E23,G23:M23) -> 202083.89 | R23: =+MEDIAN(B23:E23,G23:M23) -> 9648.71 | S23: =+MIN(B23:E23,G23:M23) -> 0 | T23: =+$O23+$O23*G54 -> 1192.5676 | U23: =+$O23+$O23*H54 -> 0 | V23: =+$O23+$O23*I54 -> 4975.7487 | W23: =+$O23+$O23*J54 -> 3084.131 | X23: =+$O23+$O23*K54 -> 30.349988 | Y23: =+$O23+$O23*L54 -> 14598.856 | Z23: =+$O23+$O23*M54 -> 259.59708 | AA23: =+$O23+$O23*B54 -> 31247.009 | AB23: =+$O23+$O23*C54 -> 64594.457 | AC23: =+$O23+$O23*D54 -> 3228.3821 | AD23: =+$O23+$O23*E54 -> 769.3778 | AE23: =+$O23+$O23*F54 -> 6328.524 | AF23: =SUM(T23:AE23) -> 130309 | AG23: =+AF23-SUM(B23:M23) -> -277362.97
A24: (91) FONDO DE MANDATO (Individual) | B24: 48170.29 | C24: 115014.77 | D24: 0 | E24: 0 | F24: 19378.8 | G24: 3730.95 | H24: 0 | I24: 0 | J24: 0 | K24: 0 | L24: 40358.25 | M24: 0 | O24: =+AVERAGE(E24:M24) -> 7052 | P24: =+AVERAGE(B24:M24) -> 18887.755 | Q24: =+MAX(B24:E24,G24:M24) -> 115014.77 | R24: =+MEDIAN(B24:E24,G24:M24) -> 0 | S24: =+MIN(B24:E24,G24:M24) -> 0 | T24: =+$O24+$O24*G55 -> 1393.0009 | U24: =+$O24+$O24*H55 -> 0 | V24: =+$O24+$O24*I55 -> 0 | W24: =+$O24+$O24*J55 -> 0 | X24: =+$O24+$O24*K55 -> 0 | Y24: =+$O24+$O24*L55 -> 15068.301 | Z24: =+$O24+$O24*M55 -> 0 | AA24: =+$O24+$O24*B55 -> 17985.032 | AB24: =+$O24+$O24*C55 -> 42942.327 | AC24: =+$O24+$O24*D55 -> 0 | AD24: =+$O24+$O24*E55 -> 0 | AE24: =+$O24+$O24*F55 -> 7235.3383 | AF24: =SUM(T24:AE24) -> 84624 | AG24: =+AF24-SUM(B24:M24) -> -142029.06
A25: (91) FONDO DE MANDATO (Organizaciones) | B25: 19291.4 | C25: 4639.97 | D25: 2100 | E25: 0 | F25: 420 | G25: 0 | H25: 0 | I25: 4510.94 | J25: 9648.71 | K25: 94.95 | L25: 5314.3 | M25: 812.15 | O25: =+AVERAGE(E25:M25) -> 2311.2278 | P25: =+AVERAGE(B25:M25) -> 3902.7017 | Q25: =+MAX(B25:E25,G25:M25) -> 19291.4 | R25: =+MEDIAN(B25:E25,G25:M25) -> 2100 | S25: =+MIN(B25:E25,G25:M25) -> 0 | T25: =+$O25+$O25*G56 -> 0 | U25: =+$O25+$O25*H56 -> 0 | V25: =+$O25+$O25*I56 -> 2671.434 | W25: =+$O25+$O25*J56 -> 5714.0844 | X25: =+$O25+$O25*K56 -> 56.230554 | Y25: =+$O25+$O25*L56 -> 3147.1936 | Z25: =+$O25+$O25*M56 -> 480.96519 | AA25: =+$O25+$O25*B56 -> 11424.604 | AB25: =+$O25+$O25*C56 -> 2747.8471 | AC25: =+$O25+$O25*D56 -> 1243.6457 | AD25: =+$O25+$O25*E56 -> 0 | AE25: =+$O25+$O25*F56 -> 248.72915 | AF25: =SUM(T25:AE25) -> 27734.733 | AG25: =+AF25-SUM(B25:M25) -> -19097.687
A26: (91) FONDO DE GARANTÍA | B26: 30294.64 | C26: 82429.15 | D26: 8000 | E26: 2407 | F26: 0 | G26: 0 | H26: 0 | I26: 11055.7 | J26: 0 | K26: 0 | L26: 0 | M26: 0 | O26: =+AVERAGE(E26:M26) -> 1495.8556 | P26: =+AVERAGE(B26:M26) -> 11182.207 | Q26: =+MAX(B26:E26,G26:M26) -> 82429.15 | R26: =+MEDIAN(B26:E26,G26:M26) -> 0 | S26: =+MIN(B26:E26,G26:M26) -> 0 | T26: =+$O26+$O26*G57 -> 0 | U26: =+$O26+$O26*H57 -> 0 | V26: =+$O26+$O26*I57 -> 1478.9325 | W26: =+$O26+$O26*J57 -> 0 | X26: =+$O26+$O26*K57 -> 0 | Y26: =+$O26+$O26*L57 -> 0 | Z26: =+$O26+$O26*M57 -> 0 | AA26: =+$O26+$O26*B57 -> 4052.5456 | AB26: =+$O26+$O26*C57 -> 11026.633 | AC26: =+$O26+$O26*D57 -> 1070.1683 | AD26: =+$O26+$O26*E57 -> 321.9869 | AE26: =+$O26+$O26*F57 -> 0 | AF26: =SUM(T26:AE26) -> 17950.267 | AG26: =+AF26-SUM(B26:M26) -> -116236.22
A27: FONDECO D.F. | B27: =SUM(B28+B31) -> 20934.24 | C27: =SUM(C28+C31) -> 6800 | D27: =SUM(D28+D31) -> 49187.77 | E27: =SUM(E28+E31) -> 4800 | F27: 2600 | G27: =SUM(G28+G31) -> 16900 | H27: =SUM(H28+H31) -> 40650.89 | I27: =SUM(I28+I31) -> 8200 | J27: =SUM(J28+J31) -> 16000 | K27: =SUM(K28+K31) -> 3600 | L27: =SUM(L28+L31) -> 5500 | M27: =SUM(M28+M31) -> 2100 | O27: =+AVERAGE(E27:M27) -> 11150.099 | P27: =+AVERAGE(B27:M27) -> 14772.742 | Q27: =+MAX(B27:E27,G27:M27) -> 49187.77 | R27: =+MEDIAN(B27:E27,G27:M27) -> 8200 | S27: =+MIN(B27:E27,G27:M27) -> 2100 | T27: =+$O27+$O27*G58 -> 12755.701 | U27: =+$O27+$O27*H58 -> 30682.283 | V27: =+$O27+$O27*I58 -> 6189.1566 | W27: =+$O27+$O27*J58 -> 12076.403 | X27: =+$O27+$O27*K58 -> 2717.1907 | Y27: =+$O27+$O27*L58 -> 4151.2635 | Z27: =+$O27+$O27*M58 -> 1585.0279 | AA27: =+$O27+$O27*B58 -> 15800.645 | AB27: =+$O27+$O27*C58 -> 5132.4713 | AC27: =+$O27+$O27*D58 -> 37125.708 | AD27: =+$O27+$O27*E58 -> 3622.9209 | AE27: =+$O27+$O27*F58 -> 1962.4155 | AF27: =SUM(T27:AE27) -> 133801.19 | AG27: =+AF27-SUM(B27:M27) -> -43471.713
A28: (93) FONDECO MYPES Federal | B28: =SUM(B29:B30) -> 20934.24 | C28: =SUM(C29:C30) -> 6800 | D28: =SUM(D29:D30) -> 49187.77 | E28: 4800 | F28: 2600 | G28: =SUM(G29:G30) -> 16900 | H28: =SUM(H29:H30) -> 40650.89 | I28: =SUM(I29:I30) -> 8200 | J28: =SUM(J29:J30) -> 16000 | K28: =SUM(K29:K30) -> 3600 | L28: =SUM(L29:L30) -> 5500 | M28: =SUM(M29:M30) -> 2100 | O28: =+AVERAGE(E28:M28) -> 11150.099 | P28: =+AVERAGE(B28:M28) -> 14772.742 | Q28: =+MAX(B28:E28,G28:M28) -> 49187.77 | R28: =+MEDIAN(B28:E28,G28:M28) -> 8200 | S28: =+MIN(B28:E28,G28:M28) -> 2100 | T28: =+$O28+$O28*G59 -> 12755.701 | U28: =+$O28+$O28*H59 -> 30682.283 | V28: =+$O28+$O28*I59 -> 6189.1566 | W28: =+$O28+$O28*J59 -> 12076.403 | X28: =+$O28+$O28*K59 -> 2717.1907 | Y28: =+$O28+$O28*L59 -> 4151.2635 | Z28: =+$O28+$O28*M59 -> 1585.0279 | AA28: =+$O28+$O28*B59 -> 15800.645 | AB28: =+$O28+$O28*C59 -> 5132.4713 | AC28: =+$O28+$O28*D59 -> 37125.708 | AD28: =+$O28+$O28*E59 -> 3622.9209 | AE28: =+$O28+$O28*F59 -> 1962.4155 | AF28: =SUM(T28:AE28) -> 133801.19 | AG28: =+AF28-SUM(B28:M28) -> -43471.713
A29: (93) CARTERA VIGENTE | B29: 0 | C29: 0 | D29: 0 | E29: 0 | F29: 0 | G29: 0 | H29: 0 | I29: 0 | J29: 0 | K29: 0 | L29: 0 | M29: 0 | O29: =+AVERAGE(E29:M29) -> 0 | P29: =+AVERAGE(B29:M29) -> 0 | Q29: =+MAX(B29:E29,G29:M29) -> 0 | R29: =+MEDIAN(B29:E29,G29:M29) -> 0 | S29: =+MIN(B29:E29,G29:M29) -> 0 | T29: =+$O29+$O29*G60 -> #DIV/0! | U29: =+$O29+$O29*H60 -> #DIV/0! | V29: =+$O29+$O29*I60 -> #DIV/0! | W29: =+$O29+$O29*J60 -> #DIV/0! | X29: =+$O29+$O29*K60 -> #DIV/0! | Y29: =+$O29+$O29*L60 -> #DIV/0! | Z29: =+$O29+$O29*M60 -> #DIV/0! | AA29: =+$O29+$O29*B60 -> #DIV/0! | AB29: =+$O29+$O29*C60 -> #DIV/0! | AC29: =+$O29+$O29*D60 -> #DIV/0! | AD29: =+$O29+$O29*E60 -> #DIV/0! | AE29: =+$O29+$O29*F60 -> #DIV/0! | AF29: =SUM(T29:AE29) -> #DIV/0! | AG29: =+AF29-SUM(B29:M29) -> #DIV/0!
A30: (93) CARTERA VENCIDA (Litigiosa) | B30: 20934.24 | C30: 6800 | D30: 49187.77 | E30: 4800 | F30: 2600 | G30: 16900 | H30: 40650.89 | I30: 8200 | J30: 16000 | K30: 3600 | L30: 5500 | M30: 2100 | O30: =+AVERAGE(E30:M30) -> 11150.099 | P30: =+AVERAGE(B30:M30) -> 14772.742 | Q30: =+MAX(B30:E30,G30:M30) -> 49187.77 | R30: =+MEDIAN(B30:E30,G30:M30) -> 8200 | S30: =+MIN(B30:E30,G30:M30) -> 2100 | T30: =+$O30+$O30*G61 -> 12755.701 | U30: =+$O30+$O30*H61 -> 30682.283 | V30: =+$O30+$O30*I61 -> 6189.1566 | W30: =+$O30+$O30*J61 -> 12076.403 | X30: =+$O30+$O30*K61 -> 2717.1907 | Y30: =+$O30+$O30*L61 -> 4151.2635 | Z30: =+$O30+$O30*M61 -> 1585.0279 | AA30: =+$O30+$O30*B61 -> 15800.645 | AB30: =+$O30+$O30*C61 -> 5132.4713 | AC30: =+$O30+$O30*D61 -> 37125.708 | AD30: =+$O30+$O30*E61 -> 3622.9209 | AE30: =+$O30+$O30*F61 -> 1962.4155 | AF30: =SUM(T30:AE30) -> 133801.19 | AG30: =+AF30-SUM(B30:M30) -> -43471.713
A31: (97) FONDECO MICROCRÉDITOS | B31: 0 | C31: 0 | D31: 0 | E31: 0 | F31: 0 | G31: 0 | H31: 0 | I31: 0 | J31: 0 | K31: 0 | L31: 0 | M31: 0 | O31: =+AVERAGE(E31:M31) -> 0 | P31: =+AVERAGE(B31:M31) -> 0 | Q31: =+MAX(B31:E31,G31:M31) -> 0 | R31: =+MEDIAN(B31:E31,G31:M31) -> 0 | S31: =+MIN(B31:E31,G31:M31) -> 0 | T31: =+$O31+$O31*G62 -> #DIV/0! | U31: =+$O31+$O31*H62 -> #DIV/0! | V31: =+$O31+$O31*I62 -> #DIV/0! | W31: =+$O31+$O31*J62 -> #DIV/0! | X31: =+$O31+$O31*K62 -> #DIV/0! | Y31: =+$O31+$O31*L62 -> #DIV/0! | Z31: =+$O31+$O31*M62 -> #DIV/0! | AA31: =+$O31+$O31*B62 -> #DIV/0! | AB31: =+$O31+$O31*C62 -> #DIV/0! | AC31: =+$O31+$O31*D62 -> #DIV/0! | AD31: =+$O31+$O31*E62 -> #DIV/0! | AE31: =+$O31+$O31*F62 -> #DIV/0! | AF31: =SUM(T31:AE31) -> #DIV/0! | AG31: =+AF31-SUM(B31:M31) -> #DIV/0!
A32: (96) FOCOMI MICROCRÉDITOS | B32: 0 | C32: 0 | D32: 0 | E32: 0 | F32: 0 | G32: 0 | H32: 0 | I32: 0 | J32: 0 | K32: 0 | L32: 0 | M32: 0 | O32: =+AVERAGE(E32:M32) -> 0 | P32: =+AVERAGE(B32:M32) -> 0 | Q32: =+MAX(B32:E32,G32:M32) -> 0 | R32: =+MEDIAN(B32:E32,G32:M32) -> 0 | S32: =+MIN(B32:E32,G32:M32) -> 0 | T32: =+$O32+$O32*G63 -> #DIV/0! | U32: =+$O32+$O32*H63 -> #DIV/0! | V32: =+$O32+$O32*I63 -> #DIV/0! | W32: =+$O32+$O32*J63 -> #DIV/0! | X32: =+$O32+$O32*K63 -> #DIV/0! | Y32: =+$O32+$O32*L63 -> #DIV/0! | Z32: =+$O32+$O32*M63 -> #DIV/0! | AA32: =+$O32+$O32*B63 -> #DIV/0! | AB32: =+$O32+$O32*C63 -> #DIV/0! | AC32: =+$O32+$O32*D63 -> #DIV/0! | AD32: =+$O32+$O32*E63 -> #DIV/0! | AE32: =+$O32+$O32*F63 -> #DIV/0! | AF32: =SUM(T32:AE32) -> #DIV/0! | AG32: =+AF32-SUM(B32:M32) -> #DIV/0!
A34: OTRAS | B34: =SUM(B35:B38) -> 0 | C34: =SUM(C35:C38) -> 0 | D34: 0 | E34: 0 | F34: 0 | G34: =SUM(G35:G38) -> 0 | H34: =SUM(H35:H38) -> 0 | I34: =SUM(I35:I38) -> 0 | J34: =SUM(J35:J38) -> 0 | K34: =SUM(K35:K38) -> 0 | L34: =SUM(L35:L38) -> 0 | M34: =SUM(M35:M38) -> 0 | O34: 0 | P34: =+AVERAGE(B34:M34) -> 0 | Q34: =+MAX(B34:E34,G34:M34) -> 0 | R34: =+MEDIAN(B34:E34,G34:M34) -> 0 | S34: =+MIN(B34:E34,G34:M34) -> 0 | T34: =+$O34+$O34*G65 -> #DIV/0! | U34: =+$O34+$O34*H65 -> #DIV/0! | V34: =+$O34+$O34*I65 -> #DIV/0! | W34: =+$O34+$O34*J65 -> #DIV/0! | X34: =+$O34+$O34*K65 -> #DIV/0! | Y34: =+$O34+$O34*L65 -> #DIV/0! | Z34: =+$O34+$O34*M65 -> #DIV/0! | AA34: =+$O34+$O34*B65 -> #DIV/0! | AB34: =+$O34+$O34*C65 -> #DIV/0! | AC34: =+$O34+$O34*D65 -> #DIV/0! | AD34: =+$O34+$O34*E65 -> #DIV/0! | AE34: =+$O34+$O34*F65 -> #DIV/0! | AF34: =SUM(T34:AE34) -> #DIV/0! | AG34: =+AF34-SUM(B34:M34) -> #DIV/0!
