Workbook

Sheet BANCARIA
A1: FIDEICOMISO DE RECUPERACIÓN CREDITICIA DEL DISTRITO FEDERAL FIDERE III
A2: RECUPERACIÓN DEL PERÍODO JULIO 2015 - JULIO 2016
A3: MILES DE PESOS
B5: 2015 | G5: 2 0 1 6
A6: CARTERA | Q6: SIN CONTAR DICIEMBRE 2015 | T6: 2017
B7: AGOSTO | C7: SEPTIEMBRE | D7: OCTUBRE | E7: NOVIEMBRE | F7: DICIEMBRE | G7: ENERO | H7: FEBRERO | I7: MARZO | J7: ABRIL | K7: MAYO | L7: JUNIO | M7: JULIO | N7: B C D E F G H I J K L M | O7: PROMEDIO REAL | P7: PROMEDIO GENERAL | Q7: MAXIMO | R7: MEDIA | S7: MINIMO | T7: ENERO | U7: FEBRERO | V7: MARZO | W7: ABRIL | X7: MAYO | Y7: JUNIO | Z7: JULIO | AA7: AGOSTO | AB7: SEPTIEMBRE | AC7: OCTUBRE | AD7: NOVIEMBRE | AE7: DICIEMBRE | AF7: TOTAL | AG7: VARIACION
N8: AGO SEP OCT NOV DIC ENE FEB MAR ABR MAY JUN JUL
A9: BANCARIA | B9: =SUM(B10:B11) -> 1843750.6 | C9: =SUM(C10:C11) -> 2251119.5 | D9: =SUM(D10:D11) -> 1920511.5 | E9: =SUM(E10:E11) -> 1840485.4 | F9: =SUM(F10:F11) -> 1919007.4 | G9: =SUM(G10:G11) -> 1404941.8 | H9: =SUM(H10:H11) -> 1802832.2 | I9: =SUM(I10:I11) -> 1362574 | ... M9: =SUM(M10:M11) -> 1376262.6 | O9: =+AVERAGE(G9,I9,K9,L9,M9) -> 1394356.8 | P9: =+AVERAGE(B9:M9) -> 1701656.2 | Q9: =+MAX(B9:M9) -> 2251119.5 | R9: =+MEDIAN(B9:M9) -> 1821658.8 | S9: =+MIN(B9,E9,G9:J9,L9:M9) -> 1362574 | T9: =SUM(T10:T11) -> 1273671.4 | U9: =SUM(U10:U11) -> 1396344.9 | V9: =SUM(V10:V11) -> 1201948.5 | W9: =SUM(W10:W11) -> 1141812.7 | X9: =SUM(X10:X11) -> 1231733.2 | Y9: =SUM(Y10:Y11) -> 2059666.8 | Z9: =SUM(Z10:Z11) -> 922393.56 | AA9: =SUM(AA10:AA11) -> 1223166 | ... AE9: =SUM(AE10:AE11) -> 1551843.3 | AF9: =SUM(T9:AE9) -> 16732282 | AG9: =+AF9-SUM(B9:M9) -> -3687592.9
A10: (15) BANAMEX | B10: 1692936 | C10: 2039978.7 | D10: 1671651.8 | E10: 1696622.9 | F10: 1721250.8 | G10: 1246914.1 | H10: 1627284 | I10: 1214789.8 | J10: 1731188.5 | K10: 1019895.2 | L10: 1385787.9 | M10: 1268404.7 | O10: =+AVERAGE(G10,I10,K10,L10,M10) -> 1227158.3 | P10: =+AVERAGE(B10:M10) -> 1526392 | Q10: =+MAX(B10:M10) -> 2039978.7 | R10: =+MEDIAN(B10:M10) -> 1649467.9 | S10: =+MIN(B10,E10,G10:J10,L10:M10) -> 1214789.8 | T10: =+$O10+$O10*G14 -> 1106472.9 | U10: =+$O10+$O10*H14 -> 1229146.4 | V10: =+$O10+$O10*I14 -> 1034750 | W10: =+$O10+$O10*J14 -> 974614.21 | X10: =+$O10+$O10*K14 -> 1064534.7 | Y10: =+$O10+$O10*L14 -> 1892468.3 | Z10: =+$O10+$O10*M14 -> 755195.07 | AA10: =+$O10+$O10*B14 -> 1055967.6 | AB10: =+$O10+$O10*C14 -> 1478358.1 | AC10: =+$O10+$O10*D14 -> 1742456.6 | AD10: =+$O10+$O10*E14 -> 1007291.4 | AE10: =+$O10+$O10*F14 -> 1384644.9 | AF10: =SUM(T10:AE10) -> 14725900 | AG10: =+AF10-SUM(B10:M10) -> -3590804.4
A11: (13) BANORTE (BANCRECER) | B11: 150814.53 | C11: 211140.84 | D11: 248859.71 | E11: 143862.55 | F11: 197756.61 | G11: 158027.76 | H11: 175548.14 | I11: 147784.21 | J11: 139195.55 | K11: 152038.1 | L11: 270284.55 | M11: 107857.85 | O11: =+AVERAGE(G11,I11,K11,L11,M11) -> 167198.49 | P11: =+AVERAGE(B11:M11) -> 175264.2 | Q11: =+MAX(B11:M11) -> 270284.55 | R11: =+MEDIAN(B11:M11) -> 155032.93 | S11: =+MIN(B11,E11,G11:J11,L11:M11) -> 107857.85 | T11: =+$O11+$O11*G15 -> 167198.49 | U11: =+$O11+$O11*H15 -> 167198.49 | V11: =+$O11+$O11*I15 -> 167198.49 | W11: =+$O11+$O11*J15 -> 167198.49 | X11: =+$O11+$O11*K15 -> 167198.49 | Y11: =+$O11+$O11*L15 -> 167198.49 | Z11: =+$O11+$O11*M15 -> 167198.49 | AA11: =+$O11+$O11*NA5 -> 167198.49 | AB11: =+$O11+$O11*NB5 -> 167198.49 | AC11: =+$O11+$O11*NC5 -> 167198.49 | AD11: =+$O11+$O11*ND5 -> 167198.49 | AE11: =+$O11+$O11*NE5 -> 167198.49 | AF11: =SUM(T11:AE11) -> 2006381.9 | AG11: =+AF11-SUM(B11:M11) -> -96788.472
A13: PORCENTAJE DE INCREMENTO O DECREMENTO ANTE EL PROMEDIO | B13: =+B10/$P10*1-1 -> 0.10910957 | C13: =+C10/$P10*1-1 -> 0.33647101 | D13: =+D10/$P10*1-1 -> 0.095165436 | E13: =+E10/$P10*1-1 -> 0.11152496 | F13: =+F10/$P10*1-1 -> 0.12765973 | G13: =+G10/$P10*1-1 -> -0.1830971 | H13: =+H10/$P10*1-1 -> 0.066098342 | I13: =+I10/$P10*1-1 -> -0.20414297 | ... M13: =+M10/$P10*1-1 -> -0.16901774
B14: =+B11/$P11*1-1 -> -0.13950179 | C14: =+C11/$P11*1-1 -> 0.20470033 | D14: =+D11/$P11*1-1 -> 0.41991182 | E14: =+E11/$P11*1-1 -> -0.17916751 | F14: =+F11/$P11*1-1 -> 0.12833431 | G14: =+G11/$P11*1-1 -> -0.098345469 | H14: =+H11/$P11*1-1 -> 0.0016200684 | I14: =+I11/$P11*1-1 -> -0.1567918 | ... M14: =+M11/$P11*1-1 -> -0.38459851
A18: * SE TOMÓ EN CUENTA LA RECUPERACION DE UN AÑO, DE AGOSTO 2015 A JULIO 2016

Sheet GUBERNAMENTAL
A1: FIDEICOMISO DE RECUPERACIÓN CREDITICIA DEL DISTRITO FEDERAL FIDERE III
A2: RECUPERACIÓN DEL PERÍODO JULIO 2015 - JULIO 2016
A3: MILES DE PESOS
B5: 2015 | G5: 2 0 1 6
A6: CARTERA | Q6: SIN CONTAR DICIEMBRE 2015 | T6: 2017
B7: AGOSTO | C7: SEPTIEMBRE | D7: OCTUBRE | E7: NOVIEMBRE | F7: DICIEMBRE | G7: ENERO | H7: FEBRERO | I7: MARZO | J7: ABRIL | K7: MAYO | L7: JUNIO | M7: JULIO | N7: B C D E F G H I J K L M | O7: PROMEDIO REAL | P7: PROMEDIO GENERAL | Q7: MAXIMO | R7: MEDIA | S7: MINIMO | T7: ENERO | U7: FEBRERO | V7: MARZO | W7: ABRIL | X7: MAYO | Y7: JUNIO | Z7: JULIO | AA7: AGOSTO | AB7: SEPTIEMBRE | AC7: OCTUBRE | AD7: NOVIEMBRE | AE7: DICIEMBRE | AF7: TOTAL | AG7: VARIACION
N8: AGO SEP OCT NOV DIC ENE FEB MAR ABR MAY JUN JUL
A9: GUBERNAMENTAL | B9: =SUM(B10+B18+B33) -> 84389184 | C9: =SUM(C10+C18+C33) -> 83836384 | D9: =SUM(D10+D18+D33) -> 80230781 | E9: =SUM(E10+E18+E33) -> 82099266 | F9: 1.0993904e+08 | G9: =SUM(G10+G18+G33) -> 90218854 | H9: =SUM(H10+H18+H33) -> 95306921 | I9: =SUM(I10+I18+I33) -> 93231354 | J9: =SUM(J10+J18+J33) -> 89121722 | K9: =SUM(K10+K18+K33) -> 91605468 | L9: =SUM(L10+L18+L33) -> 91488218 | M9: =SUM(M10+M18+M33) -> 88079380 | O9: =+O10+O18+O33 -> 89033195 | P9: =+P10+P18+P33 -> 88146139 | Q9: =+Q10+Q18+Q33 -> 96064431 | R9: =+R10+R18+R33 -> 89205049 | S9: =+S10+S18+S33 -> 79944396 | T9: =SUM(T10+T18+T33) -> 91121504 | U9: =SUM(U10+U18+U33) -> 96250777 | V9: =SUM(V10+V18+V33) -> 94140062 | W9: =SUM(W10+W18+W33) -> 90004188 | X9: =SUM(X10+X18+X33) -> 92495718 | Y9: =SUM(Y10+Y18+Y33) -> 92428985 | Z9: =SUM(Z10+Z18+Z33) -> 88988116 | AA9: =SUM(AA10+AA18+AA33) -> 85262693 | ... AD9: =SUM(AD10+AD18+AD33) -> 82946825 | AE9: 1.0993904e+08 | AF9: =SUM(T9:AE9) -> 1.0893042e+09 | AG9: =+AF9-SUM(B9:M9) -> 9757614.1
A10: FIVIDESU | B10: =SUM(B11:B16) -> 1270655.8 | C10: =SUM(C11:C16) -> 1293315.3 | D10: =SUM(D11:D16) -> 807857.54 | E10: =SUM(E11:E16) -> 1244553.3 | F10: 2200352.1 | G10: =SUM(G11:G16) -> 1036161.8 | H10: =SUM(H11:H16) -> 1032666.2 | I10: =SUM(I11:I16) -> 843991.7 | J10: =SUM(J11:J16) -> 920419.23 | K10: =SUM(K11:K16) -> 761407.55 | L10: =SUM(L11:L16) -> 1364212.5 | M10: =SUM(M11:M16) -> 1332594.3 | O10: =+AVERAGE(B10:C10,E10,G10:H10,J10,L10:M10) -> 1186822.3 | P10: =+AVERAGE(B10:E10,G10:M10) -> 1082530.5 | Q10: =+MAX(B10:E10,G10:M10) -> 1364212.5 | R10: =+MEDIAN(B10:E10,G10:M10) -> 1036161.8 | S10: =+MIN(B10:E10,G10:J10,L10:M10) -> 807857.54 | T10: =+$O10+$O10*G84 -> 1135986.5 | U10: =+$O10+$O10*H84 -> 1132154.1 | V10: =+$O10+$O10*I84 -> 925302.52 | W10: =+$O10+$O10*J84 -> 1009093.1 | X10: =+$O10+$O10*K84 -> 834762.15 | Y10: =+$O10+$O10*L84 -> 1495641.8 | Z10: =+$O10+$O10*M84 -> 1460977.5 | AA10: =+$O10+$O10*B84 -> 1393071.8 | AB10: =+$O10+$O10*C84 -> 1417914.3 | AC10: =+$O10+$O10*D84 -> 885687.17 | AD10: =+$O10+$O10*E84 -> 1364454.5 | AE10: =+$O10+$O10*F84 -> 2412335.7 | AF10: =SUM(T10:AE10) -> 15467381 | AG10: =+AF10-SUM(B10:M10) -> 1359193.8
A11: (34) ORDINARIO CONDICIONES 02, 03, 04, 05, y 07 | B11: 1060569.9 | C11: 1243934.9 | D11: 691050.39 | E11: 1019204.5 | F11: 2055118.5 | G11: 970769.8 | H11: 959588.99 | I11: 748636.02 | J11: 842130.82 | K11: 701857.72 | L11: 982864.07 | M11: 1027852.6 | O11: =+AVERAGE(B11:C11,E11,G11:H11,J11,L11:M11) -> 1013364.5 | P11: =+AVERAGE(B11:E11,G11:M11) -> 931678.16 | Q11: =+MAX(B11:E11,G11:M11) -> 1243934.9 | R11: =+MEDIAN(B11:E11,G11:M11) -> 970769.8 | S11: =+MIN(B11:E11,G11:J11,L11:M11) -> 691050.39 | T11: =+$O11+$O11*G85 -> 1055883.5 | U11: =+$O11+$O11*H85 -> 1043722.4 | V11: =+$O11+$O11*I85 -> 814273.82 | W11: =+$O11+$O11*J85 -> 915965.91 | X11: =+$O11+$O11*K85 -> 763394.16 | Y11: =+$O11+$O11*L85 -> 1069038.2 | Z11: =+$O11+$O11*M85 -> 1117971.1 | AA11: =+$O11+$O11*B85 -> 1153557 | AB11: =+$O11+$O11*C85 -> 1352998.8 | AC11: =+$O11+$O11*D85 -> 751639.28 | AD11: =+$O11+$O11*E85 -> 1108564.8 | AE11: =+$O11+$O11*F85 -> 2235304.2 | AF11: =SUM(T11:AE11) -> 13382313 | AG11: =+AF11-SUM(B11:M11) -> 1078734.8
A12: (54) FOVI - 7 DE JULIO | B12: 0 | C12: 0 | D12: 0 | E12: 0 | F12: 0 | G12: 0 | H12: 0 | I12: 0 | J12: 0 | K12: 0 | L12: 0 | M12: 0 | O12: =+AVERAGE(B12:C12,E12,G12:H12,J12,L12:M12) -> 0 | P12: =+AVERAGE(B12:E12,G12:M12) -> 0 | Q12: =+MAX(B12:E12,G12:M12) -> 0 | R12: =+MEDIAN(B12:E12,G12:M12) -> 0 | S12: =+MIN(B12:E12,G12:J12,L12:M12) -> 0 | T12: =+$O12+$O12*G86 -> #DIV/0! | U12: =+$O12+$O12*H86 -> #DIV/0! | V12: =+$O12+$O12*I86 -> #DIV/0! | W12: =+$O12+$O12*J86 -> #DIV/0! | X12: =+$O12+$O12*K86 -> #DIV/0! | Y12: =+$O12+$O12*L86 -> #DIV/0! | Z12: =+$O12+$O12*M86 -> #DIV/0! | AA12: =+$O12+$O12*B86 -> #DIV/0! | AB12: =+$O12+$O12*C86 -> #DIV/0! | AC12: =+$O12+$O12*D86 -> #DIV/0! | AD12: =+$O12+$O12*E86 -> #DIV/0! | AE12: =+$O12+$O12*F86 -> #DIV/0! | AF12: =SUM(T12:AE12) -> #DIV/0! | AG12: =+AF12-SUM(B12:M12) -> #DIV/0!
A13: (55) FOVI - PLUTARCO ELÍAS CALLES | B13: 15759.01 | C13: 7930.49 | D13: 19682.64 | E13: 7924.77 | F13: 19519.13 | G13: 10827.92 | H13: 10035.06 | I13: 20176.91 | J13: 13572.72 | K13: 11025.38 | L13: 19941.86 | M13: 14069.27 | O13: =+AVERAGE(B13:C13,E13,G13:H13,J13,L13:M13) -> 12507.638 | P13: =+AVERAGE(B13:E13,G13:M13) -> 13722.366 | Q13: =+MAX(B13:E13,G13:M13) -> 20176.91 | R13: =+MEDIAN(B13:E13,G13:M13) -> 13572.72 | S13: =+MIN(B13:E13,G13:J13,L13:M13) -> 7924.77 | T13: =+$O13+$O13*G87 -> 9869.4128 | U13: =+$O13+$O13*H87 -> 9146.7382 | V13: =+$O13+$O13*I87 -> 18390.813 | W13: =+$O13+$O13*J87 -> 12371.238 | X13: =+$O13+$O13*K87 -> 10049.393 | Y13: =+$O13+$O13*L87 -> 18176.57 | Z13: =+$O13+$O13*M87 -> 12823.833 | AA13: =+$O13+$O13*B87 -> 14363.994 | AB13: =+$O13+$O13*C87 -> 7228.4686 | AC13: =+$O13+$O13*D87 -> 17940.297 | AD13: =+$O13+$O13*E87 -> 7223.2549 | AE13: =+$O13+$O13*F87 -> 17791.261 | AF13: =SUM(T13:AE13) -> 155375.27 | AG13: =+AF13-SUM(B13:M13) -> -15089.886
A14: (56) RESCATE FINANCIERO | B14: 37503.72 | C14: 28641.94 | D14: 43646.47 | E14: 25257.76 | F14: 49854.89 | G14: 33972.22 | H14: 44922.04 | I14: 53651.48 | J14: 49182.91 | K14: 32182.51 | L14: 164124.79 | M14: 38370.15 | O14: =+AVERAGE(B14:C14,E14,G14:H14,J14,L14:M14) -> 52746.941 | P14: =+AVERAGE(B14:E14,G14:M14) -> 50132.363 | Q14: =+MAX(B14:E14,G14:M14) -> 164124.79 | R14: =+MEDIAN(B14:E14,G14:M14) -> 38370.15 | S14: =+MIN(B14:E14,G14:J14,L14:M14) -> 25257.76 | T14: =+$O14+$O14*G88 -> 35743.99 | U14: =+$O14+$O14*H88 -> 47264.882 | V14: =+$O14+$O14*I88 -> 56449.593 | W14: =+$O14+$O14*J88 -> 51747.971 | X14: =+$O14+$O14*K88 -> 33860.941 | Y14: =+$O14+$O14*L88 -> 172684.47 | Z14: =+$O14+$O14*M88 -> 40371.288 | AA14: =+$O14+$O14*B88 -> 39459.671 | AB14: =+$O14+$O14*C88 -> 30135.718 | AC14: =+$O14+$O14*D88 -> 45922.786 | AD14: =+$O14+$O14*E88 -> 26575.041 | AE14: =+$O14+$O14*F88 -> 52454.997 | AF14: =SUM(T14:AE14) -> 632671.35 | AG14: =+AF14-SUM(B14:M14) -> 31360.471
A15: (66) MEJORAMIENTO DE VIVIENDA | B15: 0 | C15: 0 | D15: 0 | E15: 0 | F15: 0 | G15: 0 | H15: 0 | I15: 0 | J15: 0 | K15: 0 | L15: 0 | M15: 0 | O15: =+AVERAGE(B15:C15,E15,G15:H15,J15,L15:M15) -> 0 | P15: =+AVERAGE(B15:E15,G15:M15) -> 0 | Q15: =+MAX(B15:E15,G15:M15) -> 0 | R15: =+MEDIAN(B15:E15,G15:M15) -> 0 | S15: =+MIN(B15:E15,G15:J15,L15:M15) -> 0 | T15: =+$O15+$O15*G89 -> #DIV/0! | U15: =+$O15+$O15*H89 -> #DIV/0! | V15: =+$O15+$O15*I89 -> #DIV/0! | W15: =+$O15+$O15*J89 -> #DIV/0! | X15: =+$O15+$O15*K89 -> #DIV/0! | Y15: =+$O15+$O15*L89 -> #DIV/0! | Z15: =+$O15+$O15*M89 -> #DIV/0! | AA15: =+$O15+$O15*B89 -> #DIV/0! | AB15: =+$O15+$O15*C89 -> #DIV/0! | AC15: =+$O15+$O15*D89 -> #DIV/0! | AD15: =+$O15+$O15*E89 -> #DIV/0! | AE15: =+$O15+$O15*F89 -> #DIV/0! | AF15: =SUM(T15:AE15) -> #DIV/0! | AG15: =+AF15-SUM(B15:M15) -> #DIV/0!
A16: (AN) ADQUISICIÓN DE VIVIENDA INVI - FIVIDESU | B16: 156823.16 | C16: 12807.96 | D16: 53478.04 | E16: 192166.29 | F16: 75859.52 | G16: 20591.88 | H16: 18120.12 | I16: 21527.29 | J16: 15532.78 | K16: 16341.94 | L16: 197281.76 | M16: 252302.27 | O16: =+AVERAGE(B16:C16,E16,G16:H16,J16,L16:M16) -> 108203.28 | P16: =+AVERAGE(B16:E16,G16:M16) -> 86997.59 | Q16: =+MAX(B16:E16,G16:M16) -> 252302.27 | R16: =+MEDIAN(B16:E16,G16:M16) -> 21527.29 | S16: =+MIN(B16:E16,G16:J16,L16:M16) -> 12807.96 | T16: =+$O16+$O16*G90 -> 25611.157 | U16: =+$O16+$O16*H90 -> 22536.904 | V16: =+$O16+$O16*I90 -> 26774.573 | W16: =+$O16+$O16*J90 -> 19318.9 | X16: =+$O16+$O16*K90 -> 20325.293 | Y16: =+$O16+$O16*L90 -> 245369.25 | Z16: =+$O16+$O16*M90 -> 313801.02 | AA16: =+$O16+$O16*B90 -> 195048.85 | AB16: =+$O16+$O16*C90 -> 15929.904 | AC16: =+$O16+$O16*D90 -> 66513.328 | AD16: =+$O16+$O16*E90 -> 239006.88 | AE16: =+$O16+$O16*F90 -> 94350.3 | AF16: =SUM(T16:AE16) -> 1284586.4 | AG16: =+AF16-SUM(B16:M16) -> 251753.34
A18: FICAPRO | B18: =SUM(B19:B31) -> 645050.72 | C18: =SUM(C19:C31) -> 290852.96 | D18: =SUM(D19:D31) -> 496259.74 | E18: =SUM(E19:E31) -> 424796.71 | F18: 323349.11 | G18: =SUM(G19:G31) -> 483433.01 | H18: =SUM(H19:H31) -> 219086.6 | I18: =SUM(I19:I31) -> 209874.58 | J18: =SUM(J19:J31) -> 464625.59 | K18: =SUM(K19:K31) -> 432209.29 | L18: =SUM(L19:L31) -> 355121.15 | M18: =SUM(M19:M31) -> 433188.49 | O18: =+AVERAGE(B18:C18,E18,G18:H18,J18,L18:M18) -> 414519.4 | P18: =+AVERAGE(B18:E18,G18:M18) -> 404954.44 | Q18: =+MAX(B18:E18,G18:M18) -> 645050.72 | R18: =+MEDIAN(B18:E18,G18:M18) -> 432209.29 | S18: =+MIN(B18:E18,G18:J18,L18:M18) -> 209874.58 | T18: =+$O18+$O18*G92 -> 494851.63 | U18: =+$O18+$O18*H92 -> 224261.39 | V18: =+$O18+$O18*I92 -> 214831.79 | W18: =+$O18+$O18*J92 -> 475599.98 | X18: =+$O18+$O18*K92 -> 442418.01 | Y18: =+$O18+$O18*L92 -> 363509.06 | Z18: =+$O18+$O18*M92 -> 443420.34 | AA18: =+$O18+$O18*B92 -> 660286.72 | AB18: =+$O18+$O18*C92 -> 297722.86 | AC18: =+$O18+$O18*D92 -> 507981.32 | AD18: =+$O18+$O18*E92 -> 434830.35 | AE18: =+$O18+$O18*F92 -> 330986.57 | AF18: =SUM(T18:AE18) -> 4890700 | AG18: =+AF18-SUM(B18:M18) -> 112852.06
A19: (10) BANOBRAS | B19: 0 | C19: 0 | D19: 0 | E19: 0 | F19: 0 | G19: 0 | H19: 0 | I19: 0 | J19: 0 | K19: 0 | L19: 0 | M19: 0 | O19: =+AVERAGE(B19:C19,E19,G19:H19,J19,L19:M19) -> 0 | P19: =+AVERAGE(B19:E19,G19:M19) -> 0 | Q19: =+MAX(B19:E19,G19:M19) -> 0 | R19: =+MEDIAN(B19:E19,G19:M19) -> 0 | S19: =+MIN(B19:E19,G19:J19,L19:M19) -> 0 | T19: =+$O19+$O19*G93 -> #DIV/0! | U19: =+$O19+$O19*H93 -> #DIV/0! | V19: =+$O19+$O19*I93 -> #DIV/0! | W19: =+$O19+$O19*J93 -> #DIV/0! | X19: =+$O19+$O19*K93 -> #DIV/0! | Y19: =+$O19+$O19*L93 -> #DIV/0! | Z19: =+$O19+$O19*M93 -> #DIV/0! | AA19: =+$O19+$O19*B93 -> #DIV/0! | AB19: =+$O19+$O19*C93 -> #DIV/0! | AC19: =+$O19+$O19*D93 -> #DIV/0! | AD19: =+$O19+$O19*E93 -> #DIV/0! | AE19: =+$O19+$O19*F93 -> #DIV/0! | AF19: =SUM(T19:AE19) -> #DIV/0! | AG19: =+AF19-SUM(B19:M19) -> #DIV/0!
A20: (08/43) SUELO | B20: 0 | C20: 0 | D20: 0 | E20: 0 | F20: 0 | G20: 0 | H20: 0 | I20: 0 | J20: 0 | K20: 0 | L20: 0 | M20: 0 | O20: =+AVERAGE(B20:C20,E20,G20:H20,J20,L20:M20) -> 0 | P20: =+AVERAGE(B20:E20,G20:M20) -> 0 | Q20: =+MAX(B20:E20,G20:M20) -> 0 | R20: =+MEDIAN(B20:E20,G20:M20) -> 0 | S20: =+MIN(B20:E20,G20:J20,L20:M20) -> 0 | T20: =+$O20+$O20*G94 -> #DIV/0! | U20: =+$O20+$O20*H94 -> #DIV/0! | V20: =+$O20+$O20*I94 -> #DIV/0! | W20: =+$O20+$O20*J94 -> #DIV/0! | X20: =+$O20+$O20*K94 -> #DIV/0! | Y20: =+$O20+$O20*L94 -> #DIV/0! | Z20: =+$O20+$O20*M94 -> #DIV/0! | AA20: =+$O20+$O20*B94 -> #DIV/0! | AB20: =+$O20+$O20*C94 -> #DIV/0! | AC20: =+$O20+$O20*D94 -> #DIV/0! | AD20: =+$O20+$O20*E94 -> #DIV/0! | AE20: =+$O20+$O20*F94 -> #DIV/0! | AF20: =SUM(T20:AE20) -> #DIV/0! | AG20: =+AF20-SUM(B20:M20) -> #DIV/0!
A21: (27) HIPOTECA | B21: 15487.11 | C21: 11212.55 | D21: 11589.49 | E21: 12279.09 | F21: 11899.68 | G21: 9014.27 | H21: 3095.63 | I21: 5892.94 | J21: 3556.55 | K21: 5057 | L21: 3241.54 | M21: 2527.34 | O21: =+AVERAGE(B21:C21,E21,G21:H21,J21,L21:M21) -> 7551.76 | P21: =+AVERAGE(B21:E21,G21:M21) -> 7541.2282 | Q21: =+MAX(B21:E21,G21:M21) -> 15487.11 | R21: =+MEDIAN(B21:E21,G21:M21) -> 5892.94 | S21: =+MIN(B21:E21,G21:J21,L21:M21) -> 2527.34 | T21: =+$O21+$O21*G95 -> 9026.859 | U21: =+$O21+$O21*H95 -> 3099.9532 | V21: =+$O21+$O21*I95 -> 5901.1699 | W21: =+$O21+$O21*J95 -> 3561.517 | X21: =+$O21+$O21*K95 -> 5064.0624 | Y21: =+$O21+$O21*L95 -> 3246.067 | Z21: =+$O21+$O21*M95 -> 2530.8696 | AA21: =+$O21+$O21*B95 -> 15508.739 | AB21: =+$O21+$O21*C95 -> 11228.209 | AC21: =+$O21+$O21*D95 -> 11605.675 | AD21: =+$O21+$O21*E95 -> 12296.239 | AE21: =+$O21+$O21*F95 -> 11916.299 | AF21: =SUM(T21:AE21) -> 94985.659 | AG21: =+AF21-SUM(B21:M21) -> 132.46868
A22: (29/45) SUELO VIVIENDA | B22: 0 | C22: 0 | D22: 0 | E22: 0 | F22: 0 | G22: 0 | H22: 0 | I22: 0 | J22: 0 | K22: 0 | L22: 0 | M22: 0 | O22: =+AVERAGE(B22:C22,E22,G22:H22,J22,L22:M22) -> 0 | P22: =+AVERAGE(B22:E22,G22:M22) -> 0 | Q22: =+MAX(B22:E22,G22:M22) -> 0 | R22: =+MEDIAN(B22:E22,G22:M22) -> 0 | S22: =+MIN(B22:E22,G22:J22,L22:M22) -> 0 | T22: =+$O22+$O22*G96 -> #DIV/0! | U22: =+$O22+$O22*H96 -> #DIV/0! | V22: =+$O22+$O22*I96 -> #DIV/0! | W22: =+$O22+$O22*J96 -> #DIV/0! | X22: =+$O22+$O22*K96 -> #DIV/0! | Y22: =+$O22+$O22*L96 -> #DIV/0! | Z22: =+$O22+$O22*M96 -> #DIV/0! | AA22: =+$O22+$O22*B96 -> #DIV/0! | AB22: =+$O22+$O22*C96 -> #DIV/0! | AC22: =+$O22+$O22*D96 -> #DIV/0! | AD22: =+$O22+$O22*E96 -> #DIV/0! | AE22: =+$O22+$O22*F96 -> #DIV/0! | AF22: =SUM(T22:AE22) -> #DIV/0! | AG22: =+AF22-SUM(B22:M22) -> #DIV/0!
A23: (30/46) HIPOTECA ESPECIAL | B23: 0 | C23: 0 | D23: 0 | E23: 0 | F23: 0 | G23: 0 | H23: 0 | I23: 0 | J23: 0 | K23: 95371.48 | L23: 0 | M23: 0 | O23: =+AVERAGE(B23:C23,E23,G23:H23,J23,L23:M23) -> 0 | P23: =+AVERAGE(B23:E23,G23:M23) -> 8670.1345 | Q23: =+MAX(B23:E23,G23:M23) -> 95371.48 | R23: =+MEDIAN(B23:E23,G23:M23) -> 0 | S23: =+MIN(B23:E23,G23:J23,L23:M23) -> 0 | T23: =+$O23+$O23*G97 -> 0 | U23: =+$O23+$O23*H97 -> 0 | V23: =+$O23+$O23*I97 -> 0 | W23: =+$O23+$O23*J97 -> 0 | X23: =+$O23+$O23*K97 -> 0 | Y23: =+$O23+$O23*L97 -> 0 | Z23: =+$O23+$O23*M97 -> 0 | AA23: =+$O23+$O23*B97 -> 0 | AB23: =+$O23+$O23*C97 -> 0 | AC23: =+$O23+$O23*D97 -> 0 | AD23: =+$O23+$O23*E97 -> 0 | AE23: =+$O23+$O23*F97 -> 0 | AF23: =SUM(T23:AE23) -> 0 | AG23: =+AF23-SUM(B23:M23) -> -95371.48
A24: (32) ALAMEDA | B24: 10835.29 | C24: 9192.32 | D24: 9200.57 | E24: 9736.26 | F24: 58614.7 | G24: 4969.94 | H24: 10355.81 | I24: 10218.62 | J24: 0 | K24: 6743.75 | L24: 0 | M24: 3378.23 | O24: =+AVERAGE(B24:C24,E24,G24:H24,J24,L24:M24) -> 6058.4813 | P24: =+AVERAGE(B24:E24,G24:M24) -> 6784.6173 | Q24: =+MAX(B24:E24,G24:M24) -> 10835.29 | R24: =+MEDIAN(B24:E24,G24:M24) -> 9192.32 | S24: =+MIN(B24:E24,G24:J24,L24:M24) -> 0 | T24: =+$O24+$O24*G98 -> 4438.0231 | U24: =+$O24+$O24*H98 -> 9247.4606 | V24: =+$O24+$O24*I98 -> 9124.9536 | W24: =+$O24+$O24*J98 -> 0 | X24: =+$O24+$O24*K98 -> 6021.9879 | Y24: =+$O24+$O24*L98 -> 0 | Z24: =+$O24+$O24*M98 -> 3016.6688 | AA24: =+$O24+$O24*B98 -> 9675.6233 | AB24: =+$O24+$O24*C98 -> 8208.4952 | AC24: =+$O24+$O24*D98 -> 8215.8622 | AD24: =+$O24+$O24*E98 -> 8694.219 | AE24: =+$O24+$O24*F98 -> 52341.355 | AF24: =SUM(T24:AE24) -> 118984.65 | AG24: =+AF24-SUM(B24:M24) -> -14260.841
A25: (41) CASA PROPIA '98 | B25: 1068.74 | C25: 1067.18 | D25: 0 | E25: 1072 | F25: 1071.21 | G25: 1044.01 | H25: 0 | I25: 0 | J25: 0 | K25: 0 | L25: 0 | M25: 0 | O25: =+AVERAGE(B25:C25,E25,G25:H25,J25,L25:M25) -> 531.49125 | P25: =+AVERAGE(B25:E25,G25:M25) -> 386.53909 | Q25: =+MAX(B25:E25,G25:M25) -> 1072 | R25: =+MEDIAN(B25:E25,G25:M25) -> 0 | S25: =+MIN(B25:E25,G25:J25,L25:M25) -> 0 | T25: =+$O25+$O25*G99 -> 1435.5138 | U25: =+$O25+$O25*H99 -> 0 | V25: =+$O25+$O25*I99 -> 0 | W25: =+$O25+$O25*J99 -> 0 | X25: =+$O25+$O25*K99 -> 0 | Y25: =+$O25+$O25*L99 -> 0 | Z25: =+$O25+$O25*M99 -> 0 | AA25: =+$O25+$O25*B99 -> 1469.5175 | AB25: =+$O25+$O25*C99 -> 1467.3725 | AC25: =+$O25+$O25*D99 -> 0 | AD25: =+$O25+$O25*E99 -> 1474 | AE25: =+$O25+$O25*F99 -> 1472.9137 | AF25: =SUM(T25:AE25) -> 7319.3175 | AG25: =+AF25-SUM(B25:M25) -> 1996.1775
A26: (48) SUELO '98 | B26: 0 | C26: 0 | D26: 0 | E26: 0 | F26: 0 | G26: 0 | H26: 0 | I26: 0 | J26: 0 | K26: 0 | L26: 0 | M26: 0 | O26: =+AVERAGE(B26:C26,E26,G26:H26,J26,L26:M26) -> 0 | P26: =+AVERAGE(B26:E26,G26:M26) -> 0 | Q26: =+MAX(B26:E26,G26:M26) -> 0 | R26: =+MEDIAN(B26:E26,G26:M26) -> 0 | S26: =+MIN(B26:E26,G26:J26,L26:M26) -> 0 | T26: =+$O26+$O26*G100 -> #DIV/0! | U26: =+$O26+$O26*H100 -> #DIV/0! | V26: =+$O26+$O26*I100 -> #DIV/0! | W26: =+$O26+$O26*J100 -> #DIV/0! | X26: =+$O26+$O26*K100 -> #DIV/0! | Y26: =+$O26+$O26*L100 -> #DIV/0! | Z26: =+$O26+$O26*M100 -> #DIV/0! | AA26: =+$O26+$O26*B100 -> #DIV/0! | AB26: =+$O26+$O26*C100 -> #DIV/0! | AC26: =+$O26+$O26*D100 -> #DIV/0! | AD26: =+$O26+$O26*E100 -> #DIV/0! | AE26: =+$O26+$O26*F100 -> #DIV/0! | AF26: =SUM(T26:AE26) -> #DIV/0! | AG26: =+AF26-SUM(B26:M26) -> #DIV/0!
A27: (52) CAMPAMENTOS | B27: 0 | C27: 0 | D27: 0 | E27: 0 | F27: 0 | G27: 0 | H27: 0 | I27: 0 | J27: 0 | K27: 0 | L27: 0 | M27: 0 | O27: =+AVERAGE(B27:C27,E27,G27:H27,J27,L27:M27) -> 0 | P27: =+AVERAGE(B27:E27,G27:M27) -> 0 | Q27: =+MAX(B27:E27,G27:M27) -> 0 | R27: =+MEDIAN(B27:E27,G27:M27) -> 0 | S27: =+MIN(B27:E27,G27:J27,L27:M27) -> 0 | T27: =+$O27+$O27*G101 -> #DIV/0! | U27: =+$O27+$O27*H101 -> #DIV/0! | V27: =+$O27+$O27*I101 -> #DIV/0! | W27: =+$O27+$O27*J101 -> #DIV/0! | X27: =+$O27+$O27*K101 -> #DIV/0! | Y27: =+$O27+$O27*L101 -> #DIV/0! | Z27: =+$O27+$O27*M101 -> #DIV/0! | AA27: =+$O27+$O27*B101 -> #DIV/0! | AB27: =+$O27+$O27*C101 -> #DIV/0! | AC27: =+$O27+$O27*D101 -> #DIV/0! | AD27: =+$O27+$O27*E101 -> #DIV/0! | AE27: =+$O27+$O27*F101 -> #DIV/0! | AF27: =SUM(T27:AE27) -> #DIV/0! | AG27: =+AF27-SUM(B27:M27) -> #DIV/0!
A28: (58) SUSTITUCIÓN DE VIVIENDA 98 Y CARTERA II | B28: 293110.56 | C28: 107235.19 | D28: 378174.54 | E28: 292749.11 | F28: 102428.3 | G28: 377163.63 | H28: 85971.33 | I28: 96178.96 | J28: 211912.17 | K28: 248473.56 | L28: 253086.26 | M28: 214883.7 | O28: =+AVERAGE(B28:C28,E28,G28:H28,J28,L28:M28) -> 229513.99 | P28: =+AVERAGE(B28:E28,G28:M28) -> 232630.82 | Q28: =+MAX(B28:E28,G28:M28) -> 378174.54 | R28: =+MEDIAN(B28:E28,G28:M28) -> 248473.56 | S28: =+MIN(B28:E28,G28:J28,L28:M28) -> 85971.33 | T28: =+$O28+$O28*G102 -> 372110.33 | U28: =+$O28+$O28*H102 -> 84819.472 | V28: =+$O28+$O28*I102 -> 94890.339 | W28: =+$O28+$O28*J102 -> 209072.94 | X28: =+$O28+$O28*K102 -> 245144.47 | Y28: =+$O28+$O28*L102 -> 249695.37 | Z28: =+$O28+$O28*M102 -> 212004.65 | AA28: =+$O28+$O28*B102 -> 289183.42 | AB28: =+$O28+$O28*C102 -> 105798.44 | AC28: =+$O28+$O28*D102 -> 373107.7 | AD28: =+$O28+$O28*E102 -> 288826.81 | AE28: =+$O28+$O28*F102 -> 101055.95 | AF28: =SUM(T28:AE28) -> 2625709.9 | AG28: =+AF28-SUM(B28:M28) -> -35657.43
A29: (75) FICAPRO - FOVI I y II | B29: 0 | C29: 3176.26 | D29: 1582.24 | E29: 1579.93 | F29: 30801.9 | G29: 3164.7 | H29: 16736.58 | I29: 11444.21 | J29: 6743.64 | K29: 5091.14 | L29: 5129.69 | M29: 5082.56 | O29: =+AVERAGE(B29:C29,E29,G29:H29,J29,L29:M29) -> 5201.67 | P29: =+AVERAGE(B29:E29,G29:M29) -> 5430.0864 | Q29: =+MAX(B29:E29,G29:M29) -> 16736.58 | R29: =+MEDIAN(B29:E29,G29:M29) -> 5082.56 | S29: =+MIN(B29:E29,G29:J29,L29:M29) -> 0 | T29: =+$O29+$O29*G103 -> 3031.577 | U29: =+$O29+$O29*H103 -> 16032.556 | V29: =+$O29+$O29*I103 -> 10962.81 | W29: =+$O29+$O29*J103 -> 6459.9691 | X29: =+$O29+$O29*K103 -> 4876.9814 | Y29: =+$O29+$O29*L103 -> 4913.9098 | Z29: =+$O29+$O29*M103 -> 4868.7623 | AA29: =+$O29+$O29*B103 -> 0 | AB29: =+$O29+$O29*C103 -> 3042.6508 | AC29: =+$O29+$O29*D103 -> 1515.6831 | AD29: =+$O29+$O29*E103 -> 1513.4703 | AE29: =+$O29+$O29*F103 -> 29506.219 | AF29: =SUM(T29:AE29) -> 86724.589 | AG29: =+AF29-SUM(B29:M29) -> -3808.2607
A30: (81) SUSTITUCIÓN DE VIVIENDA AUTOADMINISTRACIÓN | B30: 0 | C30: 0 | D30: 0 | E30: 0 | F30: 0 | G30: 0 | H30: 0 | I30: 0 | J30: 0 | K30: 0 | L30: 0 | M30: 0 | O30: =+AVERAGE(B30:C30,E30,G30:H30,J30,L30:M30) -> 0 | P30: =+AVERAGE(B30:E30,G30:M30) -> 0 | Q30: =+MAX(B30:E30,G30:M30) -> 0 | R30: =+MEDIAN(B30:E30,G30:M30) -> 0 | S30: =+MIN(B30:E30,G30:J30,L30:M30) -> 0 | T30: =+$O30+$O30*G104 -> #DIV/0! | U30: =+$O30+$O30*H104 -> #DIV/0! | V30: =+$O30+$O30*I104 -> #DIV/0! | W30: =+$O30+$O30*J104 -> #DIV/0! | X30: =+$O30+$O30*K104 -> #DIV/0! | Y30: =+$O30+$O30*L104 -> #DIV/0! | Z30: =+$O30+$O30*M104 -> #DIV/0! | AA30: =+$O30+$O30*B104 -> #DIV/0! | AB30: =+$O30+$O30*C104 -> #DIV/0! | AC30: =+$O30+$O30*D104 -> #DIV/0! | AD30: =+$O30+$O30*E104 -> #DIV/0! | AE30: =+$O30+$O30*F104 -> #DIV/0! | AF30: =SUM(T30:AE30) -> #DIV/0! | AG30: =+AF30-SUM(B30:M30) -> #DIV/0!
A31: (AG) SUSTITUCIÓN DE VIVIENDA - INVI - FICAPRO | B31: 324549.02 | C31: 158969.46 | D31: 95712.9 | E31: 107380.32 | F31: 118533.32 | G31: 88076.46 | H31: 102927.25 | I31: 86139.85 | J31: 242413.23 | K31: 71472.36 | L31: 93663.66 | M31: 207316.66 | O31: =+AVERAGE(B31:C31,E31,G31:H31,J31,L31:M31) -> 165662.01 | P31: =+AVERAGE(B31:E31,G31:M31) -> 143511.02 | Q31: =+MAX(B31:E31,G31:M31) -> 324549.02 | R31: =+MEDIAN(B31:E31,G31:M31) -> 102927.25 | S31: =+MIN(B31:E31,G31:J31,L31:M31) -> 86139.85 | T31: =+$O31+$O31*G105 -> 101671.1 | U31: =+$O31+$O31*H105 -> 118814.12 | V31: =+$O31+$O31*I105 -> 99435.576 | W31: =+$O31+$O31*J105 -> 279829.82 | X31: =+$O31+$O31*K105 -> 82504.152 | Y31: =+$O31+$O31*L105 -> 108120.69 | Z31: =+$O31+$O31*M105 -> 239316.08 | AA31: =+$O31+$O31*B105 -> 374643.31 | AB31: =+$O31+$O31*C105 -> 183506.47 | AC31: =+$O31+$O31*D105 -> 110486.23 | AD31: =+$O31+$O31*E105 -> 123954.52 | AE31: =+$O31+$O31*F105 -> 136828.99 | AF31: =SUM(T31:AE31) -> 1959111.1 | AG31: =+AF31-SUM(B31:M31) -> 261956.59
A33: INVI | B33: =SUM(B34+B35+B36+B41+B43+B48+B55+B65+B67+B69+B71+B78+B81) -> 82473477 | C33: =SUM(C34+C35+C36+C41+C43+C48+C55+C65+C67+C69+C71+C78+C81) -> 82252216 | D33: =SUM(D34+D35+D36+D41+D43+D48+D55+D65+D67+D69+D71+D78+D81) -> 78926664 | E33: =SUM(E34+E35+E36+E41+E43+E48+E55+E65+E67+E69+E71+E78+E81) -> 80429916 | F33: 1.0741534e+08 | G33: =SUM(G34+G35+G36+G41+G43+G48+G55+G65+G67+G69+G71+G78+G81) -> 88699259 | H33: =SUM(H34+H35+H36+H41+H43+H48+H55+H65+H67+H69+H71+H78+H81) -> 94055168 | I33: =SUM(I34+I35+I36+I41+I43+I48+I55+I65+I67+I69+I71+I78+I81) -> 92177487 | J33: =SUM(J34+J35+J36+J41+J43+J48+J55+J65+J67+J69+J71+J78+J81) -> 87736678 | K33: =SUM(K34+K35+K36+K41+K43+K48+K55+K65+K67+K69+K71+K78+K81) -> 90411852 | L33: =SUM(L34+L35+L36+L41+L43+L48+L55+L65+L67+L69+L71+L78+L81) -> 89768885 | M33: =SUM(M34+M35+M36+M41+M43+M48+M55+M65+M67+M69+M71+M78+M81) -> 86313598 | O33: =+AVERAGE(B33:C33,E33,G33:M33) -> 87431853 | P33: =+AVERAGE(B33:E33,G33:M33) -> 86658654 | Q33: =+MAX(B33:E33,G33:M33) -> 94055168 | R33: =+MEDIAN(B33:E33,G33:M33) -> 87736678 | S33: =+MIN(B33:E33,G33:M33) -> 78926664 | T33: =+$O33+$O33*G107 -> 89490665 | U33: =+$O33+$O33*H107 -> 94894361 | V33: =+$O33+$O33*I107 -> 92999927 | W33: =+$O33+$O33*J107 -> 88519495 | X33: =+$O33+$O33*K107 -> 91218538 | Y33: =+$O33+$O33*L107 -> 90569834 | Z33: =+$O33+$O33*M107 -> 87083718 | AA33: =+$O33+$O33*B107 -> 83209334 | AB33: =+$O33+$O33*C107 -> 82986099 | AC33: =+$O33+$O33*D107 -> 79630876 | AD33: =+$O33+$O33*E107 -> 81147540 | AE33: =+$O33+$O33*F107 -> 1.0837373e+08 | AF33: =SUM(T33:AE33) -> 1.0701241e+09 | AG33: =+AF33-SUM(B33:M33) -> 9463586.8
A34: (11) INVI-SEDUVI | B34: 0 | C34: 0 | D34: 0 | E34: 0 | F34: 0 | G34: 0 | H34: 0 | I34: 0 | J34: 0 | K34: 0 | L34: 0 | M34: 0 | O34: =+AVERAGE(B34:C34,E34,G34:M34) -> 0 | P34: =+AVERAGE(B34:E34,G34:M34) -> 0 | Q34: =+MAX(B34:E34,G34:M34) -> 0 | R34: =+MEDIAN(B34:E34,G34:M34) -> 0 | S34: =+MIN(B34:E34,G34:M34) -> 0 | T34: =+$O34+$O34*G108 -> #DIV/0! | U34: =+$O34+$O34*H108 -> #DIV/0! | V34: =+$O34+$O34*I108 -> #DIV/0! | W34: =+$O34+$O34*J108 -> #DIV/0! | X34: =+$O34+$O34*K108 -> #DIV/0! | Y34: =+$O34+$O34*L108 -> #DIV/0! | Z34: =+$O34+$O34*M108 -> #DIV/0! | AA34: =+$O34+$O34*B108 -> #DIV/0! | AB34: =+$O34+$O34*C108 -> #DIV/0! | AC34: =+$O34+$O34*D108 -> #DIV/0! | AD34: =+$O34+$O34*E108 -> #DIV/0! | AE34: =+$O34+$O34*F108 -> #DIV/0! | AF34: =SUM(T34:AE34) -> #DIV/0! | AG34: =+AF34-SUM(B34:M34) -> #DIV/0!
A35: (24) INVI-DDF | B35: 0 | C35: 0 | D35: 0 | E35: 0 | F35: 0 | G35: 0 | H35: 0 | I35: 0 | J35: 0 | K35: 0 | L35: 0 | M35: 0 | O35: =+AVERAGE(B35:C35,E35,G35:M35) -> 0 | P35: =+AVERAGE(B35:E35,G35:M35) -> 0 | Q35: =+MAX(B35:E35,G35:M35) -> 0 | R35: =+MEDIAN(B35:E35,G35:M35) -> 0 | S35: =+MIN(B35:E35,G35:M35) -> 0 | T35: =+$O35+$O35*G109 -> #DIV/0! | U35: =+$O35+$O35*H109 -> #DIV/0! | V35: =+$O35+$O35*I109 -> #DIV/0! | W35: =+$O35+$O35*J109 -> #DIV/0! | X35: =+$O35+$O35*K109 -> #DIV/0! | Y35: =+$O35+$O35*L109 -> #DIV/0! | Z35: =+$O35+$O35*M109 -> #DIV/0! | AA35: =+$O35+$O35*B109 -> #DIV/0! | AB35: =+$O35+$O35*C109 -> #DIV/0! | AC35: =+$O35+$O35*D109 -> #DIV/0! | AD35: =+$O35+$O35*E109 -> #DIV/0! | AE35: =+$O35+$O35*F109 -> #DIV/0! | AF35: =SUM(T35:AE35) -> #DIV/0! | AG35: =+AF35-SUM(B35:M35) -> #DIV/0!
A36: SUSTITUCIÓN DE VIVIENDA | B36: =SUM(B37:B40) -> 1663574.8 | C36: =SUM(C37:C40) -> 2342092.1 | D36: =SUM(D37:D40) -> 1936891.2 | E36: =SUM(E37:E40) -> 1791779.6 | F36: 1664035.5 | G36: =SUM(G37:G40) -> 1532459.2 | H36: =SUM(H37:H40) -> 2234378.7 | I36: =SUM(I37:I40) -> 1727376 | J36: =SUM(J37:J40) -> 1434130.4 | K36: =SUM(K37:K40) -> 1723828.5 | L36: =SUM(L37:L40) -> 1668207.4 | M36: =SUM(M37:M40) -> 1691782.6 | O36: =+AVERAGE(B36:C36,E36,G36:M36) -> 1780960.9 | P36: =+AVERAGE(B36:E36,G36:M36) -> 1795136.4 | Q36: =+MAX(B36:E36,G36:M36) -> 2342092.1 | R36: =+MEDIAN(B36:E36,G36:M36) -> 1723828.5 | S36: =+MIN(B36:E36,G36:M36) -> 1434130.4 | T36: =+$O36+$O36*G110 -> 1520358 | U36: =+$O36+$O36*H110 -> 2216734.7 | V36: =+$O36+$O36*I110 -> 1713735.5 | W36: =+$O36+$O36*J110 -> 1422805.6 | X36: =+$O36+$O36*K110 -> 1710216.1 | Y36: =+$O36+$O36*L110 -> 1655034.2 | Z36: =+$O36+$O36*M110 -> 1678423.2 | AA36: =+$O36+$O36*B110 -> 1650438.2 | AB36: =+$O36+$O36*C110 -> 2323597.5 | AC36: =+$O36+$O36*D110 -> 1921596.4 | AD36: =+$O36+$O36*E110 -> 1777630.6 | AE36: =+$O36+$O36*F110 -> 1650895.2 | AF36: =SUM(T36:AE36) -> 21241465 | AG36: =+AF36-SUM(B36:M36) -> -169070.53
A37: (51) ADQUISICION DE SUELO | B37: 29656.33 | C37: 18048.33 | D37: 21733 | E37: 51863.75 | F37: 25275.7 | G37: 38002.95 | H37: 47960.48 | I37: 35826.47 | J37: 21937.94 | K37: 71796.78 | L37: 34865.87 | M37: 17485.67 | O37: =+AVERAGE(B37:C37,E37,G37:M37) -> 36744.457 | P37: =+AVERAGE(B37:E37,G37:M37) -> 35379.779 | Q37: =+MAX(B37:E37,G37:M37) -> 71796.78 | R37: =+MEDIAN(B37:E37,G37:M37) -> 34865.87 | S37: =+MIN(B37:E37,G37:M37) -> 17485.67 | T37: =+$O37+$O37*G111 -> 39468.81 | U37: =+$O37+$O37*H111 -> 49810.424 | V37: =+$O37+$O37*I111 -> 37208.378 | W37: =+$O37+$O37*J111 -> 22784.136 | X37: =+$O37+$O37*K111 -> 74566.144 | Y37: =+$O37+$O37*L111 -> 36210.725 | Z37: =+$O37+$O37*M111 -> 18160.132 | AA37: =+$O37+$O37*B111 -> 30800.242 | AB37: =+$O37+$O37*C111 -> 18744.495 | AC37: =+$O37+$O37*D111 -> 22571.291 | AD37: =+$O37+$O37*E111 -> 53864.252 | AE37: =+$O37+$O37*F111 -> 26250.641 | AF37: =SUM(T37:AE37) -> 430439.67 | AG37: =+AF37-SUM(B37:M37) -> 15986.398
A38: (61) ESTUDIOS Y PROYECTOS | B38: 72.89 | C38: 0 | D38: 0 | E38: 0 | F38: 0 | G38: 0 | H38: 0 | I38: 76.3 | J38: 0 | K38: 0 | L38: 0 | M38: 0 | O38: =+AVERAGE(B38:C38,E38,G38:M38) -> 14.919 | P38: =+AVERAGE(B38:E38,G38:M38) -> 13.562727 | Q38: =+MAX(B38:E38,G38:M38) -> 76.3 | R38: =+MEDIAN(B38:E38,G38:M38) -> 0 | S38: =+MIN(B38:E38,G38:M38) -> 0 | T38: =+$O38+$O38*G112 -> 0 | U38: =+$O38+$O38*H112 -> 0 | V38: =+$O38+$O38*I112 -> 83.93 | W38: =+$O38+$O38*J112 -> 0 | X38: =+$O38+$O38*K112 -> 0 | Y38: =+$O38+$O38*L112 -> 0 | Z38: =+$O38+$O38*M112 -> 0 | AA38: =+$O38+$O38*B112 -> 80.179 | AB38: =+$O38+$O38*C112 -> 0 | AC38: =+$O38+$O38*D112 -> 0 | AD38: =+$O38+$O38*E112 -> 0 | AE38: =+$O38+$O38*F112 -> 0 | AF38: =SUM(T38:AE38) -> 164.109 | AG38: =+AF38-SUM(B38:M38) -> 14.919
A39: (65) SUSTITUCIÓN DE VIVIENDA DE ALTO RIESGO | B39: 759776.59 | C39: 1055410.6 | D39: 851075.41 | E39: 586352.85 | F39: 703296.67 | G39: 639077.91 | H39: 1083432 | I39: 806897.01 | J39: 707380.78 | K39: 722130.4 | L39: 785429.07 | M39: 733174.15 | O39: =+AVERAGE(B39:C39,E39,G39:M39) -> 787906.14 | P39: =+AVERAGE(B39:E39,G39:M39) -> 793648.8 | Q39: =+MAX(B39:E39,G39:M39) -> 1083432 | R39: =+MEDIAN(B39:E39,G39:M39) -> 759776.59 | S39: =+MIN(B39:E39,G39:M39) -> 586352.85 | T39: =+$O39+$O39*G113 -> 634453.69 | U39: =+$O39+$O39*H113 -> 1075592.6 | V39: =+$O39+$O39*I113 -> 801058.49 | W39: =+$O39+$O39*J113 -> 702262.33 | X39: =+$O39+$O39*K113 -> 716905.23 | Y39: =+$O39+$O39*L113 -> 779745.89 | Z39: =+$O39+$O39*M113 -> 727869.07 | AA39: =+$O39+$O39*B113 -> 754279.02 | AB39: =+$O39+$O39*C113 -> 1047773.9 | AC39: =+$O39+$O39*D113 -> 844917.22 | AD39: =+$O39+$O39*E113 -> 582110.14 | AE39: =+$O39+$O39*F113 -> 698207.78 | AF39: =SUM(T39:AE39) -> 9365175.3 | AG39: =+AF39-SUM(B39:M39) -> -68258.161
A40: (84) EDIFICACION II | B40: 874069.03 | C40: 1268633.2 | D40: 1064082.8 | E40: 1153563 | F40: 935463.1 | G40: 855378.39 | H40: 1102986.2 | I40: 884576.17 | J40: 704811.68 | K40: 929901.27 | L40: 847912.45 | M40: 941122.73 | O40: =+AVERAGE(B40:C40,E40,G40:M40) -> 956295.4 | P40: =+AVERAGE(B40:E40,G40:M40) -> 966094.26 | Q40: =+MAX(B40:E40,G40:M40) -> 1268633.2 | R40: =+MEDIAN(B40:E40,G40:M40) -> 929901.27 | S40: =+MIN(B40:E40,G40:M40) -> 704811.68 | T40: =+$O40+$O40*G114 -> 846702.5 | U40: =+$O40+$O40*H114 -> 1091798.9 | V40: =+$O40+$O40*I114 -> 875604.13 | W40: =+$O40+$O40*J114 -> 697662.95 | X40: =+$O40+$O40*K114 -> 920469.51 | Y40: =+$O40+$O40*L114 -> 839312.28 | Z40: =+$O40+$O40*M114 -> 931577.15 | AA40: =+$O40+$O40*B114 -> 865203.56 | AB40: =+$O40+$O40*C114 -> 1255765.7 | AC40: =+$O40+$O40*D114 -> 1053290.1 | AD40: =+$O40+$O40*E114 -> 1141862.7 | AE40: =+$O40+$O40*F114 -> 925974.93 | AF40: =SUM(T40:AE40) -> 11445224 | AG40: =+AF40-SUM(B40:M40) -> -117275.58
A41: MEJORAMIENTO DE VIVIENDA EN LOTES FAMILIARES | B41: =SUM(B42) -> 1037365.6 | C41: =SUM(C42) -> 733679.65 | D41: =SUM(D42) -> 842194.45 | E41: =SUM(E42) -> 592109.11 | F41: 1043983.2 | G41: =SUM(G42) -> 1115252.8 | H41: =SUM(H42) -> 1064629.8 | I41: =SUM(I42) -> 951857.66 | J41: =SUM(J42) -> 866584.43 | K41: =SUM(K42) -> 614667.12 | L41: =SUM(L42) -> 1213718.2 | M41: =SUM(M42) -> 1050850.6 | O41: =+AVERAGE(B41:C41,E41,G41:M41) -> 924071.49 | P41: =+AVERAGE(B41:E41,G41:M41) -> 916628.12 | Q41: =+MAX(B41:E41,G41:M41) -> 1213718.2 | R41: =+MEDIAN(B41:E41,G41:M41) -> 951857.66 | S41: =+MIN(B41:E41,G41:M41) -> 592109.11 | T41: =+$O41+$O41*G115 -> 1124309 | U41: =+$O41+$O41*H115 -> 1073275 | V41: =+$O41+$O41*I115 -> 959587.1 | W41: =+$O41+$O41*J115 -> 873621.42 | X41: =+$O41+$O41*K115 -> 619658.45 | Y41: =+$O41+$O41*L115 -> 1223574 | Z41: =+$O41+$O41*M115 -> 1059383.9 | AA41: =+$O41+$O41*B115 -> 1045789.4 | AB41: =+$O41+$O41*C115 -> 739637.41 | AC41: =+$O41+$O41*D115 -> 849033.39 | AD41: =+$O41+$O41*E115 -> 596917.26 | AE41: =+$O41+$O41*F115 -> 1052460.7 | AF41: =SUM(T41:AE41) -> 11217247 | AG41: =+AF41-SUM(B41:M41) -> 90354.581
A42: (60) CONSTRUCCIÓN Y MEJORAMIENTO - MÓDULOS | B42: 1037365.6 | C42: 733679.65 | D42: 842194.45 | E42: 592109.11 | F42: 1043983.2 | G42: 1115252.8 | H42: 1064629.8 | I42: 951857.66 | J42: 866584.43 | K42: 614667.12 | L42: 1213718.2 | M42: 1050850.6 | O42: =+AVERAGE(B42:C42,E42,G42:M42) -> 924071.49 | P42: =+AVERAGE(B42:E42,G42:M42) -> 916628.12 | Q42: =+MAX(B42:E42,G42:M42) -> 1213718.2 | R42: =+MEDIAN(B42:E42,G42:M42) -> 951857.66 | S42: =+MIN(B42:E42,G42:M42) -> 592109.11 | T42: =+$O42+$O42*G116 -> 1124309 | U42: =+$O42+$O42*H116 -> 1073275 | V42: =+$O42+$O42*I116 -> 959587.1 | W42: =+$O42+$O42*J116 -> 873621.42 | X42: =+$O42+$O42*K116 -> 619658.45 | Y42: =+$O42+$O42*L116 -> 1223574 | Z42: =+$O42+$O42*M116 -> 1059383.9 | AA42: =+$O42+$O42*B116 -> 1045789.4 | AB42: =+$O42+$O42*C116 -> 739637.41 | AC42: =+$O42+$O42*D116 -> 849033.39 | AD42: =+$O42+$O42*E116 -> 596917.26 | AE42: =+$O42+$O42*F116 -> 1052460.7 | AF42: =SUM(T42:AE42) -> 11217247 | AG42: =+AF42-SUM(B42:M42) -> 90354.581
A43: COFINANCIADOS | B43: =SUM(B44:B47) -> 107980.75 | C43: =SUM(C44:C47) -> 25822.14 | D43: =SUM(D44:D47) -> 62289.54 | E43: =SUM(E44:E47) -> 67796.49 | F43: 258868.72 | G43: =SUM(G44:G47) -> 160220.37 | H43: =SUM(H44:H47) -> 104940.53 | I43: =SUM(I44:I47) -> 89547.52 | J43: =SUM(J44:J47) -> 57058.98 | K43: =SUM(K44:K47) -> 81519.11 | L43: =SUM(L44:L47) -> 16912.52 | M43: =SUM(M44:M47) -> 146451.91 | O43: =+AVERAGE(B43:C43,E43,G43:M43) -> 85825.032 | P43: =+AVERAGE(B43:E43,G43:M43) -> 83685.442 | Q43: =+MAX(B43:E43,G43:M43) -> 160220.37 | R43: =+MEDIAN(B43:E43,G43:M43) -> 81519.11 | S43: =+MIN(B43:E43,G43:M43) -> 16912.52 | T43: =+$O43+$O43*G117 -> 164316.73 | U43: =+$O43+$O43*H117 -> 107623.55 | V43: =+$O43+$O43*I117 -> 91836.986 | W43: =+$O43+$O43*J117 -> 58517.81 | X43: =+$O43+$O43*K117 -> 83603.313 | Y43: =+$O43+$O43*L117 -> 17344.923 | Z43: =+$O43+$O43*M117 -> 150196.25 | AA43: =+$O43+$O43*B117 -> 110741.5 | AB43: =+$O43+$O43*C117 -> 26482.336 | AC43: =+$O43+$O43*D117 -> 63882.1 | AD43: =+$O43+$O43*E117 -> 69529.846 | AE43: =+$O43+$O43*F117 -> 265487.23 | AF43: =SUM(T43:AE43) -> 1209562.6 | AG43: =+AF43-SUM(B43:M43) -> 30154.002
A44: (67) FOSOVI | B44: 0 | C44: 0 | D44: 2713.83 | E44: 2563.22 | F44: 0 | G44: 2339.19 | H44: 0 | I44: 0 | J44: 0 | K44: 0 | L44: 404.38 | M44: 0 | O44: =+AVERAGE(B44:C44,E44,G44:M44) -> 530.679 | P44: =+AVERAGE(B44:E44,G44:M44) -> 729.14727 | Q44: =+MAX(B44:E44,G44:M44) -> 2713.83 | R44: =+MEDIAN(B44:E44,G44:M44) -> 0 | S44: =+MIN(B44:E44,G44:M44) -> 0 | T44: =+$O44+$O44*G118 -> 1702.4805 | U44: =+$O44+$O44*H118 -> 0 | V44: =+$O44+$O44*I118 -> 0 | W44: =+$O44+$O44*J118 -> 0 | X44: =+$O44+$O44*K118 -> 0 | Y44: =+$O44+$O44*L118 -> 294.31088 | Z44: =+$O44+$O44*M118 -> 0 | AA44: =+$O44+$O44*B118 -> 0 | AB44: =+$O44+$O44*C118 -> 0 | AC44: =+$O44+$O44*D118 -> 1975.1464 | AD44: =+$O44+$O44*E118 -> 1865.5313 | AE44: =+$O44+$O44*F118 -> 0 | AF44: =SUM(T44:AE44) -> 5837.469 | AG44: =+AF44-SUM(B44:M44) -> -2183.151
A45: (69) COPEVI | B45: 0 | C45: 0 | D45: 0 | E45: 0 | F45: 0 | G45: 0 | H45: 0 | I45: 0 | J45: 0 | K45: 0 | L45: 0 | M45: 0 | O45: =+AVERAGE(B45:C45,E45,G45:M45) -> 0 | P45: =+AVERAGE(B45:E45,G45:M45) -> 0 | Q45: =+MAX(B45:E45,G45:M45) -> 0 | R45: =+MEDIAN(B45:E45,G45:M45) -> 0 | S45: =+MIN(B45:E45,G45:M45) -> 0 | T45: =+$O45+$O45*G119 -> #DIV/0! | U45: =+$O45+$O45*H119 -> #DIV/0! | V45: =+$O45+$O45*I119 -> #DIV/0! | W45: =+$O45+$O45*J119 -> #DIV/0! | X45: =+$O45+$O45*K119 -> #DIV/0! | Y45: =+$O45+$O45*L119 -> #DIV/0! | Z45: =+$O45+$O45*M119 -> #DIV/0! | AA45: =+$O45+$O45*B119 -> #DIV/0! | AB45: =+$O45+$O45*C119 -> #DIV/0! | AC45: =+$O45+$O45*D119 -> #DIV/0! | AD45: =+$O45+$O45*E119 -> #DIV/0! | AE45: =+$O45+$O45*F119 -> #DIV/0! | AF45: =SUM(T45:AE45) -> #DIV/0! | AG45: =+AF45-SUM(B45:M45) -> #DIV/0!
A46: (70) CASA Y CIUDAD | B46: 0 | C46: 0 | D46: 0 | E46: 0 | F46: 0 | G46: 0 | H46: 23204.58 | I46: 0 | J46: 0 | K46: 0 | L46: 0 | M46: 0 | O46: =+AVERAGE(B46:C46,E46,G46:M46) -> 2320.458 | P46: =+AVERAGE(B46:E46,G46:M46) -> 2109.5073 | Q46: =+MAX(B46:E46,G46:M46) -> 23204.58 | R46: =+MEDIAN(B46:E46,G46:M46) -> 0 | S46: =+MIN(B46:E46,G46:M46) -> 0 | T46: =+$O46+$O46*G120 -> 0 | U46: =+$O46+$O46*H120 -> 25525.038 | V46: =+$O46+$O46*I120 -> 0 | W46: =+$O46+$O46*J120 -> 0 | X46: =+$O46+$O46*K120 -> 0 | Y46: =+$O46+$O46*L120 -> 0 | Z46: =+$O46+$O46*M120 -> 0 | AA46: =+$O46+$O46*B120 -> 0 | AB46: =+$O46+$O46*C120 -> 0 | AC46: =+$O46+$O46*D120 -> 0 | AD46: =+$O46+$O46*E120 -> 0 | AE46: =+$O46+$O46*F120 -> 0 | AF46: =SUM(T46:AE46) -> 25525.038 | AG46: =+AF46-SUM(B46:M46) -> 2320.458
A47: (57) LA DRAGA - COFINANCIAMIENTO | B47: 107980.75 | C47: 25822.14 | D47: 59575.71 | E47: 65233.27 | F47: 258868.72 | G47: 157881.18 | H47: 81735.95 | I47: 89547.52 | J47: 57058.98 | K47: 81519.11 | L47: 16508.14 | M47: 146451.91 | O47: =+AVERAGE(B47:C47,E47,G47:M47) -> 82973.895 | P47: =+AVERAGE(B47:E47,G47:M47) -> 80846.787 | Q47: =+MAX(B47:E47,G47:M47) -> 157881.18 | R47: =+MEDIAN(B47:E47,G47:M47) -> 81519.11 | S47: =+MIN(B47:E47,G47:M47) -> 16508.14 | T47: =+$O47+$O47*G121 -> 162035.09 | U47: =+$O47+$O47*H121 -> 83886.452 | V47: =+$O47+$O47*I121 -> 91903.547 | W47: =+$O47+$O47*J121 -> 58560.222 | X47: =+$O47+$O47*K121 -> 83663.907 | Y47: =+$O47+$O47*L121 -> 16942.475 | Z47: =+$O47+$O47*M121 -> 150305.11 | AA47: =+$O47+$O47*B121 -> 110821.76 | AB47: =+$O47+$O47*C121 -> 26501.53 | AC47: =+$O47+$O47*D121 -> 61143.168 | AD47: =+$O47+$O47*E121 -> 66949.581 | AE47: =+$O47+$O47*F121 -> 265679.65 | AF47: =SUM(T47:AE47) -> 1178392.5 | AG47: =+AF47-SUM(B47:M47) -> 30209.113
A48: ADQUISICIÓN DE VIVIENDA | B48: =SUM(B49:B54) -> 4000495.9 | C48: =SUM(C49:C54) -> 3396471.7 | D48: =SUM(D49:D54) -> 3297564 | E48: =SUM(E49:E54) -> 3548760.8 | F48: 4956387.7 | G48: =SUM(G49:G54) -> 3977135.9 | H48: =SUM(H49:H54) -> 4021672.9 | I48: =SUM(I49:I54) -> 4986475.5 | J48: =SUM(J49:J54) -> 5492246.5 | K48: =SUM(K49:K54) -> 4153353.9 | L48: =SUM(L49:L54) -> 4231817 | M48: =SUM(M49:M54) -> 3821227.4 | O48: =+AVERAGE(B48:C48,E48,G48:M48) -> 4162965.7 | P48: =+AVERAGE(B48:E48,G48:M48) -> 4084292.9 | Q48: =+MAX(B48:E48,G48:M48) -> 5492246.5 | R48: =+MEDIAN(B48:E48,G48:M48) -> 4000495.9 | S48: =+MIN(B48:E48,G48:M48) -> 3297564 | T48: =+$O48+$O48*G122 -> 4053744.7 | U48: =+$O48+$O48*H122 -> 4099139.6 | V48: =+$O48+$O48*I122 -> 5082526.5 | W48: =+$O48+$O48*J122 -> 5598039.9 | X48: =+$O48+$O48*K122 -> 4233357 | Y48: =+$O48+$O48*L122 -> 4313331.6 | Z48: =+$O48+$O48*M122 -> 3894833 | AA48: =+$O48+$O48*B122 -> 4077554.7 | AB48: =+$O48+$O48*C122 -> 3461895.5 | AC48: =+$O48+$O48*D122 -> 3361082.7 | AD48: =+$O48+$O48*E122 -> 3617118.1 | AE48: =+$O48+$O48*F122 -> 5051859.2 | AF48: =SUM(T48:AE48) -> 50844482 | AG48: =+AF48-SUM(B48:M48) -> 960873.18
A49: (63) ADQUISICIÓN DE VIVIENDA | B49: 45502.47 | C49: 20047.03 | D49: 20363.63 | E49: 36890.24 | F49: 22960.89 | G49: 16169.44 | H49: 18304.75 | I49: 12486.92 | J49: 36000.32 | K49: 14218.29 | L49: 53417.86 | M49: 10468.22 | O49: =+AVERAGE(B49:C49,E49,G49:M49) -> 26350.554 | P49: =+AVERAGE(B49:E49,G49:M49) -> 25806.288 | Q49: =+MAX(B49:E49,G49:M49) -> 53417.86 | R49: =+MEDIAN(B49:E49,G49:M49) -> 20047.03 | S49: =+MIN(B49:E49,G49:M49) -> 10468.22 | T49: =+$O49+$O49*G123 -> 16510.461 | U49: =+$O49+$O49*H123 -> 18690.805 | V49: =+$O49+$O49*I123 -> 12750.275 | W49: =+$O49+$O49*J123 -> 36759.582 | X49: =+$O49+$O49*K123 -> 14518.16 | Y49: =+$O49+$O49*L123 -> 54544.466 | Z49: =+$O49+$O49*M123 -> 10688.999 | AA49: =+$O49+$O49*B123 -> 46462.137 | AB49: =+$O49+$O49*C123 -> 20469.831 | AC49: =+$O49+$O49*D123 -> 20793.108 | AD49: =+$O49+$O49*E123 -> 37668.271 | AE49: =+$O49+$O49*F123 -> 23445.145 | AF49: =SUM(T49:AE49) -> 313301.24 | AG49: =+AF49-SUM(B49:M49) -> 6471.1791
A50: (64) VIVIENDA EN USO | B50: 7202 | C50: 31502.2 | D50: 7610.16 | E50: 13337.44 | F50: 13602.02 | G50: 6711.45 | H50: 7717 | I50: 5222.86 | J50: 32405.65 | K50: 39142.23 | L50: 9069.14 | M50: 8761.6 | O50: =+AVERAGE(B50:C50,E50,G50:M50) -> 16107.157 | P50: =+AVERAGE(B50:E50,G50:M50) -> 15334.703 | Q50: =+MAX(B50:E50,G50:M50) -> 39142.23 | R50: =+MEDIAN(B50:E50,G50:M50) -> 8761.6 | S50: =+MIN(B50:E50,G50:M50) -> 5222.86 | T50: =+$O50+$O50*G124 -> 7049.5256 | U50: =+$O50+$O50*H124 -> 8105.7281 | V50: =+$O50+$O50*I124 -> 5485.9509 | W50: =+$O50+$O50*J124 -> 34038.018 | X50: =+$O50+$O50*K124 -> 41113.94 | Y50: =+$O50+$O50*L124 -> 9525.9794 | Z50: =+$O50+$O50*M124 -> 9202.9477 | AA50: =+$O50+$O50*B124 -> 7564.786 | AB50: =+$O50+$O50*C124 -> 33089.059 | AC50: =+$O50+$O50*D124 -> 7993.5062 | AD50: =+$O50+$O50*E124 -> 14009.286 | AE50: =+$O50+$O50*F124 -> 14287.194 | AF50: =SUM(T50:AE50) -> 191465.92 | AG50: =+AF50-SUM(B50:M50) -> 9182.1709
A51: (85) REHABILITACION | B51: 5911.34 | C51: 168468.01 | D51: 18416.65 | E51: 4975.59 | F51: 4237.16 | G51: 806.88 | H51: 806.6 | I51: 840.15 | J51: 3022.44 | K51: 9421.39 | L51: 4201.43 | M51: 838.97 | O51: =+AVERAGE(B51:C51,E51,G51:M51) -> 19929.28 | P51: =+AVERAGE(B51:E51,G51:M51) -> 19791.768 | Q51: =+MAX(B51:E51,G51:M51) -> 168468.01 | R51: =+MEDIAN(B51:E51,G51:M51) -> 4201.43 | S51: =+MIN(B51:E51,G51:M51) -> 806.6 | T51: =+$O51+$O51*G125 -> 812.48615 | U51: =+$O51+$O51*H125 -> 812.2042 | V51: =+$O51+$O51*I125 -> 845.9873 | W51: =+$O51+$O51*J125 -> 3043.4397 | X51: =+$O51+$O51*K125 -> 9486.8492 | Y51: =+$O51+$O51*L125 -> 4230.6212 | Z51: =+$O51+$O51*M125 -> 844.7991 | AA51: =+$O51+$O51*B125 -> 5952.4116 | AB51: =+$O51+$O51*C125 -> 169638.51 | AC51: =+$O51+$O51*D125 -> 18544.608 | AD51: =+$O51+$O51*E125 -> 5010.1601 | AE51: =+$O51+$O51*F125 -> 4266.5995 | AF51: =SUM(T51:AE51) -> 223488.68 | AG51: =+AF51-SUM(B51:M51) -> 1542.0695
A52: (88) ADQUISICIÓN A TERCEROS | B52: 180003.06 | C52: 44441.35 | D52: 32060.47 | E52: 26382.85 | F52: 454435.93 | G52: 42255.63 | H52: 117505.16 | I52: 64471.02 | J52: 21417.27 | K52: 26096.61 | L52: 16702.8 | M52: 38622.08 | O52: =+AVERAGE(B52:C52,E52,G52:M52) -> 57789.783 | P52: =+AVERAGE(B52:E52,G52:M52) -> 55450.755 | Q52: =+MAX(B52:E52,G52:M52) -> 180003.06 | R52: =+MEDIAN(B52:E52,G52:M52) -> 38622.08 | S52: =+MIN(B52:E52,G52:M52) -> 16702.8 | T52: =+$O52+$O52*G126 -> 44038.061 | U52: =+$O52+$O52*H126 -> 122461.77 | V52: =+$O52+$O52*I126 -> 67190.542 | W52: =+$O52+$O52*J126 -> 22320.695 | X52: =+$O52+$O52*K126 -> 27197.419 | Y52: =+$O52+$O52*L126 -> 17407.359 | Z52: =+$O52+$O52*M126 -> 40251.24 | AA52: =+$O52+$O52*B126 -> 187595.96 | AB52: =+$O52+$O52*C126 -> 46315.979 | AC52: =+$O52+$O52*D126 -> 33412.847 | AD52: =+$O52+$O52*E126 -> 27495.734 | AE52: =+$O52+$O52*F126 -> 473604.99 | AF52: =SUM(T52:AE52) -> 1109292.6 | AG52: =+AF52-SUM(B52:M52) -> 44898.368
A53: (AB) ADQUISICIÓN DE VIVIENDA EN USO Y REHABILITACIÓN | B53: 202206.35 | C53: 103784.7 | D53: 110162.07 | E53: 116806.96 | F53: 158173.14 | G53: 81222.93 | H53: 176811.16 | I53: 83087.86 | J53: 91843.53 | K53: 117567.7 | L53: 113070.05 | M53: 79470.24 | O53: =+AVERAGE(B53:C53,E53,G53:M53) -> 116587.15 | P53: =+AVERAGE(B53:E53,G53:M53) -> 116003.05 | Q53: =+MAX(B53:E53,G53:M53) -> 202206.35 | R53: =+MEDIAN(B53:E53,G53:M53) -> 110162.07 | S53: =+MIN(B53:E53,G53:M53) -> 79470.24 | T53: =+$O53+$O53*G127 -> 81631.903 | U53: =+$O53+$O53*H127 -> 177701.44 | V53: =+$O53+$O53*I127 -> 83506.224 | W53: =+$O53+$O53*J127 -> 92305.98 | X53: =+$O53+$O53*K127 -> 118159.68 | Y53: =+$O53+$O53*L127 -> 113639.38 | Z53: =+$O53+$O53*M127 -> 79870.388 | AA53: =+$O53+$O53*B127 -> 203224.5 | AB53: =+$O53+$O53*C127 -> 104307.28 | AC53: =+$O53+$O53*D127 -> 110716.76 | AD53: =+$O53+$O53*E127 -> 117395.11 | AE53: =+$O53+$O53*F127 -> 158969.57 | AF53: =SUM(T53:AE53) -> 1441428.2 | AG53: =+AF53-SUM(B53:M53) -> 7221.5106
A54: (AC) ADQUISICIÓN DE VIVIENDA A TERCEROS | B54: 3559670.7 | C54: 3028228.4 | D54: 3108951 | E54: 3350367.7 | F54: 4302978.6 | G54: 3829969.6 | H54: 3700528.2 | I54: 4820366.6 | J54: 5307557.3 | K54: 3946907.7 | L54: 4035355.8 | M54: 3683066.2 | O54: =+AVERAGE(B54:C54,E54,G54:M54) -> 3926201.8 | P54: =+AVERAGE(B54:E54,G54:M54) -> 3851906.3 | Q54: =+MAX(B54:E54,G54:M54) -> 5307557.3 | R54: =+MEDIAN(B54:E54,G54:M54) -> 3700528.2 | S54: =+MIN(B54:E54,G54:M54) -> 3028228.4 | T54: =+$O54+$O54*G128 -> 3903842 | U54: =+$O54+$O54*H128 -> 3771904 | V54: =+$O54+$O54*I128 -> 4913341.8 | W54: =+$O54+$O54*J128 -> 5409929.4 | X54: =+$O54+$O54*K128 -> 4023035.6 | Y54: =+$O54+$O54*L128 -> 4113189.7 | Z54: =+$O54+$O54*M128 -> 3754105.2 | AA54: =+$O54+$O54*B128 -> 3628329.6 | AB54: =+$O54+$O54*C128 -> 3086636.8 | AC54: =+$O54+$O54*D128 -> 3168916.4 | AD54: =+$O54+$O54*E128 -> 3414989.6 | AE54: =+$O54+$O54*F128 -> 4385974.4 | AF54: =SUM(T54:AE54) -> 47574194 | AG54: =+AF54-SUM(B54:M54) -> 900246.6
A55: VIVIENDA EN CONJUNTO | B55: =SUM(B56:B64) -> 31908780 | C55: =SUM(C56:C64) -> 30733318 | D55: =SUM(D56:D64) -> 30007215 | E55: =SUM(E56:E64) -> 32036933 | F55: 42026931 | G55: =SUM(G56:G64) -> 36978334 | H55: =SUM(H56:H64) -> 36374955 | I55: =SUM(I56:I64) -> 36570297 | J55: =SUM(J56:J64) -> 35193820 | K55: =SUM(K56:K64) -> 35549192 | L55: =SUM(L56:L64) -> 36573443 | M55: =SUM(M56:M64) -> 34633144 | O55: =+AVERAGE(B55:C55,E55,G55:M55) -> 34655221 | P55: =+AVERAGE(B55:E55,G55:M55) -> 34232675 | Q55: =+MAX(B55:E55,G55:M55) -> 36978334 | R55: =+MEDIAN(B55:E55,G55:M55) -> 35193820 | S55: =+MIN(B55:E55,G55:M55) -> 30007215 | T55: =+$O55+$O55*G129 -> 37434770 | U55: =+$O55+$O55*H129 -> 36823944 | V55: =+$O55+$O55*I129 -> 37021697 | W55: =+$O55+$O55*J129 -> 35628229 | X55: =+$O55+$O55*K129 -> 35987988 | Y55: =+$O55+$O55*L129 -> 37024882 | Z55: =+$O55+$O55*M129 -> 35060633 | AA55: =+$O55+$O55*B129 -> 32302641 | AB55: =+$O55+$O55*C129 -> 31112670 | AC55: =+$O55+$O55*D129 -> 30377605 | AD55: =+$O55+$O55*E129 -> 32432377 | AE55: =+$O55+$O55*F129 -> 42545684 | AF55: =SUM(T55:AE55) -> 4.2375312e+08 | AG55: =+AF55-SUM(B55:M55) -> 5166759.5
A56: (89) EDIFICACION III | B56: 830.1 | C56: 3048.86 | D56: 3878.4 | E56: 1784.27 | F56: 5990.11 | G56: 3045.63 | H56: 4702.14 | I56: 3906.02 | J56: 920.52 | K56: 2717.74 | L56: 4052.82 | M56: 3230.88 | O56: =+AVERAGE(B56:C56,E56,G56:M56) -> 2823.898 | P56: =+AVERAGE(B56:E56,G56:M56) -> 2919.7618 | Q56: =+MAX(B56:E56,G56:M56) -> 4702.14 | R56: =+MEDIAN(B56:E56,G56:M56) -> 3048.86 | S56: =+MIN(B56:E56,G56:M56) -> 830.1 | T56: =+$O56+$O56*G130 -> 2945.6336 | U56: =+$O56+$O56*H130 -> 4547.7558 | V56: =+$O56+$O56*I130 -> 3777.7746 | W56: =+$O56+$O56*J130 -> 890.29679 | X56: =+$O56+$O56*K130 -> 2628.5091 | Y56: =+$O56+$O56*L130 -> 3919.7548 | Z56: =+$O56+$O56*M130 -> 3124.8013 | AA56: =+$O56+$O56*B130 -> 802.84553 | AB56: =+$O56+$O56*C130 -> 2948.7575 | AC56: =+$O56+$O56*D130 -> 3751.0615 | AD56: =+$O56+$O56*E130 -> 1725.6875 | AE56: =+$O56+$O56*F130 -> 5793.4382 | AF56: =SUM(T56:AE56) -> 36856.316 | AG56: =+AF56-SUM(B56:M56) -> -1251.1738
A57: (AA) ESTUDIOS Y PROYECTOS Y EDIFICACIÓN | B57: 234284.08 | C57: 308006.33 | D57: 187250.72 | E57: 227745.65 | F57: 187063.93 | G57: 245360.88 | H57: 145045.54 | I57: 256519.24 | J57: 171386.16 | K57: 123954.27 | L57: 103638.23 | M57: 166250.23 | O57: =+AVERAGE(B57:C57,E57,G57:M57) -> 198219.06 | P57: =+AVERAGE(B57:E57,G57:M57) -> 197221.94 | Q57: =+MAX(B57:E57,G57:M57) -> 308006.33 | R57: =+MEDIAN(B57:E57,G57:M57) -> 187250.72 | S57: =+MIN(B57:E57,G57:M57) -> 103638.23 | T57: =+$O57+$O57*G131 -> 246601.38 | U57: =+$O57+$O57*H131 -> 145778.87 | V57: =+$O57+$O57*I131 -> 257816.16 | W57: =+$O57+$O57*J131 -> 172252.66 | X57: =+$O57+$O57*K131 -> 124580.96 | Y57: =+$O57+$O57*L131 -> 104162.21 | Z57: =+$O57+$O57*M131 -> 167090.76 | AA57: =+$O57+$O57*B131 -> 235468.58 | AB57: =+$O57+$O57*C131 -> 309563.56 | AC57: =+$O57+$O57*D131 -> 188197.43 | AD57: =+$O57+$O57*E131 -> 228897.09 | AE57: =+$O57+$O57*F131 -> 188009.69 | AF57: =SUM(T57:AE57) -> 2368419.4 | AG57: =+AF57-SUM(B57:M57) -> 11914.106
A58: (AD) ADQUISICION DE SUELO Y EDIFICACIÓN | B58: 307204.09 | C58: 430237.65 | D58: 394461.56 | E58: 446062.03 | F58: 376468.65 | G58: 273091.27 | H58: 281915.77 | I58: 298927.49 | J58: 277997.36 | K58: 506694.98 | L58: 459214.46 | M58: 410309.71 | O58: =+AVERAGE(B58:C58,E58,G58:M58) -> 369165.48 | P58: =+AVERAGE(B58:E58,G58:M58) -> 371465.12 | Q58: =+MAX(B58:E58,G58:M58) -> 506694.98 | R58: =+MEDIAN(B58:E58,G58:M58) -> 394461.56 | S58: =+MIN(B58:E58,G58:M58) -> 273091.27 | T58: =+$O58+$O58*G132 -> 271400.63 | U58: =+$O58+$O58*H132 -> 280170.5 | V58: =+$O58+$O58*I132 -> 297076.91 | W58: =+$O58+$O58*J132 -> 276276.35 | X58: =+$O58+$O58*K132 -> 503558.16 | Y58: =+$O58+$O58*L132 -> 456371.58 | Z58: =+$O58+$O58*M132 -> 407769.59 | AA58: =+$O58+$O58*B132 -> 305302.27 | AB58: =+$O58+$O58*C132 -> 427574.16 | AC58: =+$O58+$O58*D132 -> 392019.55 | AD58: =+$O58+$O58*E132 -> 443300.58 | AE58: =+$O58+$O58*F132 -> 374138.03 | AF58: =SUM(T58:AE58) -> 4434958.3 | AG58: =+AF58-SUM(B58:M58) -> -27626.698
A59: (AE) ADQUISICIÓN DE SUELO Y ESTUDIOS Y PROYECTOS | B59: 55158.87 | C59: 88075.93 | D59: 113761.79 | E59: 161491.18 | F59: 216376.54 | G59: 139629.15 | H59: 272262.99 | I59: 41533.61 | J59: 24598.72 | K59: 33086.77 | L59: 14859.62 | M59: 27087 | O59: =+AVERAGE(B59:C59,E59,G59:M59) -> 85778.384 | P59: =+AVERAGE(B59:E59,G59:M59) -> 88322.33 | Q59: =+MAX(B59:E59,G59:M59) -> 272262.99 | R59: =+MEDIAN(B59:E59,G59:M59) -> 55158.87 | S59: =+MIN(B59:E59,G59:M59) -> 14859.62 | T59: =+$O59+$O59*G133 -> 135607.41 | U59: =+$O59+$O59*H133 -> 264421.01 | V59: =+$O59+$O59*I133 -> 40337.318 | W59: =+$O59+$O59*J133 -> 23890.204 | X59: =+$O59+$O59*K133 -> 32133.773 | Y59: =+$O59+$O59*L133 -> 14431.619 | Z59: =+$O59+$O59*M133 -> 26306.814 | AA59: =+$O59+$O59*B133 -> 53570.13 | AB59: =+$O59+$O59*C133 -> 85539.081 | AC59: =+$O59+$O59*D133 -> 110485.11 | AD59: =+$O59+$O59*E133 -> 156839.75 | AE59: =+$O59+$O59*F133 -> 210144.25 | AF59: =SUM(T59:AE59) -> 1153706.5 | AG59: =+AF59-SUM(B59:M59) -> -34215.694
A60: (AF) DEMOLICIÓN, ESTUDIOS Y PROYECTOS Y EDIFICACIÓN | B60: 4056701.3 | C60: 4518490.3 | D60: 3779436.6 | E60: 3830440.3 | F60: 5041215.1 | G60: 5112204 | H60: 3630703.1 | I60: 4215666.7 | J60: 4225735.4 | K60: 4679470.3 | L60: 4942472.2 | M60: 4649601.1 | O60: =+AVERAGE(B60:C60,E60,G60:M60) -> 4386148.5 | P60: =+AVERAGE(B60:E60,G60:M60) -> 4330992.8 | Q60: =+MAX(B60:E60,G60:M60) -> 5112204 | R60: =+MEDIAN(B60:E60,G60:M60) -> 4225735.4 | S60: =+MIN(B60:E60,G60:M60) -> 3630703.1 | T60: =+$O60+$O60*G134 -> 5177308.4 | U60: =+$O60+$O60*H134 -> 3676940.5 | V60: =+$O60+$O60*I134 -> 4269353.6 | W60: =+$O60+$O60*J134 -> 4279550.6 | X60: =+$O60+$O60*K134 -> 4739063.8 | Y60: =+$O60+$O60*L134 -> 5005415.1 | Z60: =+$O60+$O60*M134 -> 4708814.2 | AA60: =+$O60+$O60*B134 -> 4108363.8 | AB60: =+$O60+$O60*C134 -> 4576033.7 | AC60: =+$O60+$O60*D134 -> 3827568.1 | AD60: =+$O60+$O60*E134 -> 3879221.3 | AE60: =+$O60+$O60*F134 -> 5105415.4 | AF60: =SUM(T60:AE60) -> 53353049 | AG60: =+AF60-SUM(B60:M60) -> 670912.24
A61: (AH) SUELO, ESTUDIOS Y PROYECTOS Y EDIFICACIÓN | B61: 1321027.1 | C61: 1059634.2 | D61: 1265743.4 | E61: 1170549.9 | F61: 2204932.1 | G61: 1317730.3 | H61: 1178046.1 | I61: 1089889.5 | J61: 1528692.6 | K61: 1177757.2 | L61: 1178283.5 | M61: 1215972.5 | O61: =+AVERAGE(B61:C61,E61,G61:M61) -> 1223758.3 | P61: =+AVERAGE(B61:E61,G61:M61) -> 1227575.1 | Q61: =+MAX(B61:E61,G61:M61) -> 1528692.6 | R61: =+MEDIAN(B61:E61,G61:M61) -> 1178283.5 | S61: =+MIN(B61:E61,G61:M61) -> 1059634.2 | T61: =+$O61+$O61*G135 -> 1313633.1 | U61: =+$O61+$O61*H135 -> 1174383.2 | V61: =+$O61+$O61*I135 -> 1086500.7 | W61: =+$O61+$O61*J135 -> 1523939.5 | X61: =+$O61+$O61*K135 -> 1174095.3 | Y61: =+$O61+$O61*L135 -> 1174619.9 | Z61: =+$O61+$O61*M135 -> 1212191.8 | AA61: =+$O61+$O61*B135 -> 1316919.7 | AB61: =+$O61+$O61*C135 -> 1056339.5 | AC61: =+$O61+$O61*D135 -> 1261807.9 | AD61: =+$O61+$O61*E135 -> 1166910.4 | AE61: =+$O61+$O61*F135 -> 2198076.4 | AF61: =SUM(T61:AE61) -> 15659418 | AG61: =+AF61-SUM(B61:M61) -> -48840.832
A62: (AI) ADQUISICIÓN DE SUELO | B62: 160787.15 | C62: 146330.48 | D62: 97082.17 | E62: 252703.42 | F62: 180268.88 | G62: 64261.18 | H62: 301566.9 | I62: 79894.58 | J62: 111862.07 | K62: 84781.13 | L62: 60946.57 | M62: 66623.17 | O62: =+AVERAGE(B62:C62,E62,G62:M62) -> 132975.67 | P62: =+AVERAGE(B62:E62,G62:M62) -> 129712.62 | Q62: =+MAX(B62:E62,G62:M62) -> 301566.9 | R62: =+MEDIAN(B62:E62,G62:M62) -> 97082.17 | S62: =+MIN(B62:E62,G62:M62) -> 60946.57 | T62: =+$O62+$O62*G136 -> 65877.731 | U62: =+$O62+$O62*H136 -> 309153.1 | V62: =+$O62+$O62*I136 -> 81904.405 | W62: =+$O62+$O62*J136 -> 114676.07 | X62: =+$O62+$O62*K136 -> 86913.88 | Y62: =+$O62+$O62*L136 -> 62479.739 | Z62: =+$O62+$O62*M136 -> 68299.14 | AA62: =+$O62+$O62*B136 -> 164831.9 | AB62: =+$O62+$O62*C136 -> 150011.56 | AC62: =+$O62+$O62*D136 -> 99524.365 | AD62: =+$O62+$O62*E136 -> 259060.42 | AE62: =+$O62+$O62*F136 -> 184803.72 | AF62: =SUM(T62:AE62) -> 1647536 | AG62: =+AF62-SUM(B62:M62) -> 40428.331
A63: (AJ) VIVIENDA NUEVA TERMINADA EDIFICACIÓN INVI II | B63: 1559809.1 | C63: 1185697.3 | D63: 929973.41 | E63: 1163205.2 | F63: 1896801.5 | G63: 1564420.4 | H63: 1132298.4 | I63: 1097245.9 | J63: 1661918.6 | K63: 1470052.2 | L63: 1520596 | M63: 1344769.9 | O63: =+AVERAGE(B63:C63,E63,G63:M63) -> 1370001.3 | P63: =+AVERAGE(B63:E63,G63:M63) -> 1329998.8 | Q63: =+MAX(B63:E63,G63:M63) -> 1661918.6 | R63: =+MEDIAN(B63:E63,G63:M63) -> 1344769.9 | S63: =+MIN(B63:E63,G63:M63) -> 929973.41 | T63: =+$O63+$O63*G137 -> 1611473.7 | U63: =+$O63+$O63*H137 -> 1166354.7 | V63: =+$O63+$O63*I137 -> 1130247.9 | W63: =+$O63+$O63*J137 -> 1711904.3 | X63: =+$O63+$O63*K137 -> 1514267.2 | Y63: =+$O63+$O63*L137 -> 1566331.2 | Z63: =+$O63+$O63*M137 -> 1385216.8 | AA63: =+$O63+$O63*B137 -> 1606723.7 | AB63: =+$O63+$O63*C137 -> 1221359.6 | AC63: =+$O63+$O63*D137 -> 957944.33 | AD63: =+$O63+$O63*E137 -> 1198191.1 | AE63: =+$O63+$O63*F137 -> 1953851.9 | AF63: =SUM(T63:AE63) -> 17023866 | AG63: =+AF63-SUM(B63:M63) -> 497078.24
A64: (AK) SUELO, ESTUDIOS Y PROYECTOS Y EDIFICACIÓN INVI II | B64: 24212978 | C64: 22993797 | D64: 23235627 | E64: 24782951 | F64: 31917814 | G64: 28258591 | H64: 29428414 | I64: 29486714 | J64: 27190708 | K64: 27470677 | L64: 28289380 | M64: 26749299 | O64: =+AVERAGE(B64:C64,E64,G64:M64) -> 26886351 | P64: =+AVERAGE(B64:E64,G64:M64) -> 26554467 | Q64: =+MAX(B64:E64,G64:M64) -> 29486714 | R64: =+MEDIAN(B64:E64,G64:M64) -> 27190708 | S64: =+MIN(B64:E64,G64:M64) -> 22993797 | T64: =+$O64+$O64*G138 -> 28611773 | U64: =+$O64+$O64*H138 -> 29796217 | V64: =+$O64+$O64*I138 -> 29855246 | W64: =+$O64+$O64*J138 -> 27530544 | X64: =+$O64+$O64*K138 -> 27814012 | Y64: =+$O64+$O64*L138 -> 28642947 | Z64: =+$O64+$O64*M138 -> 27083619 | AA64: =+$O64+$O64*B138 -> 24515597 | AB64: =+$O64+$O64*C138 -> 23281179 | AC64: =+$O64+$O64*D138 -> 23526031 | AD64: =+$O64+$O64*E138 -> 25092695 | AE64: =+$O64+$O64*F138 -> 32316730 | AF64: =SUM(T64:AE64) -> 3.2806659e+08 | AG64: =+AF64-SUM(B64:M64) -> 4049640.1
A65: MEJORAMIENTO DE VIVIENDA | B65: =SUM(B66) -> 72818.89 | C65: =SUM(C66) -> 77259.02 | D65: =SUM(D66) -> 113786.61 | E65: =SUM(E66) -> 87981.56 | F65: 114507.71 | G65: =SUM(G66) -> 110979.41 | H65: =SUM(H66) -> 91223.95 | I65: =SUM(I66) -> 99822.54 | J65: =SUM(J66) -> 103139.32 | K65: =SUM(K66) -> 83048.72 | L65: =SUM(L66) -> 108131.08 | M65: =SUM(M66) -> 58960.07 | O65: =+AVERAGE(B65:C65,E65,G65:M65) -> 89336.456 | P65: =+AVERAGE(B65:E65,G65:M65) -> 91559.197 | Q65: =+MAX(B65:E65,G65:M65) -> 113786.61 | R65: =+MEDIAN(B65:E65,G65:M65) -> 91223.95 | S65: =+MIN(B65:E65,G65:M65) -> 58960.07 | T65: =+$O65+$O65*G139 -> 108285.21 | U65: =+$O65+$O65*H139 -> 89009.347 | V65: =+$O65+$O65*I139 -> 97399.193 | W65: =+$O65+$O65*J139 -> 100635.45 | X65: =+$O65+$O65*K139 -> 81032.584 | Y65: =+$O65+$O65*L139 -> 105506.03 | Z65: =+$O65+$O65*M139 -> 57528.723 | AA65: =+$O65+$O65*B139 -> 71051.099 | AB65: =+$O65+$O65*C139 -> 75383.438 | AC65: =+$O65+$O65*D139 -> 111024.26 | AD65: =+$O65+$O65*E139 -> 85845.671 | AE65: =+$O65+$O65*F139 -> 111727.86 | AF65: =SUM(T65:AE65) -> 1094428.9 | AG65: =+AF65-SUM(B65:M65) -> -27230.006
A66: (AL) SUELO, CONSTRUCCIÓN Y MEJORAMIENTO | B66: 72818.89 | C66: 77259.02 | D66: 113786.61 | E66: 87981.56 | F66: 114507.71 | G66: 110979.41 | H66: 91223.95 | I66: 99822.54 | J66: 103139.32 | K66: 83048.72 | L66: 108131.08 | M66: 58960.07 | O66: =+AVERAGE(B66:C66,E66,G66:M66) -> 89336.456 | P66: =+AVERAGE(B66:E66,G66:M66) -> 91559.197 | Q66: =+MAX(B66:E66,G66:M66) -> 113786.61 | R66: =+MEDIAN(B66:E66,G66:M66) -> 91223.95 | S66: =+MIN(B66:E66,G66:M66) -> 58960.07 | T66: =+$O66+$O66*G140 -> 108285.21 | U66: =+$O66+$O66*H140 -> 89009.347 | V66: =+$O66+$O66*I140 -> 97399.193 | W66: =+$O66+$O66*J140 -> 100635.45 | X66: =+$O66+$O66*K140 -> 81032.584 | Y66: =+$O66+$O66*L140 -> 105506.03 | Z66: =+$O66+$O66*M140 -> 57528.723 | AA66: =+$O66+$O66*B140 -> 71051.099 | AB66: =+$O66+$O66*C140 -> 75383.438 | AC66: =+$O66+$O66*D140 -> 111024.26 | AD66: =+$O66+$O66*E140 -> 85845.671 | AE66: =+$O66+$O66*F140 -> 111727.86 | AF66: =SUM(T66:AE66) -> 1094428.9 | AG66: =+AF66-SUM(B66:M66) -> -27230.006
A67: CONSTRUCCIÓN DE VIVIENDA EN LOTE FAMILIAR | B67: =SUM(B68) -> 41733145 | C67: =SUM(C68) -> 42875845 | D67: =SUM(D68) -> 40813910 | E67: =SUM(E68) -> 39996642 | F67: 55217602 | G67: =SUM(G68) -> 42411429 | H67: =SUM(H68) -> 48166822 | I67: =SUM(I68) -> 45460922 | J67: =SUM(J68) -> 42521364 | K67: =SUM(K68) -> 46410067 | L67: =SUM(L68) -> 44058109 | M67: =SUM(M68) -> 43129473 | O67: =+AVERAGE(B67:C67,E67,G67:M67) -> 43676382 | P67: =+AVERAGE(B67:E67,G67:M67) -> 43416157 | Q67: =+MAX(B67:E67,G67:M67) -> 48166822 | R67: =+MEDIAN(B67:E67,G67:M67) -> 42875845 | S67: =+MIN(B67:E67,G67:M67) -> 39996642 | T67: =+$O67+$O67*G141 -> 42665632 | U67: =+$O67+$O67*H141 -> 48455520 | V67: =+$O67+$O67*I141 -> 45733402 | W67: =+$O67+$O67*J141 -> 42776226 | X67: =+$O67+$O67*K141 -> 46688236 | Y67: =+$O67+$O67*L141 -> 44322182 | Z67: =+$O67+$O67*M141 -> 43387980 | AA67: =+$O67+$O67*B141 -> 41983282 | AB67: =+$O67+$O67*C141 -> 43132831 | AC67: =+$O67+$O67*D141 -> 41058538 | AD67: =+$O67+$O67*E141 -> 40236371 | AE67: =+$O67+$O67*F141 -> 55548562 | AF67: =SUM(T67:AE67) -> 5.3598876e+08 | AG67: =+AF67-SUM(B67:M67) -> 3193430.6
A68: (90) CONSTRUCCIÓN Y MEJORAMIENTO II - MÓDULOS | B68: 41733145 | C68: 42875845 | D68: 40813910 | E68: 39996642 | F68: 55217602 | G68: 42411429 | H68: 48166822 | I68: 45460922 | J68: 42521364 | K68: 46410067 | L68: 44058109 | M68: 43129473 | O68: =+AVERAGE(B68:C68,E68,G68:M68) -> 43676382 | P68: =+AVERAGE(B68:E68,G68:M68) -> 43416157 | Q68: =+MAX(B68:E68,G68:M68) -> 48166822 | R68: =+MEDIAN(B68:E68,G68:M68) -> 42875845 | S68: =+MIN(B68:E68,G68:M68) -> 39996642 | T68: =+$O68+$O68*G142 -> 42665632 | U68: =+$O68+$O68*H142 -> 48455520 | V68: =+$O68+$O68*I142 -> 45733402 | W68: =+$O68+$O68*J142 -> 42776226 | X68: =+$O68+$O68*K142 -> 46688236 | Y68: =+$O68+$O68*L142 -> 44322182 | Z68: =+$O68+$O68*M142 -> 43387980 | AA68: =+$O68+$O68*B142 -> 41983282 | AB68: =+$O68+$O68*C142 -> 43132831 | AC68: =+$O68+$O68*D142 -> 41058538 | AD68: =+$O68+$O68*E142 -> 40236371 | AE68: =+$O68+$O68*F142 -> 55548562 | AF68: =SUM(T68:AE68) -> 5.3598876e+08 | AG68: =+AF68-SUM(B68:M68) -> 3193430.6
A69: RESCATE HIPOTECARIO - PESOS | B69: =SUM(B70) -> 10475.2 | C69: =SUM(C70) -> 6326.56 | D69: =SUM(D70) -> 38690.59 | E69: =SUM(E70) -> 5596.02 | F69: 42079.64 | G69: =SUM(G70) -> 12852.53 | H69: =SUM(H70) -> 12877.85 | I69: =SUM(I70) -> 9749.39 | J69: =SUM(J70) -> 7852.78 | K69: =SUM(K70) -> 8287.5 | L69: =SUM(L70) -> 24764.68 | M69: =SUM(M70) -> 29959.58 | O69: =+AVERAGE(B69:C69,E69,G69:M69) -> 12874.209 | P69: =+AVERAGE(B69:E69,G69:M69) -> 15221.153 | Q69: =+MAX(B69:E69,G69:M69) -> 38690.59 | R69: =+MEDIAN(B69:E69,G69:M69) -> 10475.2 | S69: =+MIN(B69:E69,G69:M69) -> 5596.02 | T69: =+$O69+$O69*G143 -> 10870.803 | U69: =+$O69+$O69*H143 -> 10892.219 | V69: =+$O69+$O69*I143 -> 8246.1353 | W69: =+$O69+$O69*J143 -> 6641.9629 | X69: =+$O69+$O69*K143 -> 7009.6535 | Y69: =+$O69+$O69*L143 -> 20946.223 | Z69: =+$O69+$O69*M143 -> 25340.124 | AA69: =+$O69+$O69*B143 -> 8860.0329 | AB69: =+$O69+$O69*C143 -> 5351.0701 | AC69: =+$O69+$O69*D143 -> 32724.903 | AD69: =+$O69+$O69*E143 -> 4733.1718 | AE69: =+$O69+$O69*F143 -> 35591.396 | AF69: =SUM(T69:AE69) -> 177207.7 | AG69: =+AF69-SUM(B69:M69) -> -32304.625
A70: (83) SERFIN - FIVIDESU - INVI | B70: 10475.2 | C70: 6326.56 | D70: 38690.59 | E70: 5596.02 | F70: 42079.64 | G70: 12852.53 | H70: 12877.85 | I70: 9749.39 | J70: 7852.78 | K70: 8287.5 | L70: 24764.68 | M70: 29959.58 | O70: =+AVERAGE(B70:C70,E70,G70:M70) -> 12874.209 | P70: =+AVERAGE(B70:E70,G70:M70) -> 15221.153 | Q70: =+MAX(B70:E70,G70:M70) -> 38690.59 | R70: =+MEDIAN(B70:E70,G70:M70) -> 10475.2 | S70: =+MIN(B70:E70,G70:M70) -> 5596.02 | T70: =+$O70+$O70*G144 -> 10870.803 | U70: =+$O70+$O70*H144 -> 10892.219 | V70: =+$O70+$O70*I144 -> 8246.1353 | W70: =+$O70+$O70*J144 -> 6641.9629 | X70: =+$O70+$O70*K144 -> 7009.6535 | Y70: =+$O70+$O70*L144 -> 20946.223 | Z70: =+$O70+$O70*M144 -> 25340.124 | AA70: =+$O70+$O70*B144 -> 8860.0329 | AB70: =+$O70+$O70*C144 -> 5351.0701 | AC70: =+$O70+$O70*D144 -> 32724.903 | AD70: =+$O70+$O70*E144 -> 4733.1718 | AE70: =+$O70+$O70*F144 -> 35591.396 | AF70: =SUM(T70:AE70) -> 177207.7 | AG70: =+AF70-SUM(B70:M70) -> -32304.625
A71: RESCATE DE CARTERA - VSM | B71: =SUM(B72:B77) -> 0 | C71: =SUM(C72:C77) -> 0 | D71: =SUM(D72:D77) -> 0 | E71: =SUM(E72:E77) -> 0 | F71: 0 | G71: =SUM(G72:G77) -> 0 | H71: =SUM(H72:H77) -> 0 | I71: =SUM(I72:I77) -> 0 | J71: =SUM(J72:J77) -> 5254.82 | K71: =SUM(K72:K77) -> 0 | L71: =SUM(L72:L77) -> 0 | M71: =SUM(M72:M77) -> 0 | O71: =+AVERAGE(B71:C71,E71,G71:M71) -> 525.482 | P71: =+AVERAGE(B71:E71,G71:M71) -> 477.71091 | Q71: =+MAX(B71:E71,G71:M71) -> 5254.82 | R71: =+MEDIAN(B71:E71,G71:M71) -> 0 | S71: =+MIN(B71:E71,G71:M71) -> 0 | T71: =+$O71+$O71*G145 -> 0 | U71: =+$O71+$O71*H145 -> 0 | V71: =+$O71+$O71*I145 -> 0 | W71: =+$O71+$O71*J145 -> 5780.302 | X71: =+$O71+$O71*K145 -> 0 | Y71: =+$O71+$O71*L145 -> 0 | Z71: =+$O71+$O71*M145 -> 0 | AA71: =+$O71+$O71*B145 -> 0 | AB71: =+$O71+$O71*C145 -> 0 | AC71: =+$O71+$O71*D145 -> 0 | AD71: =+$O71+$O71*E145 -> 0 | AE71: =+$O71+$O71*F145 -> 0 | AF71: =SUM(T71:AE71) -> 5780.302 | AG71: =+AF71-SUM(B71:M71) -> 525.482
A72: (59) LAGO VIESCA No. 29 | B72: 0 | C72: 0 | D72: 0 | E72: 0 | F72: 0 | G72: 0 | H72: 0 | I72: 0 | J72: 0 | K72: 0 | L72: 0 | M72: 0 | O72: =+AVERAGE(B72:C72,E72,G72:M72) -> 0 | P72: =+AVERAGE(B72:E72,G72:M72) -> 0 | Q72: =+MAX(B72:E72,G72:M72) -> 0 | R72: =+MEDIAN(B72:E72,G72:M72) -> 0 | S72: =+MIN(B72:E72,G72:M72) -> 0 | T72: =+$O72+$O72*G146 -> #DIV/0! | U72: =+$O72+$O72*H146 -> #DIV/0! | V72: =+$O72+$O72*I146 -> #DIV/0! | W72: =+$O72+$O72*J146 -> #DIV/0! | X72: =+$O72+$O72*K146 -> #DIV/0! | Y72: =+$O72+$O72*L146 -> #DIV/0! | Z72: =+$O72+$O72*M146 -> #DIV/0! | AA72: =+$O72+$O72*B146 -> #DIV/0! | AB72: =+$O72+$O72*C146 -> #DIV/0! | AC72: =+$O72+$O72*D146 -> #DIV/0! | AD72: =+$O72+$O72*E146 -> #DIV/0! | AE72: =+$O72+$O72*F146 -> #DIV/0! | AF72: =SUM(T72:AE72) -> #DIV/0! | AG72: =+AF72-SUM(B72:M72) -> #DIV/0!
A73: (71) JOSÉ JOAQUÍN HERRERA No. 151 | B73: 0 | C73: 0 | D73: 0 | E73: 0 | F73: 0 | G73: 0 | H73: 0 | I73: 0 | J73: 0 | K73: 0 | L73: 0 | M73: 0 | O73: =+AVERAGE(B73:C73,E73,G73:M73) -> 0 | P73: =+AVERAGE(B73:E73,G73:M73) -> 0 | Q73: =+MAX(B73:E73,G73:M73) -> 0 | R73: =+MEDIAN(B73:E73,G73:M73) -> 0 | S73: =+MIN(B73:E73,G73:M73) -> 0 | T73: =+$O73+$O73*G147 -> #DIV/0! | U73: =+$O73+$O73*H147 -> #DIV/0! | V73: =+$O73+$O73*I147 -> #DIV/0! | W73: =+$O73+$O73*J147 -> #DIV/0! | X73: =+$O73+$O73*K147 -> #DIV/0! | Y73: =+$O73+$O73*L147 -> #DIV/0! | Z73: =+$O73+$O73*M147 -> #DIV/0! | AA73: =+$O73+$O73*B147 -> #DIV/0! | AB73: =+$O73+$O73*C147 -> #DIV/0! | AC73: =+$O73+$O73*D147 -> #DIV/0! | AD73: =+$O73+$O73*E147 -> #DIV/0! | AE73: =+$O73+$O73*F147 -> #DIV/0! | AF73: =SUM(T73:AE73) -> #DIV/0! | AG73: =+AF73-SUM(B73:M73) -> #DIV/0!
A74: (73) CÁNDIDO NAVARRO No. 84 | B74: 0 | C74: 0 | D74: 0 | E74: 0 | F74: 0 | G74: 0 | H74: 0 | I74: 0 | J74: 0 | K74: 0 | L74: 0 | M74: 0 | O74: =+AVERAGE(B74:C74,E74,G74:M74) -> 0 | P74: =+AVERAGE(B74:E74,G74:M74) -> 0 | Q74: =+MAX(B74:E74,G74:M74) -> 0 | R74: =+MEDIAN(B74:E74,G74:M74) -> 0 | S74: =+MIN(B74:E74,G74:M74) -> 0 | T74: =+$O74+$O74*G148 -> #DIV/0! | U74: =+$O74+$O74*H148 -> #DIV/0! | V74: =+$O74+$O74*I148 -> #DIV/0! | W74: =+$O74+$O74*J148 -> #DIV/0! | X74: =+$O74+$O74*K148 -> #DIV/0! | Y74: =+$O74+$O74*L148 -> #DIV/0! | Z74: =+$O74+$O74*M148 -> #DIV/0! | AA74: =+$O74+$O74*B148 -> #DIV/0! | AB74: =+$O74+$O74*C148 -> #DIV/0! | AC74: =+$O74+$O74*D148 -> #DIV/0! | AD74: =+$O74+$O74*E148 -> #DIV/0! | AE74: =+$O74+$O74*F148 -> #DIV/0! | AF74: =SUM(T74:AE74) -> #DIV/0! | AG74: =+AF74-SUM(B74:M74) -> #DIV/0!
A75: (79) PRIVADA DE CAMPO CORINTO No. 1 | B75: 0 | C75: 0 | D75: 0 | E75: 0 | F75: 0 | G75: 0 | H75: 0 | I75: 0 | J75: 0 | K75: 0 | L75: 0 | M75: 0 | O75: =+AVERAGE(B75:C75,E75,G75:M75) -> 0 | P75: =+AVERAGE(B75:E75,G75:M75) -> 0 | Q75: =+MAX(B75:E75,G75:M75) -> 0 | R75: =+MEDIAN(B75:E75,G75:M75) -> 0 | S75: =+MIN(B75:E75,G75:M75) -> 0 | T75: =+$O75+$O75*G149 -> #DIV/0! | U75: =+$O75+$O75*H149 -> #DIV/0! | V75: =+$O75+$O75*I149 -> #DIV/0! | W75: =+$O75+$O75*J149 -> #DIV/0! | X75: =+$O75+$O75*K149 -> #DIV/0! | Y75: =+$O75+$O75*L149 -> #DIV/0! | Z75: =+$O75+$O75*M149 -> #DIV/0! | AA75: =+$O75+$O75*B149 -> #DIV/0! | AB75: =+$O75+$O75*C149 -> #DIV/0! | AC75: =+$O75+$O75*D149 -> #DIV/0! | AD75: =+$O75+$O75*E149 -> #DIV/0! | AE75: =+$O75+$O75*F149 -> #DIV/0! | AF75: =SUM(T75:AE75) -> #DIV/0! | AG75: =+AF75-SUM(B75:M75) -> #DIV/0!
A76: (78) XANAMBRES No. 1 | B76: 0 | C76: 0 | D76: 0 | E76: 0 | F76: 0 | G76: 0 | H76: 0 | I76: 0 | J76: 5254.82 | K76: 0 | L76: 0 | M76: 0 | O76: =+AVERAGE(B76:C76,E76,G76:M76) -> 525.482 | P76: =+AVERAGE(B76:E76,G76:M76) -> 477.71091 | Q76: =+MAX(B76:E76,G76:M76) -> 5254.82 | R76: =+MEDIAN(B76:E76,G76:M76) -> 0 | S76: =+MIN(B76:E76,G76:M76) -> 0 | T76: =+$O76+$O76*G150 -> 0 | U76: =+$O76+$O76*H150 -> 0 | V76: =+$O76+$O76*I150 -> 0 | W76: =+$O76+$O76*J150 -> 5780.302 | X76: =+$O76+$O76*K150 -> 0 | Y76: =+$O76+$O76*L150 -> 0 | Z76: =+$O76+$O76*M150 -> 0 | AA76: =+$O76+$O76*B150 -> 0 | AB76: =+$O76+$O76*C150 -> 0 | AC76: =+$O76+$O76*D150 -> 0 | AD76: =+$O76+$O76*E150 -> 0 | AE76: =+$O76+$O76*F150 -> 0 | AF76: =SUM(T76:AE76) -> 5780.302 | AG76: =+AF76-SUM(B76:M76) -> 525.482
A77: (82) JOSÉ F. GUTIÉRREZ No. 254 | B77: 0 | C77: 0 | D77: 0 | E77: 0 | F77: 0 | G77: 0 | H77: 0 | I77: 0 | J77: 0 | K77: 0 | L77: 0 | M77: 0 | O77: =+AVERAGE(B77:C77,E77,G77:M77) -> 0 | P77: =+AVERAGE(B77:E77,G77:M77) -> 0 | Q77: =+MAX(B77:E77,G77:M77) -> 0 | R77: =+MEDIAN(B77:E77,G77:M77) -> 0 | S77: =+MIN(B77:E77,G77:M77) -> 0 | T77: =+$O77+$O77*G151 -> #DIV/0! | U77: =+$O77+$O77*H151 -> #DIV/0! | V77: =+$O77+$O77*I151 -> #DIV/0! | W77: =+$O77+$O77*J151 -> #DIV/0! | X77: =+$O77+$O77*K151 -> #DIV/0! | Y77: =+$O77+$O77*L151 -> #DIV/0! | Z77: =+$O77+$O77*M151 -> #DIV/0! | AA77: =+$O77+$O77*B151 -> #DIV/0! | AB77: =+$O77+$O77*C151 -> #DIV/0! | AC77: =+$O77+$O77*D151 -> #DIV/0! | AD77: =+$O77+$O77*E151 -> #DIV/0! | AE77: =+$O77+$O77*F151 -> #DIV/0! | AF77: =SUM(T77:AE77) -> #DIV/0! | AG77: =+AF77-SUM(B77:M77) -> #DIV/0!
A78: VIVIENDA EN CONJUNTO CON INTERÉS ORDINARIO | B78: =SUM(B79:B80) -> 1931461.7 | C78: =SUM(C79:C80) -> 2048948.9 | D78: =SUM(D79:D80) -> 1789750.4 | E78: =SUM(E79:E80) -> 2302316.4 | F78: 2080773.1 | G78: =SUM(G79:G80) -> 2396417.5 | H78: =SUM(H79:H80) -> 1923707.7 | I78: =SUM(I79:I80) -> 2281439.8 | J78: =SUM(J79:J80) -> 2049093.3 | K78: =SUM(K79:K80) -> 1782012.6 | L78: =SUM(L79:L80) -> 1854892.9 | M78: =SUM(M79:M80) -> 1697315.6 | O78: =+AVERAGE(B78:C78,E78,G78:M78) -> 2026760.6 | P78: =+AVERAGE(B78:E78,G78:M78) -> 2005214.2 | Q78: =+MAX(B78:E78,G78:M78) -> 2396417.5 | R78: =+MEDIAN(B78:E78,G78:M78) -> 1931461.7 | S78: =+MIN(B78:E78,G78:M78) -> 1697315.6 | T78: =+$O78+$O78*G152 -> 2422167.4 | U78: =+$O78+$O78*H152 -> 1944378.3 | V78: =+$O78+$O78*I152 -> 2305954.2 | W78: =+$O78+$O78*J152 -> 2071111.1 | X78: =+$O78+$O78*K152 -> 1801160.6 | Y78: =+$O78+$O78*L152 -> 1874824 | Z78: =+$O78+$O78*M152 -> 1715553.6 | AA78: =+$O78+$O78*B152 -> 1952215.6 | AB78: =+$O78+$O78*C152 -> 2070965.3 | AC78: =+$O78+$O78*D152 -> 1808981.6 | AD78: =+$O78+$O78*E152 -> 2327055.2 | AE78: =+$O78+$O78*F152 -> 2103131.4 | AF78: =SUM(T78:AE78) -> 24397498 | AG78: =+AF78-SUM(B78:M78) -> 259368.51
A79: (80) VIVIENDA NUEVA TERMINADA EDIFICACION | B79: 1931461.7 | C79: 2048948.9 | D79: 1789750.4 | E79: 2302316.4 | F79: 2080773.1 | G79: 2396417.5 | H79: 1923707.7 | I79: 2281439.8 | J79: 2049093.3 | K79: 1782012.6 | L79: 1854892.9 | M79: 1697315.6 | O79: =+AVERAGE(B79:C79,E79,G79:M79) -> 2026760.6 | P79: =+AVERAGE(B79:E79,G79:M79) -> 2005214.2 | Q79: =+MAX(B79:E79,G79:M79) -> 2396417.5 | R79: =+MEDIAN(B79:E79,G79:M79) -> 1931461.7 | S79: =+MIN(B79:E79,G79:M79) -> 1697315.6 | T79: =+$O79+$O79*G153 -> 2422167.4 | U79: =+$O79+$O79*H153 -> 1944378.3 | V79: =+$O79+$O79*I153 -> 2305954.2 | W79: =+$O79+$O79*J153 -> 2071111.1 | X79: =+$O79+$O79*K153 -> 1801160.6 | Y79: =+$O79+$O79*L153 -> 1874824 | Z79: =+$O79+$O79*M153 -> 1715553.6 | AA79: =+$O79+$O79*B153 -> 1952215.6 | AB79: =+$O79+$O79*C153 -> 2070965.3 | AC79: =+$O79+$O79*D153 -> 1808981.6 | AD79: =+$O79+$O79*E153 -> 2327055.2 | AE79: =+$O79+$O79*F153 -> 2103131.4 | AF79: =SUM(T79:AE79) -> 24397498 | AG79: =+AF79-SUM(B79:M79) -> 259368.51
A80: (AM) ADQUISICIÓN DE VIVIENDA | B80: 0 | C80: 0 | D80: 0 | E80: 0 | F80: 0 | G80: 0 | H80: 0 | I80: 0 | J80: 0 | K80: 0 | L80: 0 | M80: 0 | O80: =+AVERAGE(B80:C80,E80,G80:M80) -> 0 | P80: =+AVERAGE(B80:E80,G80:M80) -> 0 | Q80: =+MAX(B80:E80,G80:M80) -> 0 | R80: =+MEDIAN(B80:E80,G80:M80) -> 0 | S80: =+MIN(B80:E80,G80:M80) -> 0 | T80: =+$O80+$O80*G154 -> #DIV/0! | U80: =+$O80+$O80*H154 -> #DIV/0! | V80: =+$O80+$O80*I154 -> #DIV/0! | W80: =+$O80+$O80*J154 -> #DIV/0! | X80: =+$O80+$O80*K154 -> #DIV/0! | Y80: =+$O80+$O80*L154 -> #DIV/0! | Z80: =+$O80+$O80*M154 -> #DIV/0! | AA80: =+$O80+$O80*B154 -> #DIV/0! | AB80: =+$O80+$O80*C154 -> #DIV/0! | AC80: =+$O80+$O80*D154 -> #DIV/0! | AD80: =+$O80+$O80*E154 -> #DIV/0! | AE80: =+$O80+$O80*F154 -> #DIV/0! | AF80: =SUM(T80:AE80) -> #DIV/0! | AG80: =+AF80-SUM(B80:M80) -> #DIV/0!
A81: VIVIENDA EN CONJUNTO ANUALIDADES | B81: =SUM(B82) -> 7379.5 | C81: =SUM(C82) -> 12453.33 | D81: =SUM(D82) -> 24371.53 | E81: =SUM(E82) -> 0 | F81: 10166.63 | G81: =SUM(G82) -> 4179.05 | H81: =SUM(H82) -> 59960.45 | I81: =SUM(I82) -> 0 | J81: =SUM(J82) -> 6133.26 | K81: =SUM(K82) -> 5875.51 | L81: =SUM(L82) -> 18888.26 | M81: =SUM(M82) -> 54432.56 | O81: =+AVERAGE(B81:C81,E81,G81:M81) -> 16930.192 | P81: =+AVERAGE(B81:E81,G81:M81) -> 17606.677 | Q81: =+MAX(B81:E81,G81:M81) -> 59960.45 | R81: =+MEDIAN(B81:E81,G81:M81) -> 7379.5 | S81: =+MIN(B81:E81,G81:M81) -> 0 | T81: =+$O81+$O81*G155 -> 4018.4822 | U81: =+$O81+$O81*H155 -> 57656.644 | V81: =+$O81+$O81*I155 -> 0 | W81: =+$O81+$O81*J155 -> 5897.6074 | X81: =+$O81+$O81*K155 -> 5649.7606 | Y81: =+$O81+$O81*L155 -> 18162.534 | Z81: =+$O81+$O81*M155 -> 52341.147 | AA81: =+$O81+$O81*B155 -> 7095.9642 | AB81: =+$O81+$O81*C155 -> 11974.847 | AC81: =+$O81+$O81*D155 -> 23435.125 | AD81: =+$O81+$O81*E155 -> 0 | AE81: =+$O81+$O81*F155 -> 9776.0069 | AF81: =SUM(T81:AE81) -> 196008.12 | AG81: =+AF81-SUM(B81:M81) -> -7831.9611
A82: (86) VIVIENDA EN CONJUNTO | B82: 7379.5 | C82: 12453.33 | D82: 24371.53 | E82: 0 | F82: 10166.63 | G82: 4179.05 | H82: 59960.45 | I82: 0 | J82: 6133.26 | K82: 5875.51 | L82: 18888.26 | M82: 54432.56 | O82: =+AVERAGE(B82:C82,E82,G82:M82) -> 16930.192 | P82: =+AVERAGE(B82:E82,G82:M82) -> 17606.677 | Q82: =+MAX(B82:E82,G82:M82) -> 59960.45 | R82: =+MEDIAN(B82:E82,G82:M82) -> 7379.5 | S82: =+MIN(B82:E82,G82:M82) -> 0 | T82: =+$O82+$O82*G156 -> 4018.4822 | U82: =+$O82+$O82*H156 -> 57656.644 | V82: =+$O82+$O82*I156 -> 0 | W82: =+$O82+$O82*J156 -> 5897.6074 | X82: =+$O82+$O82*K156 -> 5649.7606 | Y82: =+$O82+$O82*L156 -> 18162.534 | Z82: =+$O82+$O82*M156 -> 52341.147 | AA82: =+$O82+$O82*B156 -> 7095.9642 | AB82: =+$O82+$O82*C156 -> 11974.847 | AC82: =+$O82+$O82*D156 -> 23435.125 | AD82: =+$O82+$O82*E156 -> 0 | AE82: =+$O82+$O82*F156 -> 9776.0069 | AF82: =SUM(T82:AE82) -> 196008.12 | AG82: =+AF82-SUM(B82:M82) -> -7831.9611
A84: PORCENTAJE DE INCREMENTO O DECREMENTO ANTE EL PROMEDIO | B84: =+B10/$P10*1-1 -> 0.17378297 | C84: =+C10/$P10*1-1 -> 0.19471488 | D84: =+D10/$P10*1-1 -> -0.25373229 | E84: =+E10/$P10*1-1 -> 0.14967046 | F84: =+F10/$P10*1-1 -> 1.0326006 | G84: =+G10/$P10*1-1 -> -0.042833581 | H84: =+H10/$P10*1-1 -> -0.046062691 | I84: =+I10/$P10*1-1 -> -0.22035294 | ... M84: =+M10/$P10*1-1 -> 0.23099933
B85: =+B11/$P11*1-1 -> 0.13834369 | C85: =+C11/$P11*1-1 -> 0.33515514 | D85: =+D11/$P11*1-1 -> -0.25827349 | E85: =+E11/$P11*1-1 -> 0.093944816 | F85: =+F11/$P11*1-1 -> 1.2058245 | G85: =+G11/$P11*1-1 -> 0.041958312 | H85: =+H11/$P11*1-1 -> 0.029957591 | I85: =+I11/$P11*1-1 -> -0.19646499 | ... M85: =+M11/$P11*1-1 -> 0.10322711
B86: =+B12/$P12*1-1 -> #DIV/0! | C86: =+C12/$P12*1-1 -> #DIV/0! | D86: =+D12/$P12*1-1 -> #DIV/0! | E86: =+E12/$P12*1-1 -> #DIV/0! | F86: =+F12/$P12*1-1 -> #DIV/0! | G86: =+G12/$P12*1-1 -> #DIV/0! | H86: =+H12/$P12*1-1 -> #DIV/0! | I86: =+I12/$P12*1-1 -> #DIV/0! | ... M86: =+M12/$P12*1-1 -> #DIV/0!
B87: =+B13/$P13*1-1 -> 0.14841782 | C87: =+C13/$P13*1-1 -> -0.42207563 | D87: =+D13/$P13*1-1 -> 0.43434736 | E87: =+E13/$P13*1-1 -> -0.42249246 | F87: =+F13/$P13*1-1 -> 0.42243178 | G87: =+G13/$P13*1-1 -> -0.2109291 | H87: =+H13/$P13*1-1 -> -0.26870776 | I87: =+I13/$P13*1-1 -> 0.47036666 | ... M87: =+M13/$P13*1-1 -> 0.025280161
B88: =+B14/$P14*1-1 -> -0.251906 | C88: =+C14/$P14*1-1 -> -0.42867365 | D88: =+D14/$P14*1-1 -> -0.12937537 | E88: =+E14/$P14*1-1 -> -0.49617854 | F88: =+F14/$P14*1-1 -> -0.0055348025 | G88: =+G14/$P14*1-1 -> -0.32234951 | H88: =+H14/$P14*1-1 -> -0.10393132 | I88: =+I14/$P14*1-1 -> 0.070196517 | ... M88: =+M14/$P14*1-1 -> -0.23462315
B89: =+B15/$P15*1-1 -> #DIV/0! | C89: =+C15/$P15*1-1 -> #DIV/0! | D89: =+D15/$P15*1-1 -> #DIV/0! | E89: =+E15/$P15*1-1 -> #DIV/0! | F89: =+F15/$P15*1-1 -> #DIV/0! | G89: =+G15/$P15*1-1 -> #DIV/0! | H89: =+H15/$P15*1-1 -> #DIV/0! | I89: =+I15/$P15*1-1 -> #DIV/0! | ... M89: =+M15/$P15*1-1 -> #DIV/0!
B90: =+B16/$P16*1-1 -> 0.80261499 | C90: =+C16/$P16*1-1 -> -0.85277799 | D90: =+D16/$P16*1-1 -> -0.38529286 | E90: =+E16/$P16*1-1 -> 1.2088691 | F90: =+F16/$P16*1-1 -> -0.12802734 | G90: =+G16/$P16*1-1 -> -0.76330517 | H90: =+H16/$P16*1-1 -> -0.79171699 | I90: =+I16/$P16*1-1 -> -0.75255303 | ... M90: =+M16/$P16*1-1 -> 1.9001064
B92: =+B18/$P18*1-1 -> 0.59289702 | C92: =+C18/$P18*1-1 -> -0.28176375 | D92: =+D18/$P18*1-1 -> 0.22547055 | E92: =+E18/$P18*1-1 -> 0.048998771 | F92: =+F18/$P18*1-1 -> -0.20151731 | G92: =+G18/$P18*1-1 -> 0.19379605 | H92: =+H18/$P18*1-1 -> -0.45898457 | I92: =+I18/$P18*1-1 -> -0.48173286 | ... M92: =+M18/$P18*1-1 -> 0.069721547
B93: =+B19/$P19*1-1 -> #DIV/0! | C93: =+C19/$P19*1-1 -> #DIV/0! | D93: =+D19/$P19*1-1 -> #DIV/0! | E93: =+E19/$P19*1-1 -> #DIV/0! | F93: =+F19/$P19*1-1 -> #DIV/0! | G93: =+G19/$P19*1-1 -> #DIV/0! | H93: =+H19/$P19*1-1 -> #DIV/0! | I93: =+I19/$P19*1-1 -> #DIV/0! | ... M93: =+M19/$P19*1-1 -> #DIV/0!
B94: =+B20/$P20*1-1 -> #DIV/0! | C94: =+C20/$P20*1-1 -> #DIV/0! | D94: =+D20/$P20*1-1 -> #DIV/0! | E94: =+E20/$P20*1-1 -> #DIV/0! | F94: =+F20/$P20*1-1 -> #DIV/0! | G94: =+G20/$P20*1-1 -> #DIV/0! | H94: =+H20/$P20*1-1 -> #DIV/0! | I94: =+I20/$P20*1-1 -> #DIV/0! | ... M94: =+M20/$P20*1-1 -> #DIV/0!
B95: =+B21/$P21*1-1 -> 1.0536589 | C95: =+C21/$P21*1-1 -> 0.48683341 | D95: =+D21/$P21*1-1 -> 0.53681731 | E95: =+E21/$P21*1-1 -> 0.6282613 | F95: =+F21/$P21*1-1 -> 0.57794987 | G95: =+G21/$P21*1-1 -> 0.19533182 | H95: =+H21/$P21*1-1 -> -0.58950586 | I95: =+I21/$P21*1-1 -> -0.21857026 | ... M95: =+M21/$P21*1-1 -> -0.66486361
B96: =+B22/$P22*1-1 -> #DIV/0! | C96: =+C22/$P22*1-1 -> #DIV/0! | D96: =+D22/$P22*1-1 -> #DIV/0! | E96: =+E22/$P22*1-1 -> #DIV/0! | F96: =+F22/$P22*1-1 -> #DIV/0! | G96: =+G22/$P22*1-1 -> #DIV/0! | H96: =+H22/$P22*1-1 -> #DIV/0! | I96: =+I22/$P22*1-1 -> #DIV/0! | ... M96: =+M22/$P22*1-1 -> #DIV/0!
B97: =+B23/$P23*1-1 -> -1 | C97: =+C23/$P23*1-1 -> -1 | D97: =+D23/$P23*1-1 -> -1 | E97: =+E23/$P23*1-1 -> -1 | F97: =+F23/$P23*1-1 -> -1 | G97: =+G23/$P23*1-1 -> -1 | H97: =+H23/$P23*1-1 -> -1 | I97: =+I23/$P23*1-1 -> -1 | ... M97: =+M23/$P23*1-1 -> -1
... B156: =+B82/$P82*1-1 -> -0.58086924 | C156: =+C82/$P82*1-1 -> -0.29269278 | D156: =+D82/$P82*1-1 -> 0.38422086 | E156: =+E82/$P82*1-1 -> -1 | F156: =+F82/$P82*1-1 -> -0.42256964 | G156: =+G82/$P82*1-1 -> -0.76264403 | H156: =+H82/$P82*1-1 -> 2.4055517 | I156: =+I82/$P82*1-1 -> -1 | ... M156: =+M82/$P82*1-1 -> 2.0915862

Sheet PROPIA Y SOCIAL
A1: FIDEICOMISO DE RECUPERACIÓN CREDITICIA DEL DISTRITO FEDERAL FIDERE III
A2: RECUPERACIÓN DEL PERÍODO JULIO 2015 - JULIO 2016
A3: MILES DE PESOS
B5: 2015 | G5: 2 0 1 6
A6: CARTERA | Q6: SIN CONTAR DICIEMBRE 2015 | T6: 2017
B7: AGOSTO | C7: SEPTIEMBRE | D7: OCTUBRE | E7: NOVIEMBRE | F7: DICIEMBRE | G7: ENERO | H7: FEBRERO | I7: MARZO | J7: ABRIL | K7: MAYO | L7: JUNIO | M7: JULIO | N7: B C D E F G H I J K L M | O7: PROMEDIO REAL | P7: PROMEDIO GENERAL | Q7: MAXIMO | R7: MEDIA | S7: MINIMO | T7: ENERO | U7: FEBRERO | V7: MARZO | W7: ABRIL | X7: MAYO | Y7: JUNIO | Z7: JULIO | AA7: AGOSTO | AB7: SEPTIEMBRE | AC7: OCTUBRE | AD7: NOVIEMBRE | AE7: DICIEMBRE | AF7: TOTAL | AG7: VARIACION
N8: AGO SEP OCT NOV DIC ENE FEB MAR ABR MAY JUN JUL
A9: PROPIA | B9: =SUM(B10+B13+B14+B19) -> 22691.79 | C9: =SUM(C10+C13+C14+C19) -> 7100 | D9: =SUM(D10+D13+D14+D19) -> 22585.26 | E9: =SUM(E10+E13+E14+E19) -> 15459 | F9: =SUM(F10+F13+F14+F19) -> 30703.41 | G9: =SUM(G10+G13+G14+G19) -> 119049.35 | H9: =SUM(H10+H13+H14+H19) -> 9300 | I9: =SUM(I10+I13+I14+I19) -> 13251.25 | ... M9: =SUM(M10+M13+M14+M19) -> 15510 | O9: =+AVERAGE(B9:E9,H9:K9,M9) -> 16570.048 | P9: =+AVERAGE(B9:E9,H9:M9) -> 18288.571 | Q9: =+MAX(B9:E9,H9:M9) -> 33755.28 | R9: =+MEDIAN(B9:E9,H9:M9) -> 17694.195 | S9: =+MIN(B9:E9,G9:M9) -> 7100 | T9: =+T10+T14+T18+T19 -> #DIV/0! | U9: =+U10+U14+U18+U19 -> #DIV/0! | V9: =+V10+V14+V18+V19 -> #DIV/0! | W9: =+W10+W14+W18+W19 -> #DIV/0! | X9: =+X10+X14+X18+X19 -> #DIV/0! | Y9: =+Y10+Y14+Y18+Y19 -> #DIV/0! | Z9: =+Z10+Z14+Z18+Z19 -> #DIV/0! | AA9: =+AA10+AA14+AA18+AA19 -> #DIV/0! | ... AE9: =+AE10+AE14+AE18+AE19 -> #DIV/0! | AF9: =SUM(T9:AE9) -> #DIV/0! | AG9: =+AF9-SUM(B9:M9) -> #DIV/0!
A10: RHP | B10: =SUM(B11:B12) -> 1000 | C10: =SUM(C11:C12) -> 1000 | D10: =SUM(D11:D12) -> 119.26 | E10: =SUM(E11:E12) -> 0 | F10: =SUM(F11:F12) -> 7537.41 | G10: =SUM(G11:G12) -> 0 | H10: =SUM(H11:H12) -> 0 | I10: =SUM(I11:I12) -> 6951.25 | ... M10: =SUM(M11:M12) -> 1000 | O10: =+AVERAGE(B10:E10,H10:K10,M10) -> 3533.7378 | P10: =+AVERAGE(B10:E10,H10:M10) -> 5855.892 | Q10: =+MAX(B10:E10,H10:M10) -> 26755.28 | R10: =+MEDIAN(B10:E10,H10:M10) -> 1000 | S10: =+MIN(B10:E10,G10:M10) -> 0 | T10: =+$O10+$O10*G41 -> 0 | U10: =+$O10+$O10*H41 -> 0 | V10: =+$O10+$O10*I41 -> 4194.7315 | W10: =+$O10+$O10*J41 -> 5946.8424 | X10: =+$O10+$O10*K41 -> 7168.0139 | Y10: =+$O10+$O10*L41 -> 16145.473 | Z10: =+$O10+$O10*M41 -> 603.44996 | AA10: =+$O10+$O10*B41 -> 603.44996 | AB10: =+$O10+$O10*C41 -> 603.44996 | AC10: =+$O10+$O10*D41 -> 71.967442 | AD10: =+$O10+$O10*E41 -> 0 | AE10: =+$O10+$O10*F41 -> 4548.4497 | AF10: =SUM(T10:AE10) -> 39885.828 | AG10: =+AF10-SUM(B10:M10) -> -26210.502
A11: (16) CONGELADOS (a enero 2000) | B11: 1000 | C11: 1000 | D11: 0 | E11: 0 | F11: 7537.41 | G11: 0 | H11: 0 | I11: 6451.25 | J11: 0 | K11: 1000 | L11: 21866.14 | M11: 1000 | O11: =+AVERAGE(B11:E11,H11:K11,M11) -> 1161.25 | P11: =+AVERAGE(B11:E11,H11:M11) -> 3231.739 | Q11: =+MAX(B11:E11,H11:M11) -> 21866.14 | R11: =+MEDIAN(B11:E11,H11:M11) -> 1000 | S11: =+MIN(B11:E11,G11:M11) -> 0 | T11: =+$O11+$O11*G42 -> 0 | U11: =+$O11+$O11*H42 -> 0 | V11: =+$O11+$O11*I42 -> 2318.1062 | W11: =+$O11+$O11*J42 -> 0 | X11: =+$O11+$O11*K42 -> 359.32667 | Y11: =+$O11+$O11*L42 -> 7857.0872 | Z11: =+$O11+$O11*M42 -> 359.32667 | AA11: =+$O11+$O11*B42 -> 359.32667 | AB11: =+$O11+$O11*C42 -> 359.32667 | AC11: =+$O11+$O11*D42 -> 0 | AD11: =+$O11+$O11*E42 -> 0 | AE11: =+$O11+$O11*F42 -> 2708.3924 | AF11: =SUM(T11:AE11) -> 14320.892 | AG11: =+AF11-SUM(B11:M11) -> -25533.908
A12: (16) CONGELADOS (a julio 2003) | B12: 0 | C12: 0 | D12: 119.26 | E12: 0 | F12: 0 | G12: 0 | H12: 0 | I12: 500 | J12: 9854.74 | K12: 10878.39 | L12: 4889.14 | M12: 0 | O12: =+AVERAGE(B12:E12,H12:K12,M12) -> 2372.4878 | P12: =+AVERAGE(B12:E12,H12:M12) -> 2624.153 | Q12: =+MAX(B12:E12,H12:M12) -> 10878.39 | R12: =+MEDIAN(B12:E12,H12:M12) -> 59.63 | S12: =+MIN(B12:E12,G12:M12) -> 0 | T12: =+$O12+$O12*G43 -> 0 | U12: =+$O12+$O12*H43 -> 0 | V12: =+$O12+$O12*I43 -> 452.04829 | W12: =+$O12+$O12*J43 -> 8909.6368 | X12: =+$O12+$O12*K43 -> 9835.1153 | Y12: =+$O12+$O12*L43 -> 4420.2548 | Z12: =+$O12+$O12*M43 -> 0 | AA12: =+$O12+$O12*B43 -> 0 | AB12: =+$O12+$O12*C43 -> 0 | AC12: =+$O12+$O12*D43 -> 107.82256 | AD12: =+$O12+$O12*E43 -> 0 | AE12: =+$O12+$O12*F43 -> 0 | AF12: =SUM(T12:AE12) -> 23724.878 | AG12: =+AF12-SUM(B12:M12) -> -2516.6522
A13: (09/49) SUELO-FICAPRO-FIDERE | B13: 0 | C13: 0 | D13: 0 | E13: 3085.11 | F13: 0 | G13: 0 | H13: 0 | I13: 0 | J13: 0 | K13: 0 | L13: 0 | M13: 0 | O13: =+AVERAGE(B13:E13,H13:K13,M13) -> 342.79 | P13: =+AVERAGE(B13:E13,H13:M13) -> 308.511 | Q13: =+MAX(B13:E13,H13:M13) -> 3085.11 | R13: =+MEDIAN(B13:E13,H13:M13) -> 0 | S13: =+MIN(B13:E13,G13:M13) -> 0 | T13: =+$O13+$O13*G44 -> 0 | U13: =+$O13+$O13*H44 -> 0 | V13: =+$O13+$O13*I44 -> 0 | W13: =+$O13+$O13*J44 -> 0 | X13: =+$O13+$O13*K44 -> 0 | Y13: =+$O13+$O13*L44 -> 0 | Z13: =+$O13+$O13*M44 -> 0 | AA13: =+$O13+$O13*B44 -> 0 | AB13: =+$O13+$O13*C44 -> 0 | AC13: =+$O13+$O13*D44 -> 0 | AD13: =+$O13+$O13*E44 -> 3427.9 | AE13: =+$O13+$O13*F44 -> 0 | AF13: =SUM(T13:AE13) -> 3427.9 | AG13: =+AF13-SUM(B13:M13) -> 342.79
A14: FONDECO D.F. | B14: =SUM(B15+B18) -> 21691.79 | C14: =SUM(C15+C18) -> 2000 | D14: =SUM(D15+D18) -> 19900 | E14: =SUM(E15+E18) -> 9207.89 | F14: 20000 | G14: =SUM(G15+G18) -> 101184.36 | H14: =SUM(H15+H18) -> 6000 | I14: =SUM(I15+I18) -> 5000 | J14: =SUM(J15+J18) -> 12000 | K14: =SUM(K15+K18) -> 6000 | L14: =SUM(L15+L18) -> 5000 | M14: =SUM(M15+M18) -> 11510 | O14: =+AVERAGE(B14:E14,H14:K14,M14) -> 10367.742 | P14: =+AVERAGE(B14:E14,H14:M14) -> 9830.968 | Q14: =+MAX(B14:E14,H14:M14) -> 21691.79 | R14: =+MEDIAN(B14:E14,H14:M14) -> 7603.945 | S14: =+MIN(B14:E14,G14:M14) -> 2000 | T14: =+$O14+$O14*F45 -> 21092.007 | U14: =+$O14+$O14*H45 -> 6327.6021 | V14: =+$O14+$O14*I45 -> 5273.0017 | W14: =+$O14+$O14*J45 -> 12655.204 | X14: =+$O14+$O14*K45 -> 6327.6021 | Y14: =+$O14+$O14*L45 -> 5273.0017 | Z14: =+$O14+$O14*M45 -> 12138.45 | AA14: =+$O14+$O14*B45 -> 22876.169 | AB14: =+$O14+$O14*C45 -> 2109.2007 | AC14: =+$O14+$O14*D45 -> 20986.547 | AD14: =+$O14+$O14*E45 -> 9710.6439 | AE14: =+$O14+$O14*F45 -> 21092.007 | AF14: =SUM(T14:AE14) -> 145861.44 | AG14: =+AF14-SUM(B14:M14) -> -73632.604
A15: (93) FONDECO MYPES Local | B15: =SUM(B16:B17) -> 21691.79 | C15: =SUM(C16:C17) -> 2000 | D15: =SUM(D16:D17) -> 19900 | E15: 9207.89 | F15: 20000 | G15: =SUM(G16:G17) -> 101184.36 | H15: =SUM(H16:H17) -> 6000 | I15: =SUM(I16:I17) -> 5000 | J15: =SUM(J16:J17) -> 12000 | K15: =SUM(K16:K17) -> 6000 | L15: =SUM(L16:L17) -> 5000 | M15: =SUM(M16:M17) -> 11510 | O15: =+AVERAGE(B15:E15,H15:K15,M15) -> 10367.742 | P15: =+AVERAGE(B15:E15,H15:M15) -> 9830.968 | Q15: =+MAX(B15:E15,H15:M15) -> 21691.79 | R15: =+MEDIAN(B15:E15,H15:M15) -> 7603.945 | S15: =+MIN(B15:E15,G15:M15) -> 2000 | T15: =+$O15+$O15*F46 -> 21092.007 | U15: =+$O15+$O15*H46 -> 6327.6021 | V15: =+$O15+$O15*I46 -> 5273.0017 | W15: =+$O15+$O15*J46 -> 12655.204 | X15: =+$O15+$O15*K46 -> 6327.6021 | Y15: =+$O15+$O15*L46 -> 5273.0017 | Z15: =+$O15+$O15*M46 -> 12138.45 | AA15: =+$O15+$O15*B46 -> 22876.169 | AB15: =+$O15+$O15*C46 -> 2109.2007 | AC15: =+$O15+$O15*D46 -> 20986.547 | AD15: =+$O15+$O15*E46 -> 9710.6439 | AE15: =+$O15+$O15*F46 -> 21092.007 | AF15: =SUM(T15:AE15) -> 145861.44 | AG15: =+AF15-SUM(B15:M15) -> -73632.604
A16: (93) CARTERA VIGENTE | B16: 0 | C16: 0 | D16: 0 | E16: 0 | F16: 0 | G16: 0 | H16: 0 | I16: 0 | J16: 0 | K16: 0 | L16: 0 | M16: 0 | O16: =+AVERAGE(B16:E16,H16:K16,M16) -> 0 | P16: =+AVERAGE(B16:E16,H16:M16) -> 0 | Q16: =+MAX(B16:E16,H16:M16) -> 0 | R16: =+MEDIAN(B16:E16,H16:M16) -> 0 | S16: =+MIN(B16:E16,G16:M16) -> 0 | T16: =+$O16+$O16*F47 -> #DIV/0! | U16: =+$O16+$O16*H47 -> #DIV/0! | V16: =+$O16+$O16*I47 -> #DIV/0! | W16: =+$O16+$O16*J47 -> #DIV/0! | X16: =+$O16+$O16*K47 -> #DIV/0! | Y16: =+$O16+$O16*L47 -> #DIV/0! | Z16: =+$O16+$O16*M47 -> #DIV/0! | AA16: =+$O16+$O16*B47 -> #DIV/0! | AB16: =+$O16+$O16*C47 -> #DIV/0! | AC16: =+$O16+$O16*D47 -> #DIV/0! | AD16: =+$O16+$O16*E47 -> #DIV/0! | AE16: =+$O16+$O16*F47 -> #DIV/0! | AF16: =SUM(T16:AE16) -> #DIV/0! | AG16: =+AF16-SUM(B16:M16) -> #DIV/0!
A17: (93) CARTERA VENCIDA (Litigiosa) | B17: 21691.79 | C17: 2000 | D17: 19900 | E17: 9207.89 | F17: 20000 | G17: 101184.36 | H17: 6000 | I17: 5000 | J17: 12000 | K17: 6000 | L17: 5000 | M17: 11510 | O17: =+AVERAGE(B17:E17,H17:K17,M17) -> 10367.742 | P17: =+AVERAGE(B17:E17,H17:M17) -> 9830.968 | Q17: =+MAX(B17:E17,H17:M17) -> 21691.79 | R17: =+MEDIAN(B17:E17,H17:M17) -> 7603.945 | S17: =+MIN(B17:E17,G17:M17) -> 2000 | T17: =+$O17+$O17*F48 -> 21092.007 | U17: =+$O17+$O17*H48 -> 6327.6021 | V17: =+$O17+$O17*I48 -> 5273.0017 | W17: =+$O17+$O17*J48 -> 12655.204 | X17: =+$O17+$O17*K48 -> 6327.6021 | Y17: =+$O17+$O17*L48 -> 5273.0017 | Z17: =+$O17+$O17*M48 -> 12138.45 | AA17: =+$O17+$O17*B48 -> 22876.169 | AB17: =+$O17+$O17*C48 -> 2109.2007 | AC17: =+$O17+$O17*D48 -> 20986.547 | AD17: =+$O17+$O17*E48 -> 9710.6439 | AE17: =+$O17+$O17*F48 -> 21092.007 | AF17: =SUM(T17:AE17) -> 145861.44 | AG17: =+AF17-SUM(B17:M17) -> -73632.604
A18: (95) FONDECO EMPRESARIAL | B18: 0 | C18: 0 | D18: 0 | E18: 0 | F18: 0 | G18: 0 | H18: 0 | I18: 0 | J18: 0 | K18: 0 | L18: 0 | M18: 0 | O18: =+AVERAGE(B18:E18,H18:K18,M18) -> 0 | P18: =+AVERAGE(B18:E18,H18:M18) -> 0 | Q18: =+MAX(B18:E18,H18:M18) -> 0 | R18: =+MEDIAN(B18:E18,H18:M18) -> 0 | S18: =+MIN(B18:E18,G18:M18) -> 0 | T18: =+$O18+$O18*F49 -> #DIV/0! | U18: =+$O18+$O18*H49 -> #DIV/0! | V18: =+$O18+$O18*I49 -> #DIV/0! | W18: =+$O18+$O18*J49 -> #DIV/0! | X18: =+$O18+$O18*K49 -> #DIV/0! | Y18: =+$O18+$O18*L49 -> #DIV/0! | Z18: =+$O18+$O18*M49 -> #DIV/0! | AA18: =+$O18+$O18*B49 -> #DIV/0! | AB18: =+$O18+$O18*C49 -> #DIV/0! | AC18: =+$O18+$O18*D49 -> #DIV/0! | AD18: =+$O18+$O18*E49 -> #DIV/0! | AE18: =+$O18+$O18*F49 -> #DIV/0! | AF18: =SUM(T18:AE18) -> #DIV/0! | AG18: =+AF18-SUM(B18:M18) -> #DIV/0!
A19: (94) FOCOMI MYPES | B19: 0 | C19: 4100 | D19: 2566 | E19: 3166 | F19: 3166 | G19: 17864.99 | H19: 3300 | I19: 1300 | J19: 1500 | K19: 2000 | L19: 2000 | M19: 3000 | O19: =+AVERAGE(B19:E19,H19:K19,M19) -> 2325.7778 | P19: =+AVERAGE(B19:E19,H19:M19) -> 2293.2 | Q19: =+MAX(B19:E19,H19:M19) -> 4100 | R19: =+MEDIAN(B19:E19,H19:M19) -> 2283 | S19: =+MIN(B19:E19,G19:M19) -> 0 | T19: =+$O19+$O19*F50 -> 2325.7778 | U19: =+$O19+$O19*H50 -> 2325.7778 | V19: =+$O19+$O19*I50 -> 2325.7778 | W19: =+$O19+$O19*J50 -> 2325.7778 | X19: =+$O19+$O19*K50 -> 2325.7778 | Y19: =+$O19+$O19*L50 -> 2325.7778 | Z19: =+$O19+$O19*M50 -> 2325.7778 | AA19: =+$O19+$O19*B50 -> 2325.7778 | AB19: =+$O19+$O19*C50 -> 2325.7778 | AC19: =+$O19+$O19*D50 -> 2325.7778 | AD19: =+$O19+$O19*E50 -> 2325.7778 | AE19: =+$O19+$O19*F50 -> 2325.7778 | AF19: =SUM(T19:AE19) -> 27909.333 | AG19: =+AF19-SUM(B19:M19) -> -16053.657
A21: SOCIAL | B21: =SUM(B22+B23+B27+B34+B32) -> 118690.57 | C21: =SUM(C22+C23+C27+C34+C32) -> 208883.89 | D21: =SUM(D22+D23+D27+D34+D32) -> 59287.77 | E21: =SUM(E22+E23+E27+E34+E32) -> 7207 | F21: =SUM(F22+F23+F27+F34+F32) -> 22398.8 | G21: =SUM(G22+G23+G27+G34+G32) -> 20630.95 | H21: =SUM(H22+H23+H27+H34+H32) -> 40650.89 | I21: =SUM(I22+I23+I27+I34+I32) -> 23766.64 | ... M21: =SUM(M22+M23+M27+M34+M32) -> 2912.15 | O21: =+AVERAGE(E21:M21) -> 22009.182 | P21: =+AVERAGE(B21:M21) -> 48745.406 | Q21: =+MAX(B21:E21,G21:M21) -> 208883.89 | R21: =+MEDIAN(B21:E21,G21:M21) -> 25648.71 | S21: =+MIN(B21:E21,G21:M21) -> 2912.15 | T21: =+T22+T23+T27+T31+T32+T34 -> #DIV/0! | U21: =+U22+U23+U27+U31+U32+U34 -> #DIV/0! | V21: =+V22+V23+V27+V31+V32+V34 -> #DIV/0! | W21: =+W22+W23+W27+W31+W32+W34 -> #DIV/0! | X21: =+X22+X23+X27+X31+X32+X34 -> #DIV/0! | Y21: =+Y22+Y23+Y27+Y31+Y32+Y34 -> #DIV/0! | Z21: =+Z22+Z23+Z27+Z31+Z32+Z34 -> #DIV/0! | AA21: =+AA22+AA23+AA27+AA31+AA32+AA34 -> #DIV/0! | ... AE21: =+AE22+AE23+AE27+AE31+AE32+AE34 -> #DIV/0! | AF21: =SUM(T21:AE21) -> #DIV/0! | AG21: =+AF21-SUM(B21:M21) -> #DIV/0!
A22: (07) FAC | B22: 0 | C22: 0 | D22: 0 | E22: 0 | F22: 0 | G22: 0 | H22: 0 | I22: 0 | J22: 0 | K22: 0 | L22: 0 | M22: 0 | O22: =+AVERAGE(E22:M22) -> 0 | P22: =+AVERAGE(B22:M22) -> 0 | Q22: =+MAX(B22:E22,G22:M22) -> 0 | R22: =+MEDIAN(B22:E22,G22:M22) -> 0 | S22: =+MIN(B22:E22,G22:M22) -> 0 | T22: =+$O22+$O22*G53 -> #DIV/0! | U22: =+$O22+$O22*H53 -> #DIV/0! | V22: =+$O22+$O22*I53 -> #DIV/0! | W22: =+$O22+$O22*J53 -> #DIV/0! | X22: =+$O22+$O22*K53 -> #DIV/0! | Y22: =+$O22+$O22*L53 -> #DIV/0! | Z22: =+$O22+$O22*M53 -> #DIV/0! | AA22: =+$O22+$O22*B53 -> #DIV/0! | AB22: =+$O22+$O22*C53 -> #DIV/0! | AC22: =+$O22+$O22*D53 -> #DIV/0! | AD22: =+$O22+$O22*E53 -> #DIV/0! | AE22: =+$O22+$O22*F53 -> #DIV/0! | AF22: =SUM(T22:AE22) -> #DIV/0! | AG22: =+AF22-SUM(B22:M22) -> #DIV/0!
A23: FONDO DE MANDATO Y GARANTÍA | B23: =SUM(B24:B26) -> 97756.33 | C23: =SUM(C24:C26) -> 202083.89 | D23: =SUM(D24:D26) -> 10100 | E23: =SUM(E24:E26) -> 2407 | F23: 19798.8 | G23: =SUM(G24:G26) -> 3730.95 | H23: =SUM(H24:H26) -> 0 | I23: =SUM(I24:I26) -> 15566.64 | J23: =SUM(J24:J26) -> 9648.71 | K23: =SUM(K24:K26) -> 94.95 | L23: =SUM(L24:L26) -> 45672.55 | M23: =SUM(M24:M26) -> 812.15 | O23: =+AVERAGE(E23:M23) -> 10859.083 | P23: =+AVERAGE(B23:M23) -> 33972.664 | Q23: =+MAX(B23:E23,G23:M23) -> 202083.89 | R23: =+MEDIAN(B23:E23,G23:M23) -> 9648.71 | S23: =+MIN(B23:E23,G23:M23) -> 0 | T23: =+$O23+$O23*G54 -> 1192.5676 | U23: =+$O23+$O23*H54 -> 0 | V23: =+$O23+$O23*I54 -> 4975.7487 | W23: =+$O23+$O23*J54 -> 3084.131 | X23: =+$O23+$O23*K54 -> 30.349988 | Y23: =+$O23+$O23*L54 -> 14598.856 | Z23: =+$O23+$O23*M54 -> 259.59708 | AA23: =+$O23+$O23*B54 -> 31247.009 | AB23: =+$O23+$O23*C54 -> 64594.457 | AC23: =+$O23+$O23*D54 -> 3228.3821 | AD23: =+$O23+$O23*E54 -> 769.3778 | AE23: =+$O23+$O23*F54 -> 6328.524 | AF23: =SUM(T23:AE23) -> 130309 | AG23: =+AF23-SUM(B23:M23) -> -277362.97
A24: (91) FONDO DE MANDATO (Individual) | B24: 48170.29 | C24: 115014.77 | D24: 0 | E24: 0 | F24: 19378.8 | G24: 3730.95 | H24: 0 | I24: 0 | J24: 0 | K24: 0 | L24: 40358.25 | M24: 0 | O24: =+AVERAGE(E24:M24) -> 7052 | P24: =+AVERAGE(B24:M24) -> 18887.755 | Q24: =+MAX(B24:E24,G24:M24) -> 115014.77 | R24: =+MEDIAN(B24:E24,G24:M24) -> 0 | S24: =+MIN(B24:E24,G24:M24) -> 0 | T24: =+$O24+$O24*G55 -> 1393.0009 | U24: =+$O24+$O24*H55 -> 0 | V24: =+$O24+$O24*I55 -> 0 | W24: =+$O24+$O24*J55 -> 0 | X24: =+$O24+$O24*K55 -> 0 | Y24: =+$O24+$O24*L55 -> 15068.301 | Z24: =+$O24+$O24*M55 -> 0 | AA24: =+$O24+$O24*B55 -> 17985.032 | AB24: =+$O24+$O24*C55 -> 42942.327 | AC24: =+$O24+$O24*D55 -> 0 | AD24: =+$O24+$O24*E55 -> 0 | AE24: =+$O24+$O24*F55 -> 7235.3383 | AF24: =SUM(T24:AE24) -> 84624 | AG24: =+AF24-SUM(B24:M24) -> -142029.06
A25: (91) FONDO DE MANDATO (Organizaciones) | B25: 19291.4 | C25: 4639.97 | D25: 2100 | E25: 0 | F25: 420 | G25: 0 | H25: 0 | I25: 4510.94 | J25: 9648.71 | K25: 94.95 | L25: 5314.3 | M25: 812.15 | O25: =+AVERAGE(E25:M25) -> 2311.2278 | P25: =+AVERAGE(B25:M25) -> 3902.7017 | Q25: =+MAX(B25:E25,G25:M25) -> 19291.4 | R25: =+MEDIAN(B25:E25,G25:M25) -> 2100 | S25: =+MIN(B25:E25,G25:M25) -> 0 | T25: =+$O25+$O25*G56 -> 0 | U25: =+$O25+$O25*H56 -> 0 | V25: =+$O25+$O25*I56 -> 2671.434 | W25: =+$O25+$O25*J56 -> 5714.0844 | X25: =+$O25+$O25*K56 -> 56.230554 | Y25: =+$O25+$O25*L56 -> 3147.1936 | Z25: =+$O25+$O25*M56 -> 480.96519 | AA25: =+$O25+$O25*B56 -> 11424.604 | AB25: =+$O25+$O25*C56 -> 2747.8471 | AC25: =+$O25+$O25*D56 -> 1243.6457 | AD25: =+$O25+$O25*E56 -> 0 | AE25: =+$O25+$O25*F56 -> 248.72915 | AF25: =SUM(T25:AE25) -> 27734.733 | AG25: =+AF25-SUM(B25:M25) -> -19097.687
A26: (91) FONDO DE GARANTÍA | B26: 30294.64 | C26: 82429.15 | D26: 8000 | E26: 2407 | F26: 0 | G26: 0 | H26: 0 | I26: 11055.7 | J26: 0 | K26: 0 | L26: 0 | M26: 0 | O26: =+AVERAGE(E26:M26) -> 1495.8556 | P26: =+AVERAGE(B26:M26) -> 11182.207 | Q26: =+MAX(B26:E26,G26:M26) -> 82429.15 | R26: =+MEDIAN(B26:E26,G26:M26) -> 0 | S26: =+MIN(B26:E26,G26:M26) -> 0 | T26: =+$O26+$O26*G57 -> 0 | U26: =+$O26+$O26*H57 -> 0 | V26: =+$O26+$O26*I57 -> 1478.9325 | W26: =+$O26+$O26*J57 -> 0 | X26: =+$O26+$O26*K57 -> 0 | Y26: =+$O26+$O26*L57 -> 0 | Z26: =+$O26+$O26*M57 -> 0 | AA26: =+$O26+$O26*B57 -> 4052.5456 | AB26: =+$O26+$O26*C57 -> 11026.633 | AC26: =+$O26+$O26*D57 -> 1070.1683 | AD26: =+$O26+$O26*E57 -> 321.9869 | AE26: =+$O26+$O26*F57 -> 0 | AF26: =SUM(T26:AE26) -> 17950.267 | AG26: =+AF26-SUM(B26:M26) -> -116236.22
A27: FONDECO D.F. | B27: =SUM(B28+B31) -> 20934.24 | C27: =SUM(C28+C31) -> 6800 | D27: =SUM(D28+D31) -> 49187.77 | E27: =SUM(E28+E31) -> 4800 | F27: 2600 | G27: =SUM(G28+G31) -> 16900 | H27: =SUM(H28+H31) -> 40650.89 | I27: =SUM(I28+I31) -> 8200 | J27: =SUM(J28+J31) -> 16000 | K27: =SUM(K28+K31) -> 3600 | L27: =SUM(L28+L31) -> 5500 | M27: =SUM(M28+M31) -> 2100 | O27: =+AVERAGE(E27:M27) -> 11150.099 | P27: =+AVERAGE(B27:M27) -> 14772.742 | Q27: =+MAX(B27:E27,G27:M27) -> 49187.77 | R27: =+MEDIAN(B27:E27,G27:M27) -> 8200 | S27: =+MIN(B27:E27,G27:M27) -> 2100 | T27: =+$O27+$O27*G58 -> 12755.701 | U27: =+$O27+$O27*H58 -> 30682.283 | V27: =+$O27+$O27*I58 -> 6189.1566 | W27: =+$O27+$O27*J58 -> 12076.403 | X27: =+$O27+$O27*K58 -> 2717.1907 | Y27: =+$O27+$O27*L58 -> 4151.2635 | Z27: =+$O27+$O27*M58 -> 1585.0279 | AA27: =+$O27+$O27*B58 -> 15800.645 | AB27: =+$O27+$O27*C58 -> 5132.4713 | AC27: =+$O27+$O27*D58 -> 37125.708 | AD27: =+$O27+$O27*E58 -> 3622.9209 | AE27: =+$O27+$O27*F58 -> 1962.4155 | AF27: =SUM(T27:AE27) -> 133801.19 | AG27: =+AF27-SUM(B27:M27) -> -43471.713
A28: (93) FONDECO MYPES Federal | B28: =SUM(B29:B30) -> 20934.24 | C28: =SUM(C29:C30) -> 6800 | D28: =SUM(D29:D30) -> 49187.77 | E28: 4800 | F28: 2600 | G28: =SUM(G29:G30) -> 16900 | H28: =SUM(H29:H30) -> 40650.89 | I28: =SUM(I29:I30) -> 8200 | J28: =SUM(J29:J30) -> 16000 | K28: =SUM(K29:K30) -> 3600 | L28: =SUM(L29:L30) -> 5500 | M28: =SUM(M29:M30) -> 2100 | O28: =+AVERAGE(E28:M28) -> 11150.099 | P28: =+AVERAGE(B28:M28) -> 14772.742 | Q28: =+MAX(B28:E28,G28:M28) -> 49187.77 | R28: =+MEDIAN(B28:E28,G28:M28) -> 8200 | S28: =+MIN(B28:E28,G28:M28) -> 2100 | T28: =+$O28+$O28*G59 -> 12755.701 | U28: =+$O28+$O28*H59 -> 30682.283 | V28: =+$O28+$O28*I59 -> 6189.1566 | W28: =+$O28+$O28*J59 -> 12076.403 | X28: =+$O28+$O28*K59 -> 2717.1907 | Y28: =+$O28+$O28*L59 -> 4151.2635 | Z28: =+$O28+$O28*M59 -> 1585.0279 | AA28: =+$O28+$O28*B59 -> 15800.645 | AB28: =+$O28+$O28*C59 -> 5132.4713 | AC28: =+$O28+$O28*D59 -> 37125.708 | AD28: =+$O28+$O28*E59 -> 3622.9209 | AE28: =+$O28+$O28*F59 -> 1962.4155 | AF28: =SUM(T28:AE28) -> 133801.19 | AG28: =+AF28-SUM(B28:M28) -> -43471.713
A29: (93) CARTERA VIGENTE | B29: 0 | C29: 0 | D29: 0 | E29: 0 | F29: 0 | G29: 0 | H29: 0 | I29: 0 | J29: 0 | K29: 0 | L29: 0 | M29: 0 | O29: =+AVERAGE(E29:M29) -> 0 | P29: =+AVERAGE(B29:M29) -> 0 | Q29: =+MAX(B29:E29,G29:M29) -> 0 | R29: =+MEDIAN(B29:E29,G29:M29) -> 0 | S29: =+MIN(B29:E29,G29:M29) -> 0 | T29: =+$O29+$O29*G60 -> #DIV/0! | U29: =+$O29+$O29*H60 -> #DIV/0! | V29: =+$O29+$O29*I60 -> #DIV/0! | W29: =+$O29+$O29*J60 -> #DIV/0! | X29: =+$O29+$O29*K60 -> #DIV/0! | Y29: =+$O29+$O29*L60 -> #DIV/0! | Z29: =+$O29+$O29*M60 -> #DIV/0! | AA29: =+$O29+$O29*B60 -> #DIV/0! | AB29: =+$O29+$O29*C60 -> #DIV/0! | AC29: =+$O29+$O29*D60 -> #DIV/0! | AD29: =+$O29+$O29*E60 -> #DIV/0! | AE29: =+$O29+$O29*F60 -> #DIV/0! | AF29: =SUM(T29:AE29) -> #DIV/0! | AG29: =+AF29-SUM(B29:M29) -> #DIV/0!
A30: (93) CARTERA VENCIDA (Litigiosa) | B30: 20934.24 | C30: 6800 | D30: 49187.77 | E30: 4800 | F30: 2600 | G30: 16900 | H30: 40650.89 | I30: 8200 | J30: 16000 | K30: 3600 | L30: 5500 | M30: 2100 | O30: =+AVERAGE(E30:M30) -> 11150.099 | P30: =+AVERAGE(B30:M30) -> 14772.742 | Q30: =+MAX(B30:E30,G30:M30) -> 49187.77 | R30: =+MEDIAN(B30:E30,G30:M30) -> 8200 | S30: =+MIN(B30:E30,G30:M30) -> 2100 | T30: =+$O30+$O30*G61 -> 12755.701 | U30: =+$O30+$O30*H61 -> 30682.283 | V30: =+$O30+$O30*I61 -> 6189.1566 | W30: =+$O30+$O30*J61 -> 12076.403 | X30: =+$O30+$O30*K61 -> 2717.1907 | Y30: =+$O30+$O30*L61 -> 4151.2635 | Z30: =+$O30+$O30*M61 -> 1585.0279 | AA30: =+$O30+$O30*B61 -> 15800.645 | AB30: =+$O30+$O30*C61 -> 5132.4713 | AC30: =+$O30+$O30*D61 -> 37125.708 | AD30: =+$O30+$O30*E61 -> 3622.9209 | AE30: =+$O30+$O30*F61 -> 1962.4155 | AF30: =SUM(T30:AE30) -> 133801.19 | AG30: =+AF30-SUM(B30:M30) -> -43471.713
A31: (97) FONDECO MICROCRÉDITOS | B31: 0 | C31: 0 | D31: 0 | E31: 0 | F31: 0 | G31: 0 | H31: 0 | I31: 0 | J31: 0 | K31: 0 | L31: 0 | M31: 0 | O31: =+AVERAGE(E31:M31) -> 0 | P31: =+AVERAGE(B31:M31) -> 0 | Q31: =+MAX(B31:E31,G31:M31) -> 0 | R31: =+MEDIAN(B31:E31,G31:M31) -> 0 | S31: =+MIN(B31:E31,G31:M31) -> 0 | T31: =+$O31+$O31*G62 -> #DIV/0! | U31: =+$O31+$O31*H62 -> #DIV/0! | V31: =+$O31+$O31*I62 -> #DIV/0! | W31: =+$O31+$O31*J62 -> #DIV/0! | X31: =+$O31+$O31*K62 -> #DIV/0! | Y31: =+$O31+$O31*L62 -> #DIV/0! | Z31: =+$O31+$O31*M62 -> #DIV/0! | AA31: =+$O31+$O31*B62 -> #DIV/0! | AB31: =+$O31+$O31*C62 -> #DIV/0! | AC31: =+$O31+$O31*D62 -> #DIV/0! | AD31: =+$O31+$O31*E62 -> #DIV/0! | AE31: =+$O31+$O31*F62 -> #DIV/0! | AF31: =SUM(T31:AE31) -> #DIV/0! | AG31: =+AF31-SUM(B31:M31) -> #DIV/0!
A32: (96) FOCOMI MICROCRÉDITOS | B32: 0 | C32: 0 | D32: 0 | E32: 0 | F32: 0 | G32: 0 | H32: 0 | I32: 0 | J32: 0 | K32: 0 | L32: 0 | M32: 0 | O32: =+AVERAGE(E32:M32) -> 0 | P32: =+AVERAGE(B32:M32) -> 0 | Q32: =+MAX(B32:E32,G32:M32) -> 0 | R32: =+MEDIAN(B32:E32,G32:M32) -> 0 | S32: =+MIN(B32:E32,G32:M32) -> 0 | T32: =+$O32+$O32*G63 -> #DIV/0! | U32: =+$O32+$O32*H63 -> #DIV/0! | V32: =+$O32+$O32*I63 -> #DIV/0! | W32: =+$O32+$O32*J63 -> #DIV/0! | X32: =+$O32+$O32*K63 -> #DIV/0! | Y32: =+$O32+$O32*L63 -> #DIV/0! | Z32: =+$O32+$O32*M63 -> #DIV/0! | AA32: =+$O32+$O32*B63 -> #DIV/0! | AB32: =+$O32+$O32*C63 -> #DIV/0! | AC32: =+$O32+$O32*D63 -> #DIV/0! | AD32: =+$O32+$O32*E63 -> #DIV/0! | AE32: =+$O32+$O32*F63 -> #DIV/0! | AF32: =SUM(T32:AE32) -> #DIV/0! | AG32: =+AF32-SUM(B32:M32) -> #DIV/0!
A34: OTRAS | B34: =SUM(B35:B38) -> 0 | C34: =SUM(C35:C38) -> 0 | D34: 0 | E34: 0 | F34: 0 | G34: =SUM(G35:G38) -> 0 | H34: =SUM(H35:H38) -> 0 | I34: =SUM(I35:I38) -> 0 | J34: =SUM(J35:J38) -> 0 | K34: =SUM(K35:K38) -> 0 | L34: =SUM(L35:L38) -> 0 | M34: =SUM(M35:M38) -> 0 | O34: 0 | P34: =+AVERAGE(B34:M34) -> 0 | Q34: =+MAX(B34:E34,G34:M34) -> 0 | R34: =+MEDIAN(B34:E34,G34:M34) -> 0 | S34: =+MIN(B34:E34,G34:M34) -> 0 | T34: =+$O34+$O34*G65 -> #DIV/0! | U34: =+$O34+$O34*H65 -> #DIV/0! | V34: =+$O34+$O34*I65 -> #DIV/0! | W34: =+$O34+$O34*J65 -> #DIV/0! | X34: =+$O34+$O34*K65 -> #DIV/0! | Y34: =+$O34+$O34*L65 -> #DIV/0! | Z34: =+$O34+$O34*M65 -> #DIV/0! | AA34: =+$O34+$O34*B65 -> #DIV/0! | AB34: =+$O34+$O34*C65 -> #DIV/0! | AC34: =+$O34+$O34*D65 -> #DIV/0! | AD34: =+$O34+$O34*E65 -> #DIV/0! | AE34: =+$O34+$O34*F65 -> #DIV/0! | AF34: =SUM(T34:AE34) -> #DIV/0! | AG34: =+AF34-SUM(B34:M34) -> #DIV/0!
A35: (68) Solidaridad Patrimonial "EL MOLINO I" | B35: 0 | C35: 0 | D35: 0 | E35: 0 | F35: 0 | G35: 0 | H35: 0 | I35: 0 | J35: 0 | K35: 0 | L35: 0 | M35: 0 | O35: 0 | P35: =+AVERAGE(B35:M35) -> 0 | Q35: =+MAX(B35:E35,G35:M35) -> 0 | R35: =+MEDIAN(B35:E35,G35:M35) -> 0 | S35: =+MIN(B35:E35,G35:M35) -> 0 | T35: =+$O35+$O35*G66 -> #DIV/0! | U35: =+$O35+$O35*H66 -> #DIV/0! | V35: =+$O35+$O35*I66 -> #DIV/0! | W35: =+$O35+$O35*J66 -> #DIV/0! | X35: =+$O35+$O35*K66 -> #DIV/0! | Y35: =+$O35+$O35*L66 -> #DIV/0! | Z35: =+$O35+$O35*M66 -> #DIV/0! | AA35: =+$O35+$O35*B66 -> #DIV/0! | AB35: =+$O35+$O35*C66 -> #DIV/0! | AC35: =+$O35+$O35*D66 -> #DIV/0! | AD35: =+$O35+$O35*E66 -> #DIV/0! | AE35: =+$O35+$O35*F66 -> #DIV/0! | AF35: =SUM(T35:AE35) -> #DIV/0! | AG35: =+AF35-SUM(B35:M35) -> #DIV/0!
A36: (69) Nueva Generación "EL MOLINO II" | B36: 0 | C36: 0 | D36: 0 | E36: 0 | F36: 0 | G36: 0 | H36: 0 | I36: 0 | J36: 0 | K36: 0 | L36: 0 | M36: 0 | O36: 0 | P36: =+AVERAGE(B36:M36) -> 0 | Q36: =+MAX(B36:E36,G36:M36) -> 0 | R36: =+MEDIAN(B36:E36,G36:M36) -> 0 | S36: =+MIN(B36:E36,G36:M36) -> 0 | T36: =+$O36+$O36*G67 -> #DIV/0! | U36: =+$O36+$O36*H67 -> #DIV/0! | V36: =+$O36+$O36*I67 -> #DIV/0! | W36: =+$O36+$O36*J67 -> #DIV/0! | X36: =+$O36+$O36*K67 -> #DIV/0! | Y36: =+$O36+$O36*L67 -> #DIV/0! | Z36: =+$O36+$O36*M67 -> #DIV/0! | AA36: =+$O36+$O36*B67 -> #DIV/0! | AB36: =+$O36+$O36*C67 -> #DIV/0! | AC36: =+$O36+$O36*D67 -> #DIV/0! | AD36: =+$O36+$O36*E67 -> #DIV/0! | AE36: =+$O36+$O36*F67 -> #DIV/0! | AF36: =SUM(T36:AE36) -> #DIV/0! | AG36: =+AF36-SUM(B36:M36) -> #DIV/0!
A37: (87) Movimiento Habitacional "TORRES FRENTE 10" | B37: 0 | C37: 0 | D37: 0 | E37: 0 | F37: 0 | G37: 0 | H37: 0 | I37: 0 | J37: 0 | K37: 0 | L37: 0 | M37: 0 | O37: 0 | P37: =+AVERAGE(B37:M37) -> 0 | Q37: =+MAX(B37:E37,G37:M37) -> 0 | R37: =+MEDIAN(B37:E37,G37:M37) -> 0 | S37: =+MIN(B37:E37,G37:M37) -> 0 | T37: =+$O37+$O37*G68 -> #DIV/0! | U37: =+$O37+$O37*H68 -> #DIV/0! | V37: =+$O37+$O37*I68 -> #DIV/0! | W37: =+$O37+$O37*J68 -> #DIV/0! | X37: =+$O37+$O37*K68 -> #DIV/0! | Y37: =+$O37+$O37*L68 -> #DIV/0! | Z37: =+$O37+$O37*M68 -> #DIV/0! | AA37: =+$O37+$O37*B68 -> #DIV/0! | AB37: =+$O37+$O37*C68 -> #DIV/0! | AC37: =+$O37+$O37*D68 -> #DIV/0! | AD37: =+$O37+$O37*E68 -> #DIV/0! | AE37: =+$O37+$O37*F68 -> #DIV/0! | AF37: =SUM(T37:AE37) -> #DIV/0! | AG37: =+AF37-SUM(B37:M37) -> #DIV/0!
A38: (74) Cooperativa de Vivienda "FRANCISCO VILLA" | B38: 0 | C38: 0 | D38: 0 | E38: 0 | F38: 0 | G38: 0 | H38: 0 | I38: 0 | J38: 0 | K38: 0 | L38: 0 | M38: 0 | O38: 0 | P38: =+AVERAGE(B38:M38) -> 0 | Q38: =+MAX(B38:E38,G38:M38) -> 0 | R38: =+MEDIAN(B38:E38,G38:M38) -> 0 | S38: =+MIN(B38:E38,G38:M38) -> 0 | T38: =+$O38+$O38*G69 -> #DIV/0! | U38: =+$O38+$O38*H69 -> #DIV/0! | V38: =+$O38+$O38*I69 -> #DIV/0! | W38: =+$O38+$O38*J69 -> #DIV/0! | X38: =+$O38+$O38*K69 -> #DIV/0! | Y38: =+$O38+$O38*L69 -> #DIV/0! | Z38: =+$O38+$O38*M69 -> #DIV/0! | AA38: =+$O38+$O38*B69 -> #DIV/0! | AB38: =+$O38+$O38*C69 -> #DIV/0! | AC38: =+$O38+$O38*D69 -> #DIV/0! | AD38: =+$O38+$O38*E69 -> #DIV/0! | AE38: =+$O38+$O38*F69 -> #DIV/0! | AF38: =SUM(T38:AE38) -> #DIV/0! | AG38: =+AF38-SUM(B38:M38) -> #DIV/0!
A40: PORCENTAJE DE INCREMENTO O DECREMENTO ANTE EL PROMEDIO | B40: =+B9/$P9*1-1 -> 0.24076343 | C40: =+C9/$P9*1-1 -> -0.6117794 | D40: =+D9/$P9*1-1 -> 0.23493848 | E40: =+E9/$P9*1-1 -> -0.15471799 | F40: =+F9/$P9*1-1 -> 0.67883046 | G40: =+G9/$P9*1-1 -> 5.5094944 | H40: =+H9/$P9*1-1 -> -0.49148569 | I40: =+I9/$P9*1-1 -> -0.27543546 | ... M40: =+M9/$P9*1-1 -> -0.15192937
B41: =+B10/$P10*1-1 -> -0.82923182 | C41: =+C10/$P10*1-1 -> -0.82923182 | D41: =+D10/$P10*1-1 -> -0.97963419 | E41: =+E10/$P10*1-1 -> -1 | F41: =+F10/$P10*1-1 -> 0.28714976 | G41: =+G10/$P10*1-1 -> -1 | H41: =+H10/$P10*1-1 -> -1 | I41: =+I10/$P10*1-1 -> 0.18705229 | ... M41: =+M10/$P10*1-1 -> -0.82923182
B42: =+B11/$P11*1-1 -> -0.69056907 | C42: =+C11/$P11*1-1 -> -0.69056907 | D42: =+D11/$P11*1-1 -> -1 | E42: =+E11/$P11*1-1 -> -1 | F42: =+F11/$P11*1-1 -> 1.3323078 | G42: =+G11/$P11*1-1 -> -1 | H42: =+H11/$P11*1-1 -> -1 | I42: =+I11/$P11*1-1 -> 0.99621628 | ... M42: =+M11/$P11*1-1 -> -0.69056907
B43: =+B12/$P12*1-1 -> -1 | C43: =+C12/$P12*1-1 -> -1 | D43: =+D12/$P12*1-1 -> -0.95455295 | E43: =+E12/$P12*1-1 -> -1 | F43: =+F12/$P12*1-1 -> -1 | G43: =+G12/$P12*1-1 -> -1 | H43: =+H12/$P12*1-1 -> -1 | I43: =+I12/$P12*1-1 -> -0.80946233 | ... M43: =+M12/$P12*1-1 -> -1
B44: =+B13/$P13*1-1 -> -1 | C44: =+C13/$P13*1-1 -> -1 | D44: =+D13/$P13*1-1 -> -1 | E44: =+E13/$P13*1-1 -> 9 | F44: =+F13/$P13*1-1 -> -1 | G44: =+G13/$P13*1-1 -> -1 | H44: =+H13/$P13*1-1 -> -1 | I44: =+I13/$P13*1-1 -> -1 | ... M44: =+M13/$P13*1-1 -> -1
B45: =+B14/$P14*1-1 -> 1.2064755 | C45: =+C14/$P14*1-1 -> -0.79656123 | D45: =+D14/$P14*1-1 -> 1.0242157 | E45: =+E14/$P14*1-1 -> -0.06337911 | F45: =+F14/$P14*1-1 -> 1.0343877 | G45: =+G14/$P14*1-1 -> 9.2924107 | H45: =+H14/$P14*1-1 -> -0.3896837 | I45: =+I14/$P14*1-1 -> -0.49140308 | ... M45: =+M14/$P14*1-1 -> 0.1707901
B46: =+B15/$P15*1-1 -> 1.2064755 | C46: =+C15/$P15*1-1 -> -0.79656123 | D46: =+D15/$P15*1-1 -> 1.0242157 | E46: =+E15/$P15*1-1 -> -0.06337911 | F46: =+F15/$P15*1-1 -> 1.0343877 | G46: =+G15/$P15*1-1 -> 9.2924107 | H46: =+H15/$P15*1-1 -> -0.3896837 | I46: =+I15/$P15*1-1 -> -0.49140308 | ... M46: =+M15/$P15*1-1 -> 0.1707901
B47: =+B16/$P16*1-1 -> #DIV/0! | C47: =+C16/$P16*1-1 -> #DIV/0! | D47: =+D16/$P16*1-1 -> #DIV/0! | E47: =+E16/$P16*1-1 -> #DIV/0! | F47: =+F16/$P16*1-1 -> #DIV/0! | G47: =+G16/$P16*1-1 -> #DIV/0! | H47: =+H16/$P16*1-1 -> #DIV/0! | I47: =+I16/$P16*1-1 -> #DIV/0! | ... M47: =+M16/$P16*1-1 -> #DIV/0!
B48: =+B17/$P17*1-1 -> 1.2064755 | C48: =+C17/$P17*1-1 -> -0.79656123 | D48: =+D17/$P17*1-1 -> 1.0242157 | E48: =+E17/$P17*1-1 -> -0.06337911 | F48: =+F17/$P17*1-1 -> 1.0343877 | G48: =+G17/$P17*1-1 -> 9.2924107 | H48: =+H17/$P17*1-1 -> -0.3896837 | I48: =+I17/$P17*1-1 -> -0.49140308 | ... M48: =+M17/$P17*1-1 -> 0.1707901
B49: =+B18/$P18*1-1 -> #DIV/0! | C49: =+C18/$P18*1-1 -> #DIV/0! | D49: =+D18/$P18*1-1 -> #DIV/0! | E49: =+E18/$P18*1-1 -> #DIV/0! | F49: =+F18/$P18*1-1 -> #DIV/0! | G49: =+G18/$P18*1-1 -> #DIV/0! | H49: =+H18/$P18*1-1 -> #DIV/0! | I49: =+I18/$P18*1-1 -> #DIV/0! | ... M49: =+M18/$P18*1-1 -> #DIV/0!
B51: =+B20/$P20*1-1 -> #DIV/0! | C51: =+C20/$P20*1-1 -> #DIV/0! | D51: =+D20/$P20*1-1 -> #DIV/0! | E51: =+E20/$P20*1-1 -> #DIV/0! | F51: =+F20/$P20*1-1 -> #DIV/0! | G51: =+G20/$P20*1-1 -> #DIV/0! | H51: =+H20/$P20*1-1 -> #DIV/0! | I51: =+I20/$P20*1-1 -> #DIV/0! | ... M51: =+M20/$P20*1-1 -> #DIV/0!
B52: =+B21/$P21*1-1 -> 1.4349078 | C52: =+C21/$P21*1-1 -> 3.2852016 | D52: =+D21/$P21*1-1 -> 0.21627401 | E52: =+E21/$P21*1-1 -> -0.85215017 | F52: =+F21/$P21*1-1 -> -0.54049413 | G52: =+G21/$P21*1-1 -> -0.57676114 | H52: =+H21/$P21*1-1 -> -0.166057 | I52: =+I21/$P21*1-1 -> -0.51243323 | ... M52: =+M21/$P21*1-1 -> -0.94025796
B53: =+B22/$P22*1-1 -> #DIV/0! | C53: =+C22/$P22*1-1 -> #DIV/0! | D53: =+D22/$P22*1-1 -> #DIV/0! | E53: =+E22/$P22*1-1 -> #DIV/0! | F53: =+F22/$P22*1-1 -> #DIV/0! | G53: =+G22/$P22*1-1 -> #DIV/0! | H53: =+H22/$P22*1-1 -> #DIV/0! | I53: =+I22/$P22*1-1 -> #DIV/0! | ... M53: =+M22/$P22*1-1 -> #DIV/0!
... B69: =+B38/$P38*1-1 -> #DIV/0! | C69: =+C38/$P38*1-1 -> #DIV/0! | D69: =+D38/$P38*1-1 -> #DIV/0! | E69: =+E38/$P38*1-1 -> #DIV/0! | F69: =+F38/$P38*1-1 -> #DIV/0! | G69: =+G38/$P38*1-1 -> #DIV/0! | H69: =+H38/$P38*1-1 -> #DIV/0! | I69: =+I38/$P38*1-1 -> #DIV/0! | ... M69: =+M38/$P38*1-1 -> #DIV/0!

Sheet POA 2017 (montos_sin_actvsm)
A1: FIDEICOMISO DE RECUPERACIÓN CREDITICIA DEL DISTRITO FEDERAL FIDERE III
A2: PROGRAMACION 2017
A3: (MILES DE PESOS)
A5: CARTERA | B5: M E T A 2 0 1 7
B6: ENERO | C6: FEBRERO | D6: MARZO | E6: ABRIL | F6: MAYO | G6: JUNIO | H6: JULIO | I6: AGOSTO | J6: SEPTIEMBRE | K6: OCTUBRE | L6: NOVIEMBRE | M6: DICIEMBRE | N6: TOTAL | P6: VARIACION POA 2016
A8: BANCARIA | B8: =SUM(B9:B10) -> 1273.67 | C8: =SUM(C9:C10) -> 1396.35 | D8: =SUM(D9:D10) -> 1201.95 | E8: =SUM(E9:E10) -> 1141.81 | F8: =SUM(F9:F10) -> 1231.73 | G8: =SUM(G9:G10) -> 2059.67 | H8: =SUM(H9:H10) -> 922.4 | I8: =SUM(I9:I10) -> 1223.17 | ... M8: =SUM(M9:M10) -> 1551.84 | N8: =SUM(B8:M8) -> 16732.3 | P8: =+N8-'[1]POA 2016 (montos)'!$N8 -> -19730.51
A9: (15) BANAMEX | B9: =+ROUND(BANCARIA!T10/1000,2) -> 1106.47 | C9: =+ROUND(BANCARIA!U10/1000,2) -> 1229.15 | D9: =+ROUND(BANCARIA!V10/1000,2) -> 1034.75 | E9: =+ROUND(BANCARIA!W10/1000,2) -> 974.61 | F9: =+ROUND(BANCARIA!X10/1000,2) -> 1064.53 | G9: =+ROUND(BANCARIA!Y10/1000,2) -> 1892.47 | H9: =+ROUND(BANCARIA!Z10/1000,2) -> 755.2 | I9: =+ROUND(BANCARIA!AA10/1000,2) -> 1055.97 | ... M9: =+ROUND(BANCARIA!AE10/1000,2) -> 1384.64 | N9: =SUM(B9:M9) -> 14725.9 | P9: =+N9-'[1]POA 2016 (montos)'!$N9 -> -17952.44
A10: (13) BANORTE (BANCRECER) | B10: =+ROUND(BANCARIA!T11/1000,2) -> 167.2 | C10: =+ROUND(BANCARIA!U11/1000,2) -> 167.2 | D10: =+ROUND(BANCARIA!V11/1000,2) -> 167.2 | E10: =+ROUND(BANCARIA!W11/1000,2) -> 167.2 | F10: =+ROUND(BANCARIA!X11/1000,2) -> 167.2 | G10: =+ROUND(BANCARIA!Y11/1000,2) -> 167.2 | H10: =+ROUND(BANCARIA!Z11/1000,2) -> 167.2 | I10: =+ROUND(BANCARIA!AA11/1000,2) -> 167.2 | ... M10: =+ROUND(BANCARIA!AE11/1000,2) -> 167.2 | N10: =SUM(B10:M10) -> 2006.4 | P10: =+N10-'[1]POA 2016 (montos)'!$N10 -> -1778.07
A12: GUBERNAMENTAL | B12: =+B13+B21+B36 -> 91128.97 | C12: =+C13+C21+C36 -> 96204.13 | D12: =+D13+D21+D36 -> 94152.03 | E12: =+E13+E21+E36 -> 90046.05 | F12: =+F13+F21+F36 -> 92394.36 | G12: =+G13+G21+G36 -> 92452.16 | H12: =+H13+H21+H36 -> 89030.13 | I12: =+I13+I21+I36 -> 85309.08 | ... M12: =+M13+M21+M36 -> 111107.89 | N12: =SUM(B12:M12) -> 1090441.7 | P12: =+N12-'[1]POA 2016 (montos)'!$N12 -> -31973.77
A13: FIVIDESU | B13: =SUM(B14:B19) -> 1127.1 | C13: =SUM(C14:C19) -> 1122.67 | D13: =SUM(D14:D19) -> 915.88 | E13: =SUM(E14:E19) -> 999.41 | F13: =SUM(F14:F19) -> 827.63 | G13: =SUM(G14:G19) -> 1505.27 | H13: =SUM(H14:H19) -> 1484.96 | I13: =SUM(I14:I19) -> 1402.43 | ... M13: =SUM(M14:M19) -> 2399.89 | N13: =SUM(B13:M13) -> 15454.92 | P13: =+N13-'[1]POA 2016 (montos)'!$N13 -> -3787.62
A14: (34) ORDINARIO CONDICIONES 02, 03, 04, 05, y 07 | B14: =+ROUND(GUBERNAMENTAL!T11/1000,2) -> 1055.88 | C14: =+ROUND(GUBERNAMENTAL!U11/1000,2) -> 1043.72 | D14: =+ROUND(GUBERNAMENTAL!V11/1000,2) -> 814.27 | E14: =+ROUND(GUBERNAMENTAL!W11/1000,2) -> 915.97 | F14: =+ROUND(GUBERNAMENTAL!X11/1000,2) -> 763.39 | G14: =+ROUND(GUBERNAMENTAL!Y11/1000,2) -> 1069.04 | H14: =+ROUND(GUBERNAMENTAL!Z11/1000,2) -> 1117.97 | I14: =+ROUND(GUBERNAMENTAL!AA11/1000,2) -> 1153.56 | ... M14: =+ROUND(GUBERNAMENTAL!AE11/1000,2) -> 2235.3 | N14: =SUM(B14:M14) -> 13382.3 | P14: =+N14-'[1]POA 2016 (montos)'!$N14 -> -3087.81
A15: (54) FOVI - 7 DE JULIO | B15: 0 | C15: 0 | D15: 0 | E15: 0 | F15: 0 | G15: 0 | H15: 0 | I15: 0 | J15: 0 | K15: 0 | L15: 0 | M15: 0 | N15: =SUM(B15:M15) -> 0 | P15: =+N15-'[1]POA 2016 (montos)'!$N15 -> 0
A16: (55) FOVI - PLUTARCO ELÍAS CALLES | B16: =+ROUND(GUBERNAMENTAL!T13/1000,2) -> 9.87 | C16: =+ROUND(GUBERNAMENTAL!U13/1000,2) -> 9.15 | D16: =+ROUND(GUBERNAMENTAL!V13/1000,2) -> 18.39 | E16: =+ROUND(GUBERNAMENTAL!W13/1000,2) -> 12.37 | F16: =+ROUND(GUBERNAMENTAL!X13/1000,2) -> 10.05 | G16: =+ROUND(GUBERNAMENTAL!Y13/1000,2) -> 18.18 | H16: =+ROUND(GUBERNAMENTAL!Z13/1000,2) -> 12.82 | I16: =+ROUND(GUBERNAMENTAL!AA13/1000,2) -> 14.36 | ... M16: =+ROUND(GUBERNAMENTAL!AE13/1000,2) -> 17.79 | N16: =SUM(B16:M16) -> 155.37 | P16: =+N16-'[1]POA 2016 (montos)'!$N16 -> 17.33
A17: (56) RESCATE FINANCIERO | B17: =+ROUND(GUBERNAMENTAL!T14/1000,2) -> 35.74 | C17: =+ROUND(GUBERNAMENTAL!U14/1000,2) -> 47.26 | D17: =+ROUND(GUBERNAMENTAL!V14/1000,2) -> 56.45 | E17: =+ROUND(GUBERNAMENTAL!W14/1000,2) -> 51.75 | F17: =+ROUND(GUBERNAMENTAL!X14/1000,2) -> 33.86 | G17: =+ROUND(GUBERNAMENTAL!Y14/1000,2) -> 172.68 | H17: =+ROUND(GUBERNAMENTAL!Z14/1000,2) -> 40.37 | I17: =+ROUND(GUBERNAMENTAL!AA14/1000,2) -> 39.46 | ... M17: =+ROUND(GUBERNAMENTAL!AE14/1000,2) -> 52.45 | N17: =SUM(B17:M17) -> 632.66 | P17: =+N17-'[1]POA 2016 (montos)'!$N17 -> -864.53
A18: (66) MEJORAMIENTO DE VIVIENDA | B18: 0 | C18: 0 | D18: 0 | E18: 0 | F18: 0 | G18: 0 | H18: 0 | I18: 0 | J18: 0 | K18: 0 | L18: 0 | M18: 0 | N18: =SUM(B18:M18) -> 0 | P18: =+N18-'[1]POA 2016 (montos)'!$N18 -> 0
A19: (AN) ADQUISICIÓN DE VIVIENDA INVI - FIVIDESU | B19: =+ROUND(GUBERNAMENTAL!T16/1000,2) -> 25.61 | C19: =+ROUND(GUBERNAMENTAL!U16/1000,2) -> 22.54 | D19: =+ROUND(GUBERNAMENTAL!V16/1000,2) -> 26.77 | E19: =+ROUND(GUBERNAMENTAL!W16/1000,2) -> 19.32 | F19: =+ROUND(GUBERNAMENTAL!X16/1000,2) -> 20.33 | G19: =+ROUND(GUBERNAMENTAL!Y16/1000,2) -> 245.37 | H19: =+ROUND(GUBERNAMENTAL!Z16/1000,2) -> 313.8 | I19: =+ROUND(GUBERNAMENTAL!AA16/1000,2) -> 195.05 | ... M19: =+ROUND(GUBERNAMENTAL!AE16/1000,2) -> 94.35 | N19: =SUM(B19:M19) -> 1284.59 | P19: =+N19-'[1]POA 2016 (montos)'!$N19 -> 147.39
A21: FICAPRO | B21: =SUM(B22:B34) -> 491.72 | C21: =SUM(C22:C34) -> 232.01 | D21: =SUM(D22:D34) -> 220.31 | E21: =SUM(E22:E34) -> 498.92 | F21: =SUM(F22:F34) -> 343.6 | G21: =SUM(G22:G34) -> 365.98 | H21: =SUM(H22:H34) -> 461.74 | I21: =SUM(I22:I34) -> 690.48 | ... M21: =SUM(M22:M34) -> 333.13 | N21: =SUM(B21:M21) -> 4892.85 | P21: =+N21-'[1]POA 2016 (montos)'!$N21 -> -186.71
A22: (10) BANOBRAS | B22: 0 | C22: 0 | D22: 0 | E22: 0 | F22: 0 | G22: 0 | H22: 0 | I22: 0 | J22: 0 | K22: 0 | L22: 0 | M22: 0 | N22: =SUM(B22:M22) -> 0 | P22: =+N22-'[1]POA 2016 (montos)'!$N22 -> -16.32
A23: (08/43) SUELO | B23: 0 | C23: 0 | D23: 0 | E23: 0 | F23: 0 | G23: 0 | H23: 0 | I23: 0 | J23: 0 | K23: 0 | L23: 0 | M23: 0 | N23: =SUM(B23:M23) -> 0 | P23: =+N23-'[1]POA 2016 (montos)'!$N23 -> 0
A24: (27) HIPOTECA | B24: =+ROUND(GUBERNAMENTAL!T21/1000,2) -> 9.03 | C24: =+ROUND(GUBERNAMENTAL!U21/1000,2) -> 3.1 | D24: =+ROUND(GUBERNAMENTAL!V21/1000,2) -> 5.9 | E24: =+ROUND(GUBERNAMENTAL!W21/1000,2) -> 3.56 | F24: =+ROUND(GUBERNAMENTAL!X21/1000,2) -> 5.06 | G24: =+ROUND(GUBERNAMENTAL!Y21/1000,2) -> 3.25 | H24: =+ROUND(GUBERNAMENTAL!Z21/1000,2) -> 2.53 | I24: =+ROUND(GUBERNAMENTAL!AA21/1000,2) -> 15.51 | ... M24: =+ROUND(GUBERNAMENTAL!AE21/1000,2) -> 11.92 | N24: =SUM(B24:M24) -> 95 | P24: =+N24-'[1]POA 2016 (montos)'!$N24 -> -159.28
A25: (29/45) SUELO VIVIENDA | B25: 0 | C25: 0 | D25: 0 | E25: 0 | F25: 0 | G25: 0 | H25: 0 | I25: 0 | J25: 0 | K25: 0 | L25: 0 | M25: 0 | N25: =SUM(B25:M25) -> 0 | P25: =+N25-'[1]POA 2016 (montos)'!$N25 -> 0
A26: (30/46) HIPOTECA ESPECIAL | B26: =+ROUND(GUBERNAMENTAL!T23/1000,2) -> 0 | C26: =+ROUND(GUBERNAMENTAL!U23/1000,2) -> 0 | D26: =+ROUND(GUBERNAMENTAL!V23/1000,2) -> 0 | E26: =+ROUND(GUBERNAMENTAL!W23/1000,2) -> 0 | F26: =+ROUND(GUBERNAMENTAL!X23/1000,2) -> 0 | G26: =+ROUND(GUBERNAMENTAL!Y23/1000,2) -> 0 | H26: =+ROUND(GUBERNAMENTAL!Z23/1000,2) -> 0 | I26: =+ROUND(GUBERNAMENTAL!AA23/1000,2) -> 0 | ... M26: =+ROUND(GUBERNAMENTAL!AE23/1000,2) -> 0 | N26: =SUM(B26:M26) -> 0 | P26: =+N26-'[1]POA 2016 (montos)'!$N26 -> 0
A27: (32) ALAMEDA | B27: =+ROUND(GUBERNAMENTAL!T24/1000,2) -> 4.44 | C27: =+ROUND(GUBERNAMENTAL!U24/1000,2) -> 9.25 | D27: =+ROUND(GUBERNAMENTAL!V24/1000,2) -> 9.12 | E27: =+ROUND(GUBERNAMENTAL!W24/1000,2) -> 0 | F27: =+ROUND(GUBERNAMENTAL!X24/1000,2) -> 6.02 | G27: =+ROUND(GUBERNAMENTAL!Y24/1000,2) -> 0 | H27: =+ROUND(GUBERNAMENTAL!Z24/1000,2) -> 3.02 | I27: =+ROUND(GUBERNAMENTAL!AA24/1000,2) -> 9.68 | ... M27: =+ROUND(GUBERNAMENTAL!AE24/1000,2) -> 52.34 | N27: =SUM(B27:M27) -> 118.99 | P27: =+N27-'[1]POA 2016 (montos)'!$N27 -> -66.69
A28: (41) CASA PROPIA '98 | B28: =+ROUND(GUBERNAMENTAL!T25/1000,2) -> 1.44 | C28: =+ROUND(GUBERNAMENTAL!U25/1000,2) -> 0 | D28: =+ROUND(GUBERNAMENTAL!V25/1000,2) -> 0 | E28: =+ROUND(GUBERNAMENTAL!W25/1000,2) -> 0 | F28: =+ROUND(GUBERNAMENTAL!X25/1000,2) -> 0 | G28: =+ROUND(GUBERNAMENTAL!Y25/1000,2) -> 0 | H28: =+ROUND(GUBERNAMENTAL!Z25/1000,2) -> 0 | I28: =+ROUND(GUBERNAMENTAL!AA25/1000,2) -> 1.47 | ... M28: =+ROUND(GUBERNAMENTAL!AE25/1000,2) -> 1.47 | N28: =SUM(B28:M28) -> 7.32 | P28: =+N28-'[1]POA 2016 (montos)'!$N28 -> -20.28
A29: (48) SUELO '98 | B29: 0 | C29: 0 | D29: 0 | E29: 0 | F29: 0 | G29: 0 | H29: 0 | I29: 0 | J29: 0 | K29: 0 | L29: 0 | M29: 0 | N29: =SUM(B29:M29) -> 0 | P29: =+N29-'[1]POA 2016 (montos)'!$N29 -> 0
A30: (52) CAMPAMENTOS | B30: 0 | C30: 0 | D30: 0 | E30: 0 | F30: 0 | G30: 0 | H30: 0 | I30: 0 | J30: 0 | K30: 0 | L30: 0 | M30: 0 | N30: =SUM(B30:M30) -> 0 | P30: =+N30-'[1]POA 2016 (montos)'!$N30 -> 0
A31: (58) SUSTITUCIÓN DE VIVIENDA 98 Y CARTERA II | B31: =+ROUND(GUBERNAMENTAL!T28/1000,2) -> 372.11 | C31: =+ROUND(GUBERNAMENTAL!U28/1000,2) -> 84.82 | D31: =+ROUND(GUBERNAMENTAL!V28/1000,2) -> 94.89 | E31: =+ROUND(GUBERNAMENTAL!W28/1000,2) -> 209.07 | F31: =+ROUND(GUBERNAMENTAL!X28/1000,2) -> 245.14 | G31: =+ROUND(GUBERNAMENTAL!Y28/1000,2) -> 249.7 | H31: =+ROUND(GUBERNAMENTAL!Z28/1000,2) -> 212 | I31: =+ROUND(GUBERNAMENTAL!AA28/1000,2) -> 289.18 | ... M31: =+ROUND(GUBERNAMENTAL!AE28/1000,2) -> 101.06 | N31: =SUM(B31:M31) -> 2625.71 | P31: =+N31-'[1]POA 2016 (montos)'!$N31 -> 196.23
A32: (75) FICAPRO - FOVI I y II | B32: =+ROUND(GUBERNAMENTAL!T29/1000,2) -> 3.03 | C32: =+ROUND(GUBERNAMENTAL!U29/1000,2) -> 16.03 | D32: =+ROUND(GUBERNAMENTAL!V29/1000,2) -> 10.96 | E32: =+ROUND(GUBERNAMENTAL!W29/1000,2) -> 6.46 | F32: =+ROUND(GUBERNAMENTAL!X29/1000,2) -> 4.88 | G32: =+ROUND(GUBERNAMENTAL!Y29/1000,2) -> 4.91 | H32: =+ROUND(GUBERNAMENTAL!Z29/1000,2) -> 4.87 | I32: =+ROUND(GUBERNAMENTAL!AA29/1000,2) -> 0 | ... M32: =+ROUND(GUBERNAMENTAL!AE29/1000,2) -> 29.51 | N32: =SUM(B32:M32) -> 86.72 | P32: =+N32-'[1]POA 2016 (montos)'!$N32 -> 44.37
A33: (81) SUSTITUCIÓN DE VIVIENDA AUTOADMINISTRACIÓN | B33: 0 | C33: 0 | D33: 0 | E33: 0 | F33: 0 | G33: 0 | H33: 0 | I33: 0 | J33: 0 | K33: 0 | L33: 0 | M33: 0 | N33: =SUM(B33:M33) -> 0 | P33: =+N33-'[1]POA 2016 (montos)'!$N33 -> 0
A34: (AG) SUSTITUCIÓN DE VIVIENDA - INVI - FICAPRO | B34: =+ROUND(GUBERNAMENTAL!T31/1000,2) -> 101.67 | C34: =+ROUND(GUBERNAMENTAL!U31/1000,2) -> 118.81 | D34: =+ROUND(GUBERNAMENTAL!V31/1000,2) -> 99.44 | E34: =+ROUND(GUBERNAMENTAL!W31/1000,2) -> 279.83 | F34: =+ROUND(GUBERNAMENTAL!X31/1000,2) -> 82.5 | G34: =+ROUND(GUBERNAMENTAL!Y31/1000,2) -> 108.12 | H34: =+ROUND(GUBERNAMENTAL!Z31/1000,2) -> 239.32 | I34: =+ROUND(GUBERNAMENTAL!AA31/1000,2) -> 374.64 | ... M34: =+ROUND(GUBERNAMENTAL!AE31/1000,2) -> 136.83 | N34: =SUM(B34:M34) -> 1959.11 | P34: =+N34-'[1]POA 2016 (montos)'!$N34 -> -164.74
A36: INVI | B36: =SUM(B37+B38+B39+B44+B46+B51+B58+B68+B70+B72+B74+B81+B84) -> 89510.15 | C36: =SUM(C37+C38+C39+C44+C46+C51+C58+C68+C70+C72+C74+C81+C84) -> 94849.45 | D36: =SUM(D37+D38+D39+D44+D46+D51+D58+D68+D70+D72+D74+D81+D84) -> 93015.84 | E36: =SUM(E37+E38+E39+E44+E46+E51+E58+E68+E70+E72+E74+E81+E84) -> 88547.72 | F36: =SUM(F37+F38+F39+F44+F46+F51+F58+F68+F70+F72+F74+F81+F84) -> 91223.13 | G36: =SUM(G37+G38+G39+G44+G46+G51+G58+G68+G70+G72+G74+G81+G84) -> 90580.91 | H36: =SUM(H37+H38+H39+H44+H46+H51+H58+H68+H70+H72+H74+H81+H84) -> 87083.43 | I36: =SUM(I37+I38+I39+I44+I46+I51+I58+I68+I70+I72+I74+I81+I84) -> 83216.17 | ... M36: =SUM(M37+M38+M39+M44+M46+M51+M58+M68+M70+M72+M74+M81+M84) -> 108374.87 | N36: =SUM(B36:M36) -> 1070093.9 | P36: =+N36-'[1]POA 2016 (montos)'!$N36 -> -27999.44
A37: (11) INVI-SEDUVI | B37: 0 | C37: 0 | D37: 0 | E37: 0 | F37: 0 | G37: 0 | H37: 0 | I37: 0 | J37: 0 | K37: 0 | L37: 0 | M37: 0 | N37: =SUM(B37:M37) -> 0 | P37: =+N37-'[1]POA 2016 (montos)'!$N37 -> 0
A38: (24) INVI-DDF | B38: 0 | C38: 0 | D38: 0 | E38: 0 | F38: 0 | G38: 0 | H38: 0 | I38: 0 | J38: 0 | K38: 0 | L38: 0 | M38: 0 | N38: =SUM(B38:M38) -> 0 | P38: =+N38-'[1]POA 2016 (montos)'!$N38 -> 0
A39: SUSTITUCIÓN DE VIVIENDA | B39: =SUM(B40:B43) -> 1520.62 | C39: =SUM(C40:C43) -> 2217.2 | D39: =SUM(D40:D43) -> 1713.95 | E39: =SUM(E40:E43) -> 1422.7 | F39: =SUM(F40:F43) -> 1711.95 | G39: =SUM(G40:G43) -> 1655.27 | H39: =SUM(H40:H43) -> 1677.61 | I39: =SUM(I40:I43) -> 1650.36 | ... M39: =SUM(M40:M43) -> 1650.43 | N39: =SUM(B39:M39) -> 21240.98 | P39: =+N39-'[1]POA 2016 (montos)'!$N39 -> -4571.92
A40: (51) ADQUISICION DE SUELO | B40: =+ROUND(GUBERNAMENTAL!T37/1000,2) -> 39.47 | C40: =+ROUND(GUBERNAMENTAL!U37/1000,2) -> 49.81 | D40: =+ROUND(GUBERNAMENTAL!V37/1000,2) -> 37.21 | E40: =+ROUND(GUBERNAMENTAL!W37/1000,2) -> 22.78 | F40: =+ROUND(GUBERNAMENTAL!X37/1000,2) -> 74.57 | G40: =+ROUND(GUBERNAMENTAL!Y37/1000,2) -> 36.21 | H40: =+ROUND(GUBERNAMENTAL!Z37/1000,2) -> 18.16 | I40: =+ROUND(GUBERNAMENTAL!AA37/1000,2) -> 30.8 | ... M40: =+ROUND(GUBERNAMENTAL!AE37/1000,2) -> 26.25 | N40: =SUM(B40:M40) -> 430.43 | P40: =+N40-'[1]POA 2016 (montos)'!$N40 -> -413.79
A41: (61) ESTUDIOS Y PROYECTOS | B41: =+ROUND(GUBERNAMENTAL!T38/1000,2) -> 0 | C41: =+ROUND(GUBERNAMENTAL!U38/1000,2) -> 0 | D41: =+ROUND(GUBERNAMENTAL!V38/1000,2) -> 0.08 | E41: =+ROUND(GUBERNAMENTAL!W38/1000,2) -> 0 | F41: =+ROUND(GUBERNAMENTAL!X38/1000,2) -> 0 | G41: =+ROUND(GUBERNAMENTAL!Y38/1000,2) -> 0 | H41: =+ROUND(GUBERNAMENTAL!Z38/1000,2) -> 0 | I41: =+ROUND(GUBERNAMENTAL!AA38/1000,2) -> 0.08 | ... M41: =+ROUND(GUBERNAMENTAL!AE38/1000,2) -> 0 | N41: =SUM(B41:M41) -> 0.16 | P41: =+N41-'[1]POA 2016 (montos)'!$N41 -> -1.97
A42: (65) SUSTITUCIÓN DE VIVIENDA DE ALTO RIESGO | B42: =+ROUND(GUBERNAMENTAL!T39/1000,2) -> 634.45 | C42: =+ROUND(GUBERNAMENTAL!U39/1000,2) -> 1075.59 | D42: =+ROUND(GUBERNAMENTAL!V39/1000,2) -> 801.06 | E42: =+ROUND(GUBERNAMENTAL!W39/1000,2) -> 702.26 | F42: =+ROUND(GUBERNAMENTAL!X39/1000,2) -> 716.91 | G42: =+ROUND(GUBERNAMENTAL!Y39/1000,2) -> 779.75 | H42: =+ROUND(GUBERNAMENTAL!Z39/1000,2) -> 727.87 | I42: =+ROUND(GUBERNAMENTAL!AA39/1000,2) -> 754.28 | ... M42: =+ROUND(GUBERNAMENTAL!AE39/1000,2) -> 698.21 | N42: =SUM(B42:M42) -> 9365.18 | P42: =+N42-'[1]POA 2016 (montos)'!$N42 -> -1109.53
A43: (84) EDIFICACION II | B43: =+ROUND(GUBERNAMENTAL!T40/1000,2) -> 846.7 | C43: =+ROUND(GUBERNAMENTAL!U40/1000,2) -> 1091.8 | D43: =+ROUND(GUBERNAMENTAL!V40/1000,2) -> 875.6 | E43: =+ROUND(GUBERNAMENTAL!W40/1000,2) -> 697.66 | F43: =+ROUND(GUBERNAMENTAL!X40/1000,2) -> 920.47 | G43: =+ROUND(GUBERNAMENTAL!Y40/1000,2) -> 839.31 | H43: =+ROUND(GUBERNAMENTAL!Z40/1000,2) -> 931.58 | I43: =+ROUND(GUBERNAMENTAL!AA40/1000,2) -> 865.2 | ... M43: =+ROUND(GUBERNAMENTAL!AE40/1000,2) -> 925.97 | N43: =SUM(B43:M43) -> 11445.21 | P43: =+N43-'[1]POA 2016 (montos)'!$N43 -> -3046.63
A44: MEJORAMIENTO DE VIVIENDA EN LOTES FAMILIARES | B44: =SUM(B45) -> 1124.31 | C44: =SUM(C45) -> 1073.27 | D44: =SUM(D45) -> 959.59 | E44: =SUM(E45) -> 873.62 | F44: =SUM(F45) -> 619.66 | G44: =SUM(G45) -> 1223.57 | H44: =SUM(H45) -> 1059.38 | I44: =SUM(I45) -> 1045.79 | ... M44: =SUM(M45) -> 1052.46 | N44: =SUM(B44:M44) -> 11217.24 | P44: =+N44-'[1]POA 2016 (montos)'!$N44 -> -4158.54
A45: (60) CONSTRUCCIÓN Y MEJORAMIENTO - MÓDULOS | B45: =+ROUND(GUBERNAMENTAL!T42/1000,2) -> 1124.31 | C45: =+ROUND(GUBERNAMENTAL!U42/1000,2) -> 1073.27 | D45: =+ROUND(GUBERNAMENTAL!V42/1000,2) -> 959.59 | E45: =+ROUND(GUBERNAMENTAL!W42/1000,2) -> 873.62 | F45: =+ROUND(GUBERNAMENTAL!X42/1000,2) -> 619.66 | G45: =+ROUND(GUBERNAMENTAL!Y42/1000,2) -> 1223.57 | H45: =+ROUND(GUBERNAMENTAL!Z42/1000,2) -> 1059.38 | I45: =+ROUND(GUBERNAMENTAL!AA42/1000,2) -> 1045.79 | ... M45: =+ROUND(GUBERNAMENTAL!AE42/1000,2) -> 1052.46 | N45: =SUM(B45:M45) -> 11217.24 | P45: =+N45-'[1]POA 2016 (montos)'!$N45 -> -4158.54
A46: COFINANCIADOS | B46: =SUM(B47:B50) -> 163.74 | C46: =SUM(C47:C50) -> 83.89 | D46: =SUM(D47:D50) -> 91.9 | E46: =SUM(E47:E50) -> 58.56 | F46: =SUM(F47:F50) -> 83.66 | G46: =SUM(G47:G50) -> 17.23 | H46: =SUM(H47:H50) -> 150.31 | I46: =SUM(I47:I50) -> 110.82 | ... M46: =SUM(M47:M50) -> 265.68 | N46: =SUM(B46:M46) -> 1184.23 | P46: =+N46-'[1]POA 2016 (montos)'!$N46 -> -504.43
A47: (67) FOSOVI | B47: =+ROUND(GUBERNAMENTAL!T44/1000,2) -> 1.7 | C47: =+ROUND(GUBERNAMENTAL!U44/1000,2) -> 0 | D47: =+ROUND(GUBERNAMENTAL!V44/1000,2) -> 0 | E47: =+ROUND(GUBERNAMENTAL!W44/1000,2) -> 0 | F47: =+ROUND(GUBERNAMENTAL!X44/1000,2) -> 0 | G47: =+ROUND(GUBERNAMENTAL!Y44/1000,2) -> 0.29 | H47: =+ROUND(GUBERNAMENTAL!Z44/1000,2) -> 0 | I47: =+ROUND(GUBERNAMENTAL!AA44/1000,2) -> 0 | ... M47: =+ROUND(GUBERNAMENTAL!AE44/1000,2) -> 0 | N47: =SUM(B47:M47) -> 5.84 | P47: =+N47-'[1]POA 2016 (montos)'!$N47 -> -17.51
A48: (69) COPEVI | B48: 0 | C48: 0 | D48: 0 | E48: 0 | F48: 0 | G48: 0 | H48: 0 | I48: 0 | J48: 0 | K48: 0 | L48: 0 | M48: 0 | N48: =SUM(B48:M48) -> 0 | P48: =+N48-'[1]POA 2016 (montos)'!$N48 -> 0
A49: (70) CASA Y CIUDAD | B49: 0 | C49: 0 | D49: 0 | E49: 0 | F49: 0 | G49: 0 | H49: 0 | I49: 0 | J49: 0 | K49: 0 | L49: 0 | M49: 0 | N49: =SUM(B49:M49) -> 0 | P49: =+N49-'[1]POA 2016 (montos)'!$N49 -> 0
A50: (57) LA DRAGA - COFINANCIAMIENTO | B50: =+ROUND(GUBERNAMENTAL!T47/1000,2) -> 162.04 | C50: =+ROUND(GUBERNAMENTAL!U47/1000,2) -> 83.89 | D50: =+ROUND(GUBERNAMENTAL!V47/1000,2) -> 91.9 | E50: =+ROUND(GUBERNAMENTAL!W47/1000,2) -> 58.56 | F50: =+ROUND(GUBERNAMENTAL!X47/1000,2) -> 83.66 | G50: =+ROUND(GUBERNAMENTAL!Y47/1000,2) -> 16.94 | H50: =+ROUND(GUBERNAMENTAL!Z47/1000,2) -> 150.31 | I50: =+ROUND(GUBERNAMENTAL!AA47/1000,2) -> 110.82 | ... M50: =+ROUND(GUBERNAMENTAL!AE47/1000,2) -> 265.68 | N50: =SUM(B50:M50) -> 1178.39 | P50: =+N50-'[1]POA 2016 (montos)'!$N50 -> -486.92
A51: ADQUISICIÓN DE VIVIENDA | B51: =SUM(B52:B57) -> 4053.88 | C51: =SUM(C52:C57) -> 4099.67 | D51: =SUM(D52:D57) -> 5083.13 | E51: =SUM(E52:E57) -> 5598.4 | F51: =SUM(F52:F57) -> 4233.52 | G51: =SUM(G52:G57) -> 4312.54 | H51: =SUM(H52:H57) -> 3894.96 | I51: =SUM(I52:I57) -> 4079.12 | ... M51: =SUM(M52:M57) -> 5060.55 | N51: =SUM(B51:M51) -> 50853.19 | P51: =+N51-'[1]POA 2016 (montos)'!$N51 -> 3780.77
A52: (63) ADQUISICIÓN DE VIVIENDA | B52: =+ROUND(GUBERNAMENTAL!T49/1000,2) -> 16.51 | C52: =+ROUND(GUBERNAMENTAL!U49/1000,2) -> 18.69 | D52: =+ROUND(GUBERNAMENTAL!V49/1000,2) -> 12.75 | E52: =+ROUND(GUBERNAMENTAL!W49/1000,2) -> 36.76 | F52: =+ROUND(GUBERNAMENTAL!X49/1000,2) -> 14.52 | G52: =+ROUND(GUBERNAMENTAL!Y49/1000,2) -> 54.54 | H52: =+ROUND(GUBERNAMENTAL!Z49/1000,2) -> 10.69 | I52: =+ROUND(GUBERNAMENTAL!AA49/1000,2) -> 46.46 | ... M52: =+ROUND(GUBERNAMENTAL!AE49/1000,2) -> 23.45 | N52: =SUM(B52:M52) -> 313.3 | P52: =+N52-'[1]POA 2016 (montos)'!$N52 -> -443.81
A53: (64) VIVIENDA EN USO | B53: =+ROUND(GUBERNAMENTAL!T50/1000,2) -> 7.05 | C53: =+ROUND(GUBERNAMENTAL!U50/1000,2) -> 8.11 | D53: =+ROUND(GUBERNAMENTAL!V50/1000,2) -> 5.49 | E53: =+ROUND(GUBERNAMENTAL!W50/1000,2) -> 34.04 | F53: =+ROUND(GUBERNAMENTAL!X50/1000,2) -> 41.11 | G53: =+ROUND(GUBERNAMENTAL!Y50/1000,2) -> 9.53 | H53: =+ROUND(GUBERNAMENTAL!Z50/1000,2) -> 9.2 | I53: =+ROUND(GUBERNAMENTAL!AA50/1000,2) -> 7.56 | ... M53: =+ROUND(GUBERNAMENTAL!AE50/1000,2) -> 14.29 | N53: =SUM(B53:M53) -> 191.47 | P53: =+N53-'[1]POA 2016 (montos)'!$N53 -> 67.3
A54: (85) REHABILITACION | B54: =+ROUND(GUBERNAMENTAL!T51/1000,2) -> 0.81 | C54: =+ROUND(GUBERNAMENTAL!U51/1000,2) -> 0.81 | D54: =+ROUND(GUBERNAMENTAL!V51/1000,2) -> 0.85 | E54: =+ROUND(GUBERNAMENTAL!W51/1000,2) -> 3.04 | F54: =+ROUND(GUBERNAMENTAL!X51/1000,2) -> 9.49 | G54: =+ROUND(GUBERNAMENTAL!Y51/1000,2) -> 4.23 | H54: =+ROUND(GUBERNAMENTAL!Z51/1000,2) -> 0.84 | I54: =+ROUND(GUBERNAMENTAL!AA51/1000,2) -> 5.95 | ... M54: =+ROUND(GUBERNAMENTAL!AE51/1000,2) -> 4.27 | N54: =SUM(B54:M54) -> 223.48 | P54: =+N54-'[1]POA 2016 (montos)'!$N54 -> 204.52
A55: (88) ADQUISICIÓN A TERCEROS | B55: =+ROUND(GUBERNAMENTAL!T52/1000,2) -> 44.04 | C55: =+ROUND(GUBERNAMENTAL!U52/1000,2) -> 122.46 | D55: =+ROUND(GUBERNAMENTAL!V52/1000,2) -> 67.19 | E55: =+ROUND(GUBERNAMENTAL!W52/1000,2) -> 22.32 | F55: =+ROUND(GUBERNAMENTAL!X52/1000,2) -> 27.2 | G55: =+ROUND(GUBERNAMENTAL!Y52/1000,2) -> 17.41 | H55: =+ROUND(GUBERNAMENTAL!Z52/1000,2) -> 40.25 | I55: =+ROUND(GUBERNAMENTAL!AA52/1000,2) -> 187.6 | ... M55: =+ROUND(GUBERNAMENTAL!AE52/1000,2) -> 473.6 | N55: =SUM(B55:M55) -> 1109.3 | P55: =+N55-'[1]POA 2016 (montos)'!$N55 -> 404.49
A56: (AB) ADQUISICIÓN DE VIVIENDA EN USO Y REHABILITACIÓN | B56: =+ROUND(GUBERNAMENTAL!T53/1000,2) -> 81.63 | C56: =+ROUND(GUBERNAMENTAL!U53/1000,2) -> 177.7 | D56: =+ROUND(GUBERNAMENTAL!V53/1000,2) -> 83.51 | E56: =+ROUND(GUBERNAMENTAL!W53/1000,2) -> 92.31 | F56: =+ROUND(GUBERNAMENTAL!X53/1000,2) -> 118.16 | G56: =+ROUND(GUBERNAMENTAL!Y53/1000,2) -> 113.64 | H56: =+ROUND(GUBERNAMENTAL!Z53/1000,2) -> 79.87 | I56: =+ROUND(GUBERNAMENTAL!AA53/1000,2) -> 203.22 | ... M56: =+ROUND(GUBERNAMENTAL!AE53/1000,2) -> 158.97 | N56: =SUM(B56:M56) -> 1441.44 | P56: =+N56-'[1]POA 2016 (montos)'!$N56 -> -182.73
A57: (AC) ADQUISICIÓN DE VIVIENDA A TERCEROS | B57: =+ROUND(GUBERNAMENTAL!T54/1000,2) -> 3903.84 | C57: =+ROUND(GUBERNAMENTAL!U54/1000,2) -> 3771.9 | D57: =+ROUND(GUBERNAMENTAL!V54/1000,2) -> 4913.34 | E57: =+ROUND(GUBERNAMENTAL!W54/1000,2) -> 5409.93 | F57: =+ROUND(GUBERNAMENTAL!X54/1000,2) -> 4023.04 | G57: =+ROUND(GUBERNAMENTAL!Y54/1000,2) -> 4113.19 | H57: =+ROUND(GUBERNAMENTAL!Z54/1000,2) -> 3754.11 | I57: =+ROUND(GUBERNAMENTAL!AA54/1000,2) -> 3628.33 | ... M57: =+ROUND(GUBERNAMENTAL!AE54/1000,2) -> 4385.97 | N57: =SUM(B57:M57) -> 47574.2 | P57: =+N57-'[1]POA 2016 (montos)'!$N57 -> 3731
A58: VIVIENDA EN CONJUNTO | B58: =SUM(B59:B67) -> 37436.62 | C58: =SUM(C59:C67) -> 36817.96 | D58: =SUM(D59:D67) -> 37022.27 | E58: =SUM(E59:E67) -> 35633.92 | F58: =SUM(F59:F67) -> 35991.25 | G58: =SUM(G59:G67) -> 37030.68 | H58: =SUM(H59:H67) -> 35062.43 | I58: =SUM(I59:I67) -> 32307.57 | ... M58: =SUM(M59:M67) -> 42536.96 | N58: =SUM(B58:M58) -> 423744.37 | P58: =+N58-'[1]POA 2016 (montos)'!$N58 -> 10727.12
A59: (89) EDIFICACION III | B59: =+ROUND(GUBERNAMENTAL!T56/1000,2) -> 2.95 | C59: =+ROUND(GUBERNAMENTAL!U56/1000,2) -> 4.55 | D59: =+ROUND(GUBERNAMENTAL!V56/1000,2) -> 3.78 | E59: =+ROUND(GUBERNAMENTAL!W56/1000,2) -> 0.89 | F59: =+ROUND(GUBERNAMENTAL!X56/1000,2) -> 2.63 | G59: =+ROUND(GUBERNAMENTAL!Y56/1000,2) -> 3.92 | H59: =+ROUND(GUBERNAMENTAL!Z56/1000,2) -> 3.12 | I59: =+ROUND(GUBERNAMENTAL!AA56/1000,2) -> 0.8 | ... M59: =+ROUND(GUBERNAMENTAL!AE56/1000,2) -> 5.79 | N59: =SUM(B59:M59) -> 36.86 | P59: =+N59-'[1]POA 2016 (montos)'!$N59 -> -15.41
A60: (AA) ESTUDIOS Y PROYECTOS Y EDIFICACIÓN | B60: =+ROUND(GUBERNAMENTAL!T57/1000,2) -> 246.6 | C60: =+ROUND(GUBERNAMENTAL!U57/1000,2) -> 145.78 | D60: =+ROUND(GUBERNAMENTAL!V57/1000,2) -> 257.82 | E60: =+ROUND(GUBERNAMENTAL!W57/1000,2) -> 172.25 | F60: =+ROUND(GUBERNAMENTAL!X57/1000,2) -> 124.58 | G60: =+ROUND(GUBERNAMENTAL!Y57/1000,2) -> 104.16 | H60: =+ROUND(GUBERNAMENTAL!Z57/1000,2) -> 167.09 | I60: =+ROUND(GUBERNAMENTAL!AA57/1000,2) -> 235.47 | ... M60: =+ROUND(GUBERNAMENTAL!AE57/1000,2) -> 188.01 | N60: =SUM(B60:M60) -> 2368.42 | P60: =+N60-'[1]POA 2016 (montos)'!$N60 -> 405.19
A61: (AD) ADQUISICION DE SUELO Y EDIFICACIÓN | B61: =+ROUND(GUBERNAMENTAL!T58/1000,2) -> 271.4 | C61: =+ROUND(GUBERNAMENTAL!U58/1000,2) -> 280.17 | D61: =+ROUND(GUBERNAMENTAL!V58/1000,2) -> 297.08 | E61: =+ROUND(GUBERNAMENTAL!W58/1000,2) -> 276.28 | F61: =+ROUND(GUBERNAMENTAL!X58/1000,2) -> 503.56 | G61: =+ROUND(GUBERNAMENTAL!Y58/1000,2) -> 456.37 | H61: =+ROUND(GUBERNAMENTAL!Z58/1000,2) -> 407.77 | I61: =+ROUND(GUBERNAMENTAL!AA58/1000,2) -> 305.3 | ... M61: =+ROUND(GUBERNAMENTAL!AE58/1000,2) -> 374.14 | N61: =SUM(B61:M61) -> 4434.96 | P61: =+N61-'[1]POA 2016 (montos)'!$N61 -> -193.29
A62: (AE) ADQUISICIÓN DE SUELO Y ESTUDIOS Y PROYECTOS | B62: =+ROUND(GUBERNAMENTAL!T59/1000,2) -> 135.61 | C62: =+ROUND(GUBERNAMENTAL!U59/1000,2) -> 264.42 | D62: =+ROUND(GUBERNAMENTAL!V59/1000,2) -> 40.34 | E62: =+ROUND(GUBERNAMENTAL!W59/1000,2) -> 23.89 | F62: =+ROUND(GUBERNAMENTAL!X59/1000,2) -> 32.13 | G62: =+ROUND(GUBERNAMENTAL!Y59/1000,2) -> 14.43 | H62: =+ROUND(GUBERNAMENTAL!Z59/1000,2) -> 26.31 | I62: =+ROUND(GUBERNAMENTAL!AA59/1000,2) -> 53.57 | ... M62: =+ROUND(GUBERNAMENTAL!AE59/1000,2) -> 210.14 | N62: =SUM(B62:M62) -> 1153.71 | P62: =+N62-'[1]POA 2016 (montos)'!$N62 -> 153.3
A63: (AF) DEMOLICIÓN, ESTUDIOS Y PROYECTOS Y EDIFICACIÓN | B63: =+ROUND(GUBERNAMENTAL!T60/1000,2) -> 5177.31 | C63: =+ROUND(GUBERNAMENTAL!U60/1000,2) -> 3676.94 | D63: =+ROUND(GUBERNAMENTAL!V60/1000,2) -> 4269.35 | E63: =+ROUND(GUBERNAMENTAL!W60/1000,2) -> 4279.55 | F63: =+ROUND(GUBERNAMENTAL!X60/1000,2) -> 4739.06 | G63: =+ROUND(GUBERNAMENTAL!Y60/1000,2) -> 5005.42 | H63: =+ROUND(GUBERNAMENTAL!Z60/1000,2) -> 4708.81 | I63: =+ROUND(GUBERNAMENTAL!AA60/1000,2) -> 4108.36 | ... M63: =+ROUND(GUBERNAMENTAL!AE60/1000,2) -> 5105.42 | N63: =SUM(B63:M63) -> 53353.04 | P63: =+N63-'[1]POA 2016 (montos)'!$N63 -> -2578.55
A64: (AH) SUELO, ESTUDIOS Y PROYECTOS Y EDIFICACIÓN | B64: =+ROUND(GUBERNAMENTAL!T61/1000,2) -> 1313.63 | C64: =+ROUND(GUBERNAMENTAL!U61/1000,2) -> 1174.38 | D64: =+ROUND(GUBERNAMENTAL!V61/1000,2) -> 1086.5 | E64: =+ROUND(GUBERNAMENTAL!W61/1000,2) -> 1523.94 | F64: =+ROUND(GUBERNAMENTAL!X61/1000,2) -> 1174.1 | G64: =+ROUND(GUBERNAMENTAL!Y61/1000,2) -> 1174.62 | H64: =+ROUND(GUBERNAMENTAL!Z61/1000,2) -> 1212.19 | I64: =+ROUND(GUBERNAMENTAL!AA61/1000,2) -> 1316.92 | ... M64: =+ROUND(GUBERNAMENTAL!AE61/1000,2) -> 2198.08 | N64: =SUM(B64:M64) -> 15659.42 | P64: =+N64-'[1]POA 2016 (montos)'!$N64 -> -2754.01
A65: (AI) ADQUISICIÓN DE SUELO | B65: =+ROUND(GUBERNAMENTAL!T62/1000,2) -> 65.88 | C65: =+ROUND(GUBERNAMENTAL!U62/1000,2) -> 309.15 | D65: =+ROUND(GUBERNAMENTAL!V62/1000,2) -> 81.9 | E65: =+ROUND(GUBERNAMENTAL!W62/1000,2) -> 114.68 | F65: =+ROUND(GUBERNAMENTAL!X62/1000,2) -> 86.91 | G65: =+ROUND(GUBERNAMENTAL!Y62/1000,2) -> 62.48 | H65: =+ROUND(GUBERNAMENTAL!Z62/1000,2) -> 68.3 | I65: =+ROUND(GUBERNAMENTAL!AA62/1000,2) -> 164.83 | ... M65: =+ROUND(GUBERNAMENTAL!AE62/1000,2) -> 184.8 | N65: =SUM(B65:M65) -> 1647.52 | P65: =+N65-'[1]POA 2016 (montos)'!$N65 -> 181.56
A66: (AJ) VIVIENDA NUEVA TERMINADA EDIFICACIÓN INVI II | B66: =+ROUND(GUBERNAMENTAL!T63/1000,2) -> 1611.47 | C66: =+ROUND(GUBERNAMENTAL!U63/1000,2) -> 1166.35 | D66: =+ROUND(GUBERNAMENTAL!V63/1000,2) -> 1130.25 | E66: =+ROUND(GUBERNAMENTAL!W63/1000,2) -> 1711.9 | F66: =+ROUND(GUBERNAMENTAL!X63/1000,2) -> 1514.27 | G66: =+ROUND(GUBERNAMENTAL!Y63/1000,2) -> 1566.33 | H66: =+ROUND(GUBERNAMENTAL!Z63/1000,2) -> 1385.22 | I66: =+ROUND(GUBERNAMENTAL!AA63/1000,2) -> 1606.72 | ... M66: =+ROUND(GUBERNAMENTAL!AE63/1000,2) -> 1953.85 | N66: =SUM(B66:M66) -> 17023.85 | P66: =+N66-'[1]POA 2016 (montos)'!$N66 -> -2481.41
A67: (AK) SUELO, ESTUDIOS Y PROYECTOS Y EDIFICACIÓN INVI II | B67: =+ROUND(GUBERNAMENTAL!T64/1000,2) -> 28611.77 | C67: =+ROUND(GUBERNAMENTAL!U64/1000,2) -> 29796.22 | D67: =+ROUND(GUBERNAMENTAL!V64/1000,2) -> 29855.25 | E67: =+ROUND(GUBERNAMENTAL!W64/1000,2) -> 27530.54 | F67: =+ROUND(GUBERNAMENTAL!X64/1000,2) -> 27814.01 | G67: =+ROUND(GUBERNAMENTAL!Y64/1000,2) -> 28642.95 | H67: =+ROUND(GUBERNAMENTAL!Z64/1000,2) -> 27083.62 | I67: =+ROUND(GUBERNAMENTAL!AA64/1000,2) -> 24515.6 | ... M67: =+ROUND(GUBERNAMENTAL!AE64/1000,2) -> 32316.73 | N67: =SUM(B67:M67) -> 328066.59 | P67: =+N67-'[1]POA 2016 (montos)'!$N67 -> 18009.74
A68: MEJORAMIENTO DE VIVIENDA | B68: =SUM(B69) -> 108.29 | C68: =SUM(C69) -> 89.01 | D68: =SUM(D69) -> 97.4 | E68: =SUM(E69) -> 100.64 | F68: =SUM(F69) -> 81.03 | G68: =SUM(G69) -> 105.51 | H68: =SUM(H69) -> 57.53 | I68: =SUM(I69) -> 71.05 | ... M68: =SUM(M69) -> 111.73 | N68: =SUM(B68:M68) -> 1094.44 | P68: =+N68-'[1]POA 2016 (montos)'!$N68 -> -26.6
A69: (AL) SUELO, CONSTRUCCIÓN Y MEJORAMIENTO | B69: =+ROUND(GUBERNAMENTAL!T66/1000,2) -> 108.29 | C69: =+ROUND(GUBERNAMENTAL!U66/1000,2) -> 89.01 | D69: =+ROUND(GUBERNAMENTAL!V66/1000,2) -> 97.4 | E69: =+ROUND(GUBERNAMENTAL!W66/1000,2) -> 100.64 | F69: =+ROUND(GUBERNAMENTAL!X66/1000,2) -> 81.03 | G69: =+ROUND(GUBERNAMENTAL!Y66/1000,2) -> 105.51 | H69: =+ROUND(GUBERNAMENTAL!Z66/1000,2) -> 57.53 | I69: =+ROUND(GUBERNAMENTAL!AA66/1000,2) -> 71.05 | ... M69: =+ROUND(GUBERNAMENTAL!AE66/1000,2) -> 111.73 | N69: =SUM(B69:M69) -> 1094.44 | P69: =+N69-'[1]POA 2016 (montos)'!$N69 -> -26.6
A70: CONSTRUCCIÓN DE VIVIENDA EN LOTE FAMILIAR | B70: =SUM(B71) -> 42665.63 | C70: =SUM(C71) -> 48455.52 | D70: =SUM(D71) -> 45733.4 | E70: =SUM(E71) -> 42776.23 | F70: =SUM(F71) -> 46688.24 | G70: =SUM(G71) -> 44322.18 | H70: =SUM(H71) -> 43387.98 | I70: =SUM(I71) -> 41983.28 | ... M70: =SUM(M71) -> 55548.56 | N70: =SUM(B70:M70) -> 535988.76 | P70: =+N70-'[1]POA 2016 (montos)'!$N70 -> -30082.85
A71: (90) CONSTRUCCIÓN Y MEJORAMIENTO II - MÓDULOS | B71: =+ROUND(GUBERNAMENTAL!T68/1000,2) -> 42665.63 | C71: =+ROUND(GUBERNAMENTAL!U68/1000,2) -> 48455.52 | D71: =+ROUND(GUBERNAMENTAL!V68/1000,2) -> 45733.4 | E71: =+ROUND(GUBERNAMENTAL!W68/1000,2) -> 42776.23 | F71: =+ROUND(GUBERNAMENTAL!X68/1000,2) -> 46688.24 | G71: =+ROUND(GUBERNAMENTAL!Y68/1000,2) -> 44322.18 | H71: =+ROUND(GUBERNAMENTAL!Z68/1000,2) -> 43387.98 | I71: =+ROUND(GUBERNAMENTAL!AA68/1000,2) -> 41983.28 | ... M71: =+ROUND(GUBERNAMENTAL!AE68/1000,2) -> 55548.56 | N71: =SUM(B71:M71) -> 535988.76 | P71: =+N71-'[1]POA 2016 (montos)'!$N71 -> -30082.85
A72: RESCATE HIPOTECARIO - PESOS | B72: =SUM(B73) -> 10.87 | C72: =SUM(C73) -> 10.89 | D72: =SUM(D73) -> 8.25 | E72: =SUM(E73) -> 6.64 | F72: =SUM(F73) -> 7.01 | G72: =SUM(G73) -> 20.95 | H72: =SUM(H73) -> 25.34 | I72: =SUM(I73) -> 8.86 | ... M72: =SUM(M73) -> 35.59 | N72: =SUM(B72:M72) -> 177.2 | P72: =+N72-'[1]POA 2016 (montos)'!$N72 -> -124.6
A73: (83) SERFIN - FIVIDESU - INVI | B73: =+ROUND(GUBERNAMENTAL!T70/1000,2) -> 10.87 | C73: =+ROUND(GUBERNAMENTAL!U70/1000,2) -> 10.89 | D73: =+ROUND(GUBERNAMENTAL!V70/1000,2) -> 8.25 | E73: =+ROUND(GUBERNAMENTAL!W70/1000,2) -> 6.64 | F73: =+ROUND(GUBERNAMENTAL!X70/1000,2) -> 7.01 | G73: =+ROUND(GUBERNAMENTAL!Y70/1000,2) -> 20.95 | H73: =+ROUND(GUBERNAMENTAL!Z70/1000,2) -> 25.34 | I73: =+ROUND(GUBERNAMENTAL!AA70/1000,2) -> 8.86 | ... M73: =+ROUND(GUBERNAMENTAL!AE70/1000,2) -> 35.59 | N73: =SUM(B73:M73) -> 177.2 | P73: =+N73-'[1]POA 2016 (montos)'!$N73 -> -124.6
A74: RESCATE DE CARTERA - VSM | B74: =SUM(B75:B80) -> 0 | C74: =SUM(C75:C80) -> 0 | D74: =SUM(D75:D80) -> 0 | E74: =SUM(E75:E80) -> 0 | F74: =SUM(F75:F80) -> 0 | G74: =SUM(G75:G80) -> 0 | H74: =SUM(H75:H80) -> 0 | I74: =SUM(I75:I80) -> 0 | ... M74: =SUM(M75:M80) -> 0 | N74: =SUM(B74:M74) -> 0 | P74: =+N74-'[1]POA 2016 (montos)'!$N74 -> 0
A75: (59) LAGO VIESCA No. 29 | B75: 0 | C75: 0 | D75: 0 | E75: 0 | F75: 0 | G75: 0 | H75: 0 | I75: 0 | J75: 0 | K75: 0 | L75: 0 | M75: 0 | N75: =SUM(B75:M75) -> 0 | P75: =+N75-'[1]POA 2016 (montos)'!$N75 -> 0
A76: (71) JOSÉ JOAQUÍN HERRERA No. 151 | B76: 0 | C76: 0 | D76: 0 | E76: 0 | F76: 0 | G76: 0 | H76: 0 | I76: 0 | J76: 0 | K76: 0 | L76: 0 | M76: 0 | N76: =SUM(B76:M76) -> 0 | P76: =+N76-'[1]POA 2016 (montos)'!$N76 -> 0
A77: (73) CÁNDIDO NAVARRO No. 84 | B77: 0 | C77: 0 | D77: 0 | E77: 0 | F77: 0 | G77: 0 | H77: 0 | I77: 0 | J77: 0 | K77: 0 | L77: 0 | M77: 0 | N77: =SUM(B77:M77) -> 0 | P77: =+N77-'[1]POA 2016 (montos)'!$N77 -> 0
A78: (79) PRIVADA DE CAMPO CORINTO No. 1 | B78: 0 | C78: 0 | D78: 0 | E78: 0 | F78: 0 | G78: 0 | H78: 0 | I78: 0 | J78: 0 | K78: 0 | L78: 0 | M78: 0 | N78: =SUM(B78:M78) -> 0 | P78: =+N78-'[1]POA 2016 (montos)'!$N78 -> 0
A79: (78) XANAMBRES No. 1 | B79: 0 | C79: 0 | D79: 0 | E79: 0 | F79: 0 | G79: 0 | H79: 0 | I79: 0 | J79: 0 | K79: 0 | L79: 0 | M79: 0 | N79: =SUM(B79:M79) -> 0 | P79: =+N79-'[1]POA 2016 (montos)'!$N79 -> 0
A80: (82) JOSÉ F. GUTIÉRREZ No. 254 | B80: 0 | C80: 0 | D80: 0 | E80: 0 | F80: 0 | G80: 0 | H80: 0 | I80: 0 | J80: 0 | K80: 0 | L80: 0 | M80: 0 | N80: =SUM(B80:M80) -> 0 | P80: =+N80-'[1]POA 2016 (montos)'!$N80 -> 0
A81: VIVIENDA EN CONJUNTO CON INTERÉS ORDINARIO | B81: =SUM(B82:B83) -> 2422.17 | C81: =SUM(C82:C83) -> 1944.38 | D81: =SUM(D82:D83) -> 2305.95 | E81: =SUM(E82:E83) -> 2071.11 | F81: =SUM(F82:F83) -> 1801.16 | G81: =SUM(G82:G83) -> 1874.82 | H81: =SUM(H82:H83) -> 1715.55 | I81: =SUM(I82:I83) -> 1952.22 | ... M81: =SUM(M82:M83) -> 2103.13 | N81: =SUM(B81:M81) -> 24397.5 | P81: =+N81-'[1]POA 2016 (montos)'!$N81 -> -2848.13
A82: (80) VIVIENDA NUEVA TERMINADA EDIFICACION | B82: =+ROUND(GUBERNAMENTAL!T79/1000,2) -> 2422.17 | C82: =+ROUND(GUBERNAMENTAL!U79/1000,2) -> 1944.38 | D82: =+ROUND(GUBERNAMENTAL!V79/1000,2) -> 2305.95 | E82: =+ROUND(GUBERNAMENTAL!W79/1000,2) -> 2071.11 | F82: =+ROUND(GUBERNAMENTAL!X79/1000,2) -> 1801.16 | G82: =+ROUND(GUBERNAMENTAL!Y79/1000,2) -> 1874.82 | H82: =+ROUND(GUBERNAMENTAL!Z79/1000,2) -> 1715.55 | I82: =+ROUND(GUBERNAMENTAL!AA79/1000,2) -> 1952.22 | ... M82: =+ROUND(GUBERNAMENTAL!AE79/1000,2) -> 2103.13 | N82: =SUM(B82:M82) -> 24397.5 | P82: =+N82-'[1]POA 2016 (montos)'!$N82 -> -2843.93
A83: (AM) ADQUISICIÓN DE VIVIENDA | B83: 0 | C83: 0 | D83: 0 | E83: 0 | F83: 0 | G83: 0 | H83: 0 | I83: 0 | J83: 0 | K83: 0 | L83: 0 | M83: 0 | N83: =SUM(B83:M83) -> 0 | P83: =+N83-'[1]POA 2016 (montos)'!$N83 -> -4.2
A84: VIVIENDA EN CONJUNTO ANUALIDADES | B84: =SUM(B85) -> 4.02 | C84: =SUM(C85) -> 57.66 | D84: =SUM(D85) -> 0 | E84: =SUM(E85) -> 5.9 | F84: =SUM(F85) -> 5.65 | G84: =SUM(G85) -> 18.16 | H84: =SUM(H85) -> 52.34 | I84: =SUM(I85) -> 7.1 | ... M84: =SUM(M85) -> 9.78 | N84: =SUM(B84:M84) -> 196.02 | P84: =+N84-'[1]POA 2016 (montos)'!$N84 -> -190.26
A85: (86) VIVIENDA EN CONJUNTO | B85: =+ROUND(GUBERNAMENTAL!T82/1000,2) -> 4.02 | C85: =+ROUND(GUBERNAMENTAL!U82/1000,2) -> 57.66 | D85: =+ROUND(GUBERNAMENTAL!V82/1000,2) -> 0 | E85: =+ROUND(GUBERNAMENTAL!W82/1000,2) -> 5.9 | F85: =+ROUND(GUBERNAMENTAL!X82/1000,2) -> 5.65 | G85: =+ROUND(GUBERNAMENTAL!Y82/1000,2) -> 18.16 | H85: =+ROUND(GUBERNAMENTAL!Z82/1000,2) -> 52.34 | I85: =+ROUND(GUBERNAMENTAL!AA82/1000,2) -> 7.1 | ... M85: =+ROUND(GUBERNAMENTAL!AE82/1000,2) -> 9.78 | N85: =SUM(B85:M85) -> 196.02 | P85: =+N85-'[1]POA 2016 (montos)'!$N85 -> -190.26
A86: PROPIA | B86: =SUM(B87+B90+B91+B94) -> 23.42 | C86: =SUM(C87+C90+C91+C94) -> 8.66 | D86: =SUM(D87+D90+D91+D94) -> 10.37 | E86: =SUM(E87+E90+E91+E94) -> 23.9 | F86: =SUM(F87+F90+F91+F94) -> 18.86 | G86: =SUM(G87+G90+G91+G94) -> 19.88 | H86: =SUM(H87+H90+H91+H94) -> 14.83 | I86: =SUM(I87+I90+I91+I94) -> 25.57 | ... M86: =SUM(M87+M90+M91+M94) -> 26.13 | N86: =SUM(B86:M86) -> 211.89 | P86: =+N86-'[1]POA 2016 (montos)'!$N86 -> -18.96
A87: RHP | B87: =+B88+B89 -> 0 | C87: =+C88+C89 -> 0 | D87: =+D88+D89 -> 2.77 | E87: =+E88+E89 -> 8.91 | F87: =+F88+F89 -> 10.2 | G87: =+G88+G89 -> 12.28 | H87: =+H88+H89 -> 0.36 | I87: =+I88+I89 -> 0.36 | ... M87: =+M88+M89 -> 2.71 | N87: =SUM(B87:M87) -> 38.06 | P87: =+N87-'[1]POA 2016 (montos)'!$N87 -> -30.42
A88: (16) CONGELADOS (a enero 2000) | B88: =+ROUND('PROPIA Y SOCIAL'!T11/1000,2) -> 0 | C88: =+ROUND('PROPIA Y SOCIAL'!U11/1000,2) -> 0 | D88: =+ROUND('PROPIA Y SOCIAL'!V11/1000,2) -> 2.32 | E88: =+ROUND('PROPIA Y SOCIAL'!W11/1000,2) -> 0 | F88: =+ROUND('PROPIA Y SOCIAL'!X11/1000,2) -> 0.36 | G88: =+ROUND('PROPIA Y SOCIAL'!Y11/1000,2) -> 7.86 | H88: =+ROUND('PROPIA Y SOCIAL'!Z11/1000,2) -> 0.36 | I88: =+ROUND('PROPIA Y SOCIAL'!AA11/1000,2) -> 0.36 | ... M88: =+ROUND('PROPIA Y SOCIAL'!AE11/1000,2) -> 2.71 | N88: =SUM(B88:M88) -> 14.33 | P88: =+N88-'[1]POA 2016 (montos)'!$N88 -> -54.15
A89: (16) CONGELADOS (a julio 2003) | B89: =+ROUND('PROPIA Y SOCIAL'!T12/1000,2) -> 0 | C89: =+ROUND('PROPIA Y SOCIAL'!U12/1000,2) -> 0 | D89: =+ROUND('PROPIA Y SOCIAL'!V12/1000,2) -> 0.45 | E89: =+ROUND('PROPIA Y SOCIAL'!W12/1000,2) -> 8.91 | F89: =+ROUND('PROPIA Y SOCIAL'!X12/1000,2) -> 9.84 | G89: =+ROUND('PROPIA Y SOCIAL'!Y12/1000,2) -> 4.42 | H89: =+ROUND('PROPIA Y SOCIAL'!Z12/1000,2) -> 0 | I89: =+ROUND('PROPIA Y SOCIAL'!AA12/1000,2) -> 0 | ... M89: =+ROUND('PROPIA Y SOCIAL'!AE12/1000,2) -> 0 | N89: =SUM(B89:M89) -> 23.73 | P89: =+N89-'[1]POA 2016 (montos)'!$N89 -> 23.73
A90: (09/49) SUELO-FICAPRO-FIDERE | B90: 0 | C90: 0 | D90: 0 | E90: 0 | F90: 0 | G90: 0 | H90: 0 | I90: 0 | J90: 0 | K90: 0 | L90: 0 | M90: 0 | N90: =SUM(B90:M90) -> 0 | P90: =+N90-'[1]POA 2016 (montos)'!$N90 -> -2.2
A91: FONDECO D.F. | B91: =SUM(B92+B93) -> 21.09 | C91: =SUM(C92+C93) -> 6.33 | D91: =SUM(D92+D93) -> 5.27 | E91: =SUM(E92+E93) -> 12.66 | F91: =SUM(F92+F93) -> 6.33 | G91: =SUM(G92+G93) -> 5.27 | H91: =SUM(H92+H93) -> 12.14 | I91: =SUM(I92+I93) -> 22.88 | ... M91: =SUM(M92+M93) -> 21.09 | N91: =SUM(B91:M91) -> 145.87 | P91: =+N91-'[1]POA 2016 (montos)'!$N91 -> 20.87
A92: (93) FONDECO MYPES Local | B92: =+ROUND('PROPIA Y SOCIAL'!T15/1000,2) -> 21.09 | C92: =+ROUND('PROPIA Y SOCIAL'!U15/1000,2) -> 6.33 | D92: =+ROUND('PROPIA Y SOCIAL'!V15/1000,2) -> 5.27 | E92: =+ROUND('PROPIA Y SOCIAL'!W15/1000,2) -> 12.66 | F92: =+ROUND('PROPIA Y SOCIAL'!X15/1000,2) -> 6.33 | G92: =+ROUND('PROPIA Y SOCIAL'!Y15/1000,2) -> 5.27 | H92: =+ROUND('PROPIA Y SOCIAL'!Z15/1000,2) -> 12.14 | I92: =+ROUND('PROPIA Y SOCIAL'!AA15/1000,2) -> 22.88 | ... M92: =+ROUND('PROPIA Y SOCIAL'!AE15/1000,2) -> 21.09 | N92: =SUM(B92:M92) -> 145.87 | P92: =+N92-'[1]POA 2016 (montos)'!$N92 -> 20.87
A93: (95) FONDECO EMPRESARIAL | B93: 0 | C93: 0 | D93: 0 | E93: 0 | F93: 0 | G93: 0 | H93: 0 | I93: 0 | J93: 0 | K93: 0 | L93: 0 | M93: 0 | N93: =SUM(B93:M93) -> 0 | P93: =+N93-'[1]POA 2016 (montos)'!$N93 -> 0
A94: (94) FOCOMI MYPES | B94: =+ROUND('PROPIA Y SOCIAL'!T19/1000,2) -> 2.33 | C94: =+ROUND('PROPIA Y SOCIAL'!U19/1000,2) -> 2.33 | D94: =+ROUND('PROPIA Y SOCIAL'!V19/1000,2) -> 2.33 | E94: =+ROUND('PROPIA Y SOCIAL'!W19/1000,2) -> 2.33 | F94: =+ROUND('PROPIA Y SOCIAL'!X19/1000,2) -> 2.33 | G94: =+ROUND('PROPIA Y SOCIAL'!Y19/1000,2) -> 2.33 | H94: =+ROUND('PROPIA Y SOCIAL'!Z19/1000,2) -> 2.33 | I94: =+ROUND('PROPIA Y SOCIAL'!AA19/1000,2) -> 2.33 | ... M94: =+ROUND('PROPIA Y SOCIAL'!AE19/1000,2) -> 2.33 | N94: =SUM(B94:M94) -> 27.96 | P94: =+N94-'[1]POA 2016 (montos)'!$N94 -> -7.21
A96: SOCIAL | B96: =SUM(B97+B98+B102+B105) -> 14.15 | C96: =SUM(C97+C98+C102+C105) -> 30.68 | D96: =SUM(D97+D98+D102+D105) -> 10.34 | E96: =SUM(E97+E98+E102+E105) -> 17.79 | F96: =SUM(F97+F98+F102+F105) -> 2.78 | G96: =SUM(G97+G98+G102+G105) -> 22.37 | H96: =SUM(H97+H98+H102+H105) -> 2.07 | I96: =SUM(I97+I98+I102+I105) -> 49.26 | ... M96: =SUM(M97+M98+M102+M105) -> 9.45 | N96: =SUM(B96:M96) -> 264.12 | P96: =+N96-'[1]POA 2016 (montos)'!$N96 -> 50.41
A97: (07) FAC | B97: 0 | C97: 0 | D97: 0 | E97: 0 | F97: 0 | G97: 0 | H97: 0 | I97: 0 | J97: 0 | K97: 0 | L97: 0 | M97: 0 | N97: =SUM(B97:M97) -> 0 | P97: =+N97-'[1]POA 2016 (montos)'!$N97 -> -13.71
A98: FONDO DE MANDATO Y GARANTÍA | B98: =SUM(B99:B101) -> 1.39 | C98: =SUM(C99:C101) -> 0 | D98: =SUM(D99:D101) -> 4.15 | E98: =SUM(E99:E101) -> 5.71 | F98: =SUM(F99:F101) -> 0.06 | G98: =SUM(G99:G101) -> 18.22 | H98: =SUM(H99:H101) -> 0.48 | I98: =SUM(I99:I101) -> 33.46 | ... M98: =SUM(M99:M101) -> 7.49 | N98: =SUM(B98:M98) -> 130.31 | P98: =+N98-'[1]POA 2016 (montos)'!$N98 -> 80.31
A99: (91) FONDO DE MANDATO (Individual) | B99: =+ROUND('PROPIA Y SOCIAL'!T24/1000,2) -> 1.39 | C99: =+ROUND('PROPIA Y SOCIAL'!U24/1000,2) -> 0 | D99: =+ROUND('PROPIA Y SOCIAL'!V24/1000,2) -> 0 | E99: =+ROUND('PROPIA Y SOCIAL'!W24/1000,2) -> 0 | F99: =+ROUND('PROPIA Y SOCIAL'!X24/1000,2) -> 0 | G99: =+ROUND('PROPIA Y SOCIAL'!Y24/1000,2) -> 15.07 | H99: =+ROUND('PROPIA Y SOCIAL'!Z24/1000,2) -> 0 | I99: =+ROUND('PROPIA Y SOCIAL'!AA24/1000,2) -> 17.99 | ... M99: =+ROUND('PROPIA Y SOCIAL'!AE24/1000,2) -> 7.24 | N99: =SUM(B99:M99) -> 84.63 | P99: =+N99-'[1]POA 2016 (montos)'!$N99 -> 54.63
A100: (91) FONDO DE MANDATO (Organizaciones) | B100: =+ROUND('PROPIA Y SOCIAL'!T25/1000,2) -> 0 | C100: =+ROUND('PROPIA Y SOCIAL'!U25/1000,2) -> 0 | D100: =+ROUND('PROPIA Y SOCIAL'!V25/1000,2) -> 2.67 | E100: =+ROUND('PROPIA Y SOCIAL'!W25/1000,2) -> 5.71 | F100: =+ROUND('PROPIA Y SOCIAL'!X25/1000,2) -> 0.06 | G100: =+ROUND('PROPIA Y SOCIAL'!Y25/1000,2) -> 3.15 | H100: =+ROUND('PROPIA Y SOCIAL'!Z25/1000,2) -> 0.48 | I100: =+ROUND('PROPIA Y SOCIAL'!AA25/1000,2) -> 11.42 | ... M100: =+ROUND('PROPIA Y SOCIAL'!AE25/1000,2) -> 0.25 | N100: =SUM(B100:M100) -> 27.73 | P100: =+N100-'[1]POA 2016 (montos)'!$N100 -> 27.73
A101: (91) FONDO DE GARANTÍA | B101: =+ROUND('PROPIA Y SOCIAL'!T26/1000,2) -> 0 | C101: =+ROUND('PROPIA Y SOCIAL'!U26/1000,2) -> 0 | D101: =+ROUND('PROPIA Y SOCIAL'!V26/1000,2) -> 1.48 | E101: =+ROUND('PROPIA Y SOCIAL'!W26/1000,2) -> 0 | F101: =+ROUND('PROPIA Y SOCIAL'!X26/1000,2) -> 0 | G101: =+ROUND('PROPIA Y SOCIAL'!Y26/1000,2) -> 0 | H101: =+ROUND('PROPIA Y SOCIAL'!Z26/1000,2) -> 0 | I101: =+ROUND('PROPIA Y SOCIAL'!AA26/1000,2) -> 4.05 | ... M101: =+ROUND('PROPIA Y SOCIAL'!AE26/1000,2) -> 0 | N101: =SUM(B101:M101) -> 17.95 | P101: =+N101-'[1]POA 2016 (montos)'!$N101 -> -2.05
A102: FONDECO D.F. | B102: =+B103 -> 12.76 | C102: =+C103 -> 30.68 | D102: =+D103 -> 6.19 | E102: =+E103 -> 12.08 | F102: =+F103 -> 2.72 | G102: =+G103 -> 4.15 | H102: =+H103 -> 1.59 | I102: =+I103 -> 15.8 | ... M102: =+M103 -> 1.96 | N102: =SUM(B102:M102) -> 133.81 | P102: =+N102-'[1]POA 2016 (montos)'!$N102 -> -16.19
A103: (93) FONDECO MYPES Federal | B103: =+ROUND('PROPIA Y SOCIAL'!T28/1000,2) -> 12.76 | C103: =+ROUND('PROPIA Y SOCIAL'!U28/1000,2) -> 30.68 | D103: =+ROUND('PROPIA Y SOCIAL'!V28/1000,2) -> 6.19 | E103: =+ROUND('PROPIA Y SOCIAL'!W28/1000,2) -> 12.08 | F103: =+ROUND('PROPIA Y SOCIAL'!X28/1000,2) -> 2.72 | G103: =+ROUND('PROPIA Y SOCIAL'!Y28/1000,2) -> 4.15 | H103: =+ROUND('PROPIA Y SOCIAL'!Z28/1000,2) -> 1.59 | I103: =+ROUND('PROPIA Y SOCIAL'!AA28/1000,2) -> 15.8 | ... M103: =+ROUND('PROPIA Y SOCIAL'!AE28/1000,2) -> 1.96 | N103: =SUM(B103:M103) -> 133.81 | P103: =+N103-'[1]POA 2016 (montos)'!$N103 -> -16.19
A105: OTRAS | B105: =SUM(B106:B109) -> 0 | C105: =SUM(C106:C109) -> 0 | D105: =SUM(D106:D109) -> 0 | E105: =SUM(E106:E109) -> 0 | F105: =SUM(F106:F109) -> 0 | G105: =SUM(G106:G109) -> 0 | H105: =SUM(H106:H109) -> 0 | I105: =SUM(I106:I109) -> 0 | ... M105: =SUM(M106:M109) -> 0 | N105: =SUM(B105:M105) -> 0 | P105: =+N105-'[1]POA 2016 (montos)'!$N105 -> 0
A106: (68) Solidaridad Patrimonial "EL MOLINO I" | B106: 0 | C106: 0 | D106: 0 | E106: 0 | F106: 0 | G106: 0 | H106: 0 | I106: 0 | J106: 0 | K106: 0 | L106: 0 | M106: 0 | N106: =SUM(B106:M106) -> 0 | P106: =+N106-'[1]POA 2016 (montos)'!$N106 -> 0
A107: (69) Nueva Generación "EL MOLINO II" | B107: 0 | C107: 0 | D107: 0 | E107: 0 | F107: 0 | G107: 0 | H107: 0 | I107: 0 | J107: 0 | K107: 0 | L107: 0 | M107: 0 | N107: =SUM(B107:M107) -> 0 | P107: =+N107-'[1]POA 2016 (montos)'!$N107 -> 0
...

Sheet POA 2017 (montos)
A1: FIDEICOMISO DE RECUPERACIÓN CREDITICIA DE LA CIUDAD DE MÉXICO (FIDERE)
A2: PROGRAMACION 2017
A3: (MILES DE PESOS)
A5: CARTERA | B5: M E T A 2 0 1 7
B6: ENERO | C6: FEBRERO | D6: MARZO | E6: ABRIL | F6: MAYO | G6: JUNIO | H6: JULIO | I6: AGOSTO | J6: SEPTIEMBRE | K6: OCTUBRE | L6: NOVIEMBRE | M6: DICIEMBRE | N6: TOTAL | P6: VARIACION POA 2016
A8: BANCARIA | B8: 1273.67 | C8: 1452.21 | D8: 1250.03 | E8: 1187.48 | F8: 1281 | G8: 2142.06 | H8: 959.3 | I8: 1272.1 | J8: 1711.38 | K8: 1986.05 | L8: 1221.47 | M8: 1613.92 | N8: 17350.67 | P8: -19112.14
A9: (15) BANAMEX | B9: 1106.47 | C9: 1278.32 | D9: 1076.14 | E9: 1013.59 | F9: 1107.11 | G9: 1968.17 | H9: 785.41 | I9: 1098.21 | J9: 1537.49 | K9: 1812.16 | L9: 1047.58 | M9: 1440.03 | N9: 15270.68 | P9: -17407.66
A10: (13) BANORTE (BANCRECER) | B10: 167.2 | C10: 173.89 | D10: 173.89 | E10: 173.89 | F10: 173.89 | G10: 173.89 | H10: 173.89 | I10: 173.89 | J10: 173.89 | K10: 173.89 | L10: 173.89 | M10: 173.89 | N10: 2079.99 | P10: -1704.48
A12: GUBERNAMENTAL | B12: 91128.97 | C12: 96204.13 | D12: 93918.03 | E12: 93647.89 | F12: 95090.15 | G12: 95150.26 | H12: 92591.28 | I12: 94721.33 | J12: 90062.51 | K12: 87221.59 | L12: 89277.47 | M12: 115552.2 | N12: 1134565.8 | P12: 12150.34
A13: FIVIDESU | B13: 1127.1 | C13: 1122.67 | D13: 952.52 | E13: 1039.38 | F13: 860.73 | G13: 1565.48 | H13: 1544.35 | I13: 1458.52 | J13: 1462.56 | K13: 917.3 | L13: 1436.62 | M13: 2495.88 | N13: 15983.11 | P13: -3259.43
A14: (34) ORDINARIO CONDICIONES 02, 03, 04, 05, y 07 | B14: 1055.88 | C14: 1043.72 | D14: 846.84 | E14: 952.61 | F14: 793.93 | G14: 1111.8 | H14: 1162.69 | I14: 1199.7 | J14: 1407.12 | K14: 781.71 | L14: 1152.9 | M14: 2324.71 | N14: 13833.61 | P14: -2636.5
A15: (54) FOVI - 7 DE JULIO | B15: 0 | C15: 0 | D15: 0 | E15: 0 | F15: 0 | G15: 0 | H15: 0 | I15: 0 | J15: 0 | K15: 0 | L15: 0 | M15: 0 | N15: 0 | P15: 0
A16: (55) FOVI - PLUTARCO ELÍAS CALLES | B16: 9.87 | C16: 9.15 | D16: 19.13 | E16: 12.86 | F16: 10.45 | G16: 18.91 | H16: 13.33 | I16: 14.93 | J16: 7.52 | K16: 18.66 | L16: 7.51 | M16: 18.5 | N16: 160.82 | P16: 22.78
A17: (56) RESCATE FINANCIERO | B17: 35.74 | C17: 47.26 | D17: 58.71 | E17: 53.82 | F17: 35.21 | G17: 179.59 | H17: 41.98 | I17: 41.04 | J17: 31.35 | K17: 47.76 | L17: 27.64 | M17: 54.55 | N17: 654.65 | P17: -842.54
A18: (66) MEJORAMIENTO DE VIVIENDA | B18: 0 | C18: 0 | D18: 0 | E18: 0 | F18: 0 | G18: 0 | H18: 0 | I18: 0 | J18: 0 | K18: 0 | L18: 0 | M18: 0 | N18: 0 | P18: 0
A19: (AN) ADQUISICIÓN DE VIVIENDA INVI - FIVIDESU | B19: 25.61 | C19: 22.54 | D19: 27.84 | E19: 20.09 | F19: 21.14 | G19: 255.18 | H19: 326.35 | I19: 202.85 | J19: 16.57 | K19: 69.17 | L19: 248.57 | M19: 98.12 | N19: 1334.03 | P19: 196.83
A21: FICAPRO | B21: 491.72 | C21: 232.01 | D21: 229.13 | E21: 518.87 | F21: 357.35 | G21: 380.62 | H21: 480.2 | I21: 718.11 | J21: 325.79 | K21: 525.14 | L21: 454.22 | M21: 346.45 | N21: 5059.61 | P21: -19.95
... A110: TOTAL | B110: 92440.21 | C110: 97695.68 | D110: 95188.77 | E110: 94877.06 | F110: 96392.79 | G110: 97334.57 | H110: 93567.48 | I110: 96068.26 | J110: 91840.54 | K110: 89270.51 | L110: 90514.92 | M110: 117201.7 | N110: 1152392.5 | P110: -6930.35

Sheet estimacion comisiones bancarias
A2: FIDEICOMISO DE RECUPERACION CREDITICIA DEL DISTRITO FEDERAL
A3: FIDERE III
A4: GENERADOR 2017-2022: COMISIONES
A5: GERENCIA RESPONSABLE : RECUPERACION DE CREDITO
A6: J.U.D. RESPONSABLE: REGULACIÓN Y CONTROL DE CARTERAS BANCARIAS Y SOCIALES
A7: 2017
A8: CARTERA | B8: ENE. | C8: FEB. | D8: MAR. | E8: ABR. | F8: MAY. | G8: JUN. | H8: JUL. | I8: AGO. | J8: SEP. | K8: OCT. | L8: NOV. | M8: DIC. | N8: TOTAL | O8: PROMEDIO
A9: BANCARIA | B9: 59024.728 | C9: 63314.797 | D9: 56242.616 | E9: 64805.516 | F9: 48404.303 | G9: 62029.973 | H9: 53050.499 | I9: 55492.125 | J9: 57454.505 | K9: 55790.295 | L9: 56145.268 | M9: 57594.836 | N9: 689349.46 | O9: 57445.788
A10: BANAMEX | B10: 54195.608 | C10: 57747.237 | D10: 51269.456 | E10: 59699.156 | F10: 43258.343 | G10: 57315.173 | H10: 49616.219 | I10: 50063.245 | J10: 52331.545 | K10: 50670.335 | L10: 51021.708 | M10: 51341.196 | N10: 628529.22 | O10: 52377.435
A11: BANORTE (Bancrecer) | B11: 4829.12 | C11: 5567.56 | D11: 4973.16 | E11: 5106.36 | F11: 5145.96 | G11: 4714.8 | H11: 3434.28 | I11: 5428.88 | J11: 5122.96 | K11: 5119.96 | L11: 5123.56 | M11: 6253.64 | N11: 60820.24 | O11: 5068.3533
A13: 2018
A14: CARTERA | B14: ENE. | C14: FEB. | D14: MAR. | E14: ABR. | F14: MAY. | G14: JUN. | H14: JUL. | I14: AGO. | J14: SEP. | K14: OCT. | L14: NOV. | M14: DIC. | N14: TOTAL | O14: PROMEDIO
A15: BANCARIA | B15: 54302.75 | C15: 58249.613 | D15: 51743.207 | E15: 59621.075 | F15: 44531.958 | G15: 57067.575 | H15: 48806.459 | I15: 51052.755 | J15: 52858.145 | K15: 51327.071 | L15: 51653.647 | M15: 52987.249 | N15: 634201.5 | O15: 52850.125
A16: BANAMEX | B16: 49859.959 | C16: 53127.458 | D16: 47167.899 | E16: 54923.223 | F16: 39797.675 | G16: 52729.959 | H16: 45646.921 | I16: 46058.185 | J16: 48145.022 | K16: 46616.708 | L16: 46939.972 | M16: 47233.9 | N16: 578246.88 | O16: 48187.24
A17: BANORTE (Bancrecer) | B17: 4442.7904 | C17: 5122.1552 | D17: 4575.3072 | E17: 4697.8512 | F17: 4734.2832 | G17: 4337.616 | H17: 3159.5376 | I17: 4994.5696 | J17: 4713.1232 | K17: 4710.3632 | L17: 4713.6752 | M17: 5753.3488 | N17: 55954.621 | O17: 4662.8851
A19: 2019
A20: CARTERA | B20: ENE. | C20: FEB. | D20: MAR. | E20: ABR. | F20: MAY. | G20: JUN. | H20: JUL. | I20: AGO. | J20: SEP. | K20: OCT. | L20: NOV. | M20: DIC. | N20: TOTAL | O20: PROMEDIO
A21: BANCARIA | B21: 51587.612 | C21: 55337.132 | D21: 49156.046 | E21: 56640.021 | F21: 42305.361 | G21: 54214.196 | H21: 46366.136 | I21: 48500.117 | J21: 50215.238 | K21: 48760.717 | L21: 49070.964 | M21: 50337.886 | N21: 602491.43 | O21: 50207.619
A22: BANAMEX | B22: 47366.961 | C22: 50471.085 | D22: 44809.504 | E22: 52177.062 | F22: 37807.792 | G22: 50093.461 | H22: 43364.575 | I22: 43755.276 | J22: 45737.771 | K22: 44285.872 | L22: 44592.973 | M22: 44872.205 | N22: 549334.54 | O22: 45777.878
A23: BANORTE (Bancrecer) | B23: 4220.6509 | C23: 4866.0474 | D23: 4346.5418 | E23: 4462.9586 | F23: 4497.569 | G23: 4120.7352 | H23: 3001.5607 | I23: 4744.8411 | J23: 4477.467 | K23: 4474.845 | L23: 4477.9914 | M23: 5465.6814 | N23: 53156.89 | O23: 4429.7408
A25: 2020
A26: CARTERA | B26: ENE. | C26: FEB. | D26: MAR. | E26: ABR. | F26: MAY. | G26: JUN. | H26: JUL. | I26: AGO. | J26: SEP. | K26: OCT. | L26: NOV. | M26: DIC. | N26: TOTAL | O26: PROMEDIO
A27: BANCARIA | B27: 49524.108 | C27: 53123.647 | D27: 47189.804 | E27: 54374.42 | F27: 40613.146 | G27: 52045.628 | H27: 44511.49 | I27: 46560.112 | J27: 48206.628 | K27: 46810.289 | L27: 47108.126 | M27: 48324.371 | N27: 578391.77 | O27: 48199.314
A28: BANAMEX | B28: 45472.283 | C28: 48452.242 | D28: 43017.124 | E28: 50089.98 | F28: 36295.48 | G28: 48089.723 | H28: 41629.992 | I28: 42005.065 | J28: 43908.26 | K28: 42514.437 | L28: 42809.254 | M28: 43077.317 | N28: 527361.16 | O28: 43946.763
A29: BANORTE (Bancrecer) | B29: 4051.8248 | C29: 4671.4055 | D29: 4172.6802 | E29: 4284.4403 | F29: 4317.6663 | G29: 3955.9058 | H29: 2881.4983 | I29: 4555.0475 | J29: 4298.3684 | K29: 4295.8512 | L29: 4298.8718 | M29: 5247.0541 | N29: 51030.614 | O29: 4252.5512
A31: 2021
A32: CARTERA | B32: ENE. | C32: FEB. | D32: MAR. | E32: ABR. | F32: MAY. | G32: JUN. | H32: JUL. | I32: AGO. | J32: SEP. | K32: OCT. | L32: NOV. | M32: DIC. | N32: TOTAL | O32: PROMEDIO
A33: BANCARIA | B33: 48038.384 | C33: 51529.938 | D33: 45774.11 | E33: 52743.187 | F33: 39394.752 | G33: 50484.26 | H33: 43176.146 | I33: 45163.309 | J33: 46760.429 | K33: 45405.98 | L33: 45694.882 | M33: 46874.64 | N33: 561040.02 | O33: 46753.335
A34: BANAMEX | B34: 44108.114 | C34: 46998.674 | D34: 41726.611 | E34: 48587.28 | F34: 35206.615 | G34: 46647.031 | H34: 40381.092 | I34: 40744.913 | J34: 42591.012 | K34: 41239.004 | L34: 41524.976 | M34: 41784.997 | N34: 511540.32 | O34: 42628.36
A35: BANORTE (Bancrecer) | B35: 3930.2701 | C35: 4531.2634 | D35: 4047.4998 | E35: 4155.9071 | F35: 4188.1363 | G35: 3837.2286 | H35: 2795.0533 | I35: 4418.3961 | J35: 4169.4173 | K35: 4166.9757 | L35: 4169.9056 | M35: 5089.6425 | N35: 49499.696 | O35: 4124.9746
A37: 2022
A38: CARTERA | B38: ENE. | C38: FEB. | D38: MAR. | E38: ABR. | F38: MAY. | G38: JUN. | H38: JUL. | I38: AGO. | J38: SEP. | K38: OCT. | L38: NOV. | M38: DIC. | N38: TOTAL | O38: PROMEDIO
A39: BANCARIA | B39: 47077.617 | C39: 50499.339 | D39: 44858.628 | E39: 51688.324 | F39: 38606.857 | G39: 49474.574 | H39: 42312.623 | I39: 44260.043 | J39: 45825.221 | K39: 44497.86 | L39: 44780.984 | M39: 45937.147 | N39: 549819.22 | O39: 45818.268
A40: BANAMEX | B40: 43225.952 | C40: 46058.701 | D40: 40892.078 | E40: 47615.535 | F40: 34502.483 | G40: 45714.09 | H40: 39573.47 | I40: 39930.015 | J40: 41739.192 | K40: 40414.224 | L40: 40694.477 | M40: 40949.297 | N40: 501309.51 | O40: 41775.793
A41: BANORTE (Bancrecer) | B41: 3851.6647 | C41: 4440.6381 | D41: 3966.5498 | E41: 4072.7889 | F41: 4104.3736 | G41: 3760.484 | H41: 2739.1523 | I41: 4330.0281 | J41: 4086.029 | K41: 4083.6362 | L41: 4086.5075 | M41: 4987.8496 | N41: 48509.702 | O41: 4042.4752

Sheet COMPARATIVOS
A1: FIDEICOMISO DE RECUPERACIÓN CREDITICIA DEL DISTRITO FEDERAL FIDERE III
A2: COMPARATIVO DE PROGRAMACIONES 2016-2017
A3: (ACREDITADOS)
A5: CARTERA | B5: P O A | N5: TOTAL
B6: 2 0 1 6
B7: ENERO | C7: FEBRERO | D7: MARZO | E7: ABRIL | F7: MAYO | G7: JUNIO | H7: JULIO | I7: AGOSTO | J7: SEPTIEMBRE | K7: OCTUBRE | L7: NOVIEMBRE | M7: DICIEMBRE
A8: BANCARIA | B8: =+B9+B10 -> 2849.09 | C8: =+C9+C10 -> 3196.61 | D8: =+D9+D10 -> 2677.56 | E8: =+E9+E10 -> 2594.44 | F8: =+F9+F10 -> 2631.07 | G8: =+G9+G10 -> 2833.65 | H8: =+H9+H10 -> 3571.01 | I8: =+I9+I10 -> 3140.15 | ... M8: =+M9+M10 -> 2873.59 | N8: =SUM(B8:M8) -> 36462.81 | P8: POA 2016 | Q8: =+N18 -> 1159322.8
A9: (15) BANAMEX | B9: =+'[1]POA 2016 (montos)'!B9 -> 2598.2 | C9: =+'[1]POA 2016 (montos)'!C9 -> 2854.21 | D9: =+'[1]POA 2016 (montos)'!D9 -> 2384.37 | E9: =+'[1]POA 2016 (montos)'!E9 -> 2418.01 | F9: =+'[1]POA 2016 (montos)'!F9 -> 2419.78 | G9: =+'[1]POA 2016 (montos)'!G9 -> 2416.59 | H9: =+'[1]POA 2016 (montos)'!H9 -> 3166.89 | I9: =+'[1]POA 2016 (montos)'!I9 -> 2751.62 | ... M9: =+'[1]POA 2016 (montos)'!M9 -> 2504.48 | N9: =SUM(B9:M9) -> 32678.34 | P9: REPROGRAMACION 2016 | Q9: =+N33 -> #REF!
A10: (13) BANORTE (BANCRECER) | B10: =+'[1]POA 2016 (montos)'!B10 -> 250.89 | C10: =+'[1]POA 2016 (montos)'!C10 -> 342.4 | D10: =+'[1]POA 2016 (montos)'!D10 -> 293.19 | E10: =+'[1]POA 2016 (montos)'!E10 -> 176.43 | F10: =+'[1]POA 2016 (montos)'!F10 -> 211.29 | G10: =+'[1]POA 2016 (montos)'!G10 -> 417.06 | H10: =+'[1]POA 2016 (montos)'!H10 -> 404.12 | I10: =+'[1]POA 2016 (montos)'!I10 -> 388.53 | ... M10: =+'[1]POA 2016 (montos)'!M10 -> 369.11 | N10: =SUM(B10:M10) -> 3784.47 | P10: VARIACION % REP. 2016 | Q10: =+Q8/Q9*1-1 -> #REF!
A11: GUBERNAMENTAL | B11: =+B12+B13 -> 96948.04 | C11: =+C12+C13 -> 90136.83 | D11: =+D12+D13 -> 100805.17 | E11: =+E12+E13 -> 88270.61 | F11: =+F12+F13 -> 88027.4 | G11: =+G12+G13 -> 97600.47 | H11: =+H12+H13 -> 95679.37 | I11: =+I12+I13 -> 86633.09 | ... M11: =+M12+M13 -> 120894.11 | N11: =SUM(B11:M11) -> 1122415.5
A12: FIVIDESU Y FICAPRO | B12: =+'[1]POA 2016 (montos)'!B13+'[1]POA 2016 (montos)'!B21 -> 2467.83 | C12: =+'[1]POA 2016 (montos)'!C13+'[1]POA 2016 (montos)'!C21 -> 2749.27 | D12: =+'[1]POA 2016 (montos)'!D13+'[1]POA 2016 (montos)'!D21 -> 2858.19 | E12: =+'[1]POA 2016 (montos)'!E13+'[1]POA 2016 (montos)'!E21 -> 1865.15 | F12: =+'[1]POA 2016 (montos)'!F13+'[1]POA 2016 (montos)'!F21 -> 1548.81 | G12: =+'[1]POA 2016 (montos)'!G13+'[1]POA 2016 (montos)'!G21 -> 1747.19 | H12: =+'[1]POA 2016 (montos)'!H13+'[1]POA 2016 (montos)'!H21 -> 1447.04 | I12: =+'[1]POA 2016 (montos)'!I13+'[1]POA 2016 (montos)'!I21 -> 1509.84 | ... M12: =+'[1]POA 2016 (montos)'!M13+'[1]POA 2016 (montos)'!M21 -> 2790.09 | N12: =SUM(B12:M12) -> 24322.1
A13: INVI | B13: =+B14+B15 -> 94480.21 | C13: =+C14+C15 -> 87387.56 | D13: =+D14+D15 -> 97946.98 | E13: =+E14+E15 -> 86405.46 | F13: =+F14+F15 -> 86478.59 | G13: =+G14+G15 -> 95853.28 | H13: =+H14+H15 -> 94232.33 | I13: =+I14+I15 -> 85123.25 | ... M13: =+M14+M15 -> 118104.02 | N13: =SUM(B13:M13) -> 1098093.4 | P13: POA 2016 | Q13: =+N18 -> 1159322.8
A14: MEJORAMIENTO DE VIVIENDA | B14: =+'[1]POA 2016 (montos)'!$B45+'[1]POA 2016 (montos)'!B71 -> 48765.38 | C14: =+'[1]POA 2016 (montos)'!$B45+'[1]POA 2016 (montos)'!C71 -> 46395.06 | D14: =+'[1]POA 2016 (montos)'!$B45+'[1]POA 2016 (montos)'!D71 -> 51990.8 | E14: =+'[1]POA 2016 (montos)'!$B45+'[1]POA 2016 (montos)'!E71 -> 45469.84 | F14: =+'[1]POA 2016 (montos)'!$B45+'[1]POA 2016 (montos)'!F71 -> 45042.76 | G14: =+'[1]POA 2016 (montos)'!$B45+'[1]POA 2016 (montos)'!G71 -> 49202.82 | H14: =+'[1]POA 2016 (montos)'!$B45+'[1]POA 2016 (montos)'!H71 -> 49292.04 | I14: =+'[1]POA 2016 (montos)'!$B45+'[1]POA 2016 (montos)'!I71 -> 45440.47 | ... M14: =+'[1]POA 2016 (montos)'!$B45+'[1]POA 2016 (montos)'!M71 -> 61383.84 | N14: =SUM(B14:M14) -> 580861.25 | P14: POA 2017 | Q14: =+N48 -> 1152392.5
A15: VIVIENDA EN CONJUNTO | B15: =+'[1]POA 2016 (montos)'!B36-B14 -> 45714.83 | C15: =+'[1]POA 2016 (montos)'!C36-C14 -> 40992.5 | D15: =+'[1]POA 2016 (montos)'!D36-D14 -> 45956.18 | E15: =+'[1]POA 2016 (montos)'!E36-E14 -> 40935.62 | F15: =+'[1]POA 2016 (montos)'!F36-F14 -> 41435.83 | G15: =+'[1]POA 2016 (montos)'!G36-G14 -> 46650.46 | H15: =+'[1]POA 2016 (montos)'!H36-H14 -> 44940.29 | I15: =+'[1]POA 2016 (montos)'!I36-I14 -> 39682.78 | ... M15: =+'[1]POA 2016 (montos)'!M36-M14 -> 56720.18 | N15: =SUM(B15:M15) -> 517232.12 | P15: VARIACION % POA 2017 | Q15: =+Q13/Q14*1-1 -> 0.0060138799
A16: PROPIA | B16: =+'[1]POA 2016 (montos)'!B86 -> 18.61 | C16: =+'[1]POA 2016 (montos)'!C86 -> 17.41 | D16: =+'[1]POA 2016 (montos)'!D86 -> 21.12 | E16: =+'[1]POA 2016 (montos)'!E86 -> 22.37 | F16: =+'[1]POA 2016 (montos)'!F86 -> 17.63 | G16: =+'[1]POA 2016 (montos)'!G86 -> 21.66 | H16: =+'[1]POA 2016 (montos)'!H86 -> 18.93 | I16: =+'[1]POA 2016 (montos)'!I86 -> 20.7 | ... M16: =+'[1]POA 2016 (montos)'!M86 -> 18.23 | N16: =SUM(B16:M16) -> 230.85
A17: SOCIAL | B17: =+'[1]POA 2016 (montos)'!B96 -> 16.66 | C17: =+'[1]POA 2016 (montos)'!C96 -> 16.66 | D17: =+'[1]POA 2016 (montos)'!D96 -> 16.66 | E17: =+'[1]POA 2016 (montos)'!E96 -> 16.66 | F17: =+'[1]POA 2016 (montos)'!F96 -> 16.67 | G17: =+'[1]POA 2016 (montos)'!G96 -> 30.38 | H17: =+'[1]POA 2016 (montos)'!H96 -> 16.67 | I17: =+'[1]POA 2016 (montos)'!I96 -> 16.67 | ... M17: =+'[1]POA 2016 (montos)'!M96 -> 16.67 | N17: =SUM(B17:M17) -> 213.71
A18: TOTAL | B18: =+B8+B11+B16+B17 -> 99832.4 | C18: =+C8+C11+C16+C17 -> 93367.51 | D18: =+D8+D11+D16+D17 -> 103520.51 | E18: =+E8+E11+E16+E17 -> 90904.08 | F18: =+F8+F11+F16+F17 -> 90692.77 | G18: =+G8+G11+G16+G17 -> 100486.16 | H18: =+H8+H11+H16+H17 -> 99285.98 | I18: =+I8+I11+I16+I17 -> 89810.61 | ... M18: =+M8+M11+M16+M17 -> 123802.6 | N18: =SUM(B18:M18) -> 1159322.8
A20: CARTERA | B20: REPROGRAMACIÓN 2016 | N20: TOTAL
B21: REAL | I21: REPROGRAMADO
B22: ENERO | C22: FEBRERO | D22: MARZO | E22: ABRIL | F22: MAYO | G22: JUNIO | H22: JULIO | I22: AGOSTO | J22: SEPTIEMBRE | K22: OCTUBRE | L22: NOVIEMBRE | M22: DICIEMBRE
A23: BANCARIA | B23: =+B24+B25 -> #REF! | C23: =+C24+C25 -> #REF! | D23: =+D24+D25 -> #REF! | E23: =+E24+E25 -> #REF! | F23: =+F24+F25 -> #REF! | G23: =+G24+G25 -> #REF! | H23: =+H24+H25 -> #REF! | I23: =+I24+I25 -> #REF! | ... M23: =+M24+M25 -> #REF! | N23: =SUM(B23:M23) -> #REF! | P23: =+P9 -> REPROGRAMACION 2016 | Q23: =+N33 -> #REF!
A24: (15) BANAMEX | B24: =+#REF! -> #REF! | C24: =+#REF! -> #REF! | D24: =+#REF! -> #REF! | E24: =+#REF! -> #REF! | F24: =+#REF! -> #REF! | G24: =+#REF! -> #REF! | H24: =+#REF! -> #REF! | I24: =+#REF! -> #REF! | ... M24: =+#REF! -> #REF! | N24: =SUM(B24:M24) -> #REF! | P24: =+P8 -> POA 2016 | Q24: =+N18 -> 1159322.8
A25: (13) BANORTE (BANCRECER) | B25: =+#REF! -> #REF! | C25: =+#REF! -> #REF! | D25: =+#REF! -> #REF! | E25: =+#REF! -> #REF! | F25: =+#REF! -> #REF! | G25: =+#REF! -> #REF! | H25: =+#REF! -> #REF! | I25: =+#REF! -> #REF! | ... M25: =+#REF! -> #REF! | N25: =SUM(B25:M25) -> #REF! | P25: VARIACION % POA 2016 | Q25: =+Q23/Q24*1-1 -> #REF!
A26: GUBERNAMENTAL | B26: =+B27+B28 -> #REF! | C26: =+C27+C28 -> #REF! | D26: =+D27+D28 -> #REF! | E26: =+E27+E28 -> #REF! | F26: =+F27+F28 -> #REF! | G26: =+G27+G28 -> #REF! | H26: =+H27+H28 -> #REF! | I26: =+I27+I28 -> #REF! | ... M26: =+M27+M28 -> #REF! | N26: =SUM(B26:M26) -> #REF!
A27: FIVIDESU Y FICAPRO | B27: =+#REF!+#REF! -> #REF! | C27: =+#REF!+#REF! -> #REF! | D27: =+#REF!+#REF! -> #REF! | E27: =+#REF!+#REF! -> #REF! | F27: =+#REF!+#REF! -> #REF! | G27: =+#REF!+#REF! -> #REF! | H27: =+#REF!+#REF! -> #REF! | I27: =+#REF!+#REF! -> #REF! | ... M27: =+#REF!+#REF! -> #REF! | N27: =SUM(B27:M27) -> #REF!
A28: INVI | B28: =+B29+B30 -> #REF! | C28: =+C29+C30 -> #REF! | D28: =+D29+D30 -> #REF! | E28: =+E29+E30 -> #REF! | F28: =+F29+F30 -> #REF! | G28: =+G29+G30 -> #REF! | H28: =+H29+H30 -> #REF! | I28: =+I29+I30 -> #REF! | ... M28: =+M29+M30 -> #REF! | N28: =SUM(B28:M28) -> #REF! | P28: =+P23 -> REPROGRAMACION 2016 | Q28: =+N33 -> #REF!
A29: MEJORAMIENTO DE VIVIENDA | B29: =+#REF!+#REF! -> #REF! | C29: =+#REF!+#REF! -> #REF! | D29: =+#REF!+#REF! -> #REF! | E29: =+#REF!+#REF! -> #REF! | F29: =+#REF!+#REF! -> #REF! | G29: =+#REF!+#REF! -> #REF! | H29: =+#REF!+#REF! -> #REF! | I29: =+#REF!+#REF! -> #REF! | ... M29: =+#REF!+#REF! -> #REF! | N29: =SUM(B29:M29) -> #REF! | P29: =+P14 -> POA 2017 | Q29: =+N48 -> 1152392.5
A30: VIVIENDA EN CONJUNTO | B30: =+#REF!-COMPARATIVOS!B29 -> #REF! | C30: =+#REF!-COMPARATIVOS!C29 -> #REF! | D30: =+#REF!-COMPARATIVOS!D29 -> #REF! | E30: =+#REF!-COMPARATIVOS!E29 -> #REF! | F30: =+#REF!-COMPARATIVOS!F29 -> #REF! | G30: =+#REF!-COMPARATIVOS!G29 -> #REF! | H30: =+#REF!-COMPARATIVOS!H29 -> #REF! | I30: =+#REF!-COMPARATIVOS!I29 -> #REF! | ... M30: =+#REF!-COMPARATIVOS!M29 -> #REF! | N30: =SUM(B30:M30) -> #REF! | P30: =+P15 -> VARIACION % POA 2017 | Q30: =+Q28/Q29*1-1 -> #REF!
A31: PROPIA | B31: =+#REF! -> #REF! | C31: =+#REF! -> #REF! | D31: =+#REF! -> #REF! | E31: =+#REF! -> #REF! | F31: =+#REF! -> #REF! | G31: =+#REF! -> #REF! | H31: =+#REF! -> #REF! | I31: =+#REF! -> #REF! | ... M31: =+#REF! -> #REF! | N31: =SUM(B31:M31) -> #REF!
A32: SOCIAL | B32: =+#REF! -> #REF! | C32: =+#REF! -> #REF! | D32: =+#REF! -> #REF! | E32: =+#REF! -> #REF! | F32: =+#REF! -> #REF! | G32: =+#REF! -> #REF! | H32: =+#REF! -> #REF! | I32: =+#REF! -> #REF! | ... M32: =+#REF! -> #REF! | N32: =SUM(B32:M32) -> #REF!
A33: TOTAL | B33: =+B23+B26+B31+B32 -> #REF! | C33: =+C23+C26+C31+C32 -> #REF! | D33: =+D23+D26+D31+D32 -> #REF! | E33: =+E23+E26+E31+E32 -> #REF! | F33: =+F23+F26+F31+F32 -> #REF! | G33: =+G23+G26+G31+G32 -> #REF! | H33: =+H23+H26+H31+H32 -> #REF! | I33: =+I23+I26+I31+I32 -> #REF! | ... M33: =+M23+M26+M31+M32 -> #REF! | N33: =SUM(B33:M33) -> #REF!
A35: CARTERA | B35: P O A | N35: TOTAL
B36: 2 0 1 7
B37: ENERO | C37: FEBRERO | D37: MARZO | E37: ABRIL | F37: MAYO | G37: JUNIO | H37: JULIO | I37: AGOSTO | J37: SEPTIEMBRE | K37: OCTUBRE | L37: NOVIEMBRE | M37: DICIEMBRE
A38: BANCARIA | B38: =+B39+B40 -> 1273.67 | C38: =+C39+C40 -> 1452.21 | D38: =+D39+D40 -> 1250.03 | E38: =+E39+E40 -> 1187.48 | F38: =+F39+F40 -> 1281 | G38: =+G39+G40 -> 2142.06 | H38: =+H39+H40 -> 959.3 | I38: =+I39+I40 -> 1272.1 | ... M38: =+M39+M40 -> 1613.92 | N38: =SUM(B38:M38) -> 17350.67 | P38: POA 2017 | Q38: =+N48 -> 1152392.5
A39: (15) BANAMEX | B39: =+'POA 2017 (montos)'!B9 -> 1106.47 | C39: =+'POA 2017 (montos)'!C9 -> 1278.32 | D39: =+'POA 2017 (montos)'!D9 -> 1076.14 | E39: =+'POA 2017 (montos)'!E9 -> 1013.59 | F39: =+'POA 2017 (montos)'!F9 -> 1107.11 | G39: =+'POA 2017 (montos)'!G9 -> 1968.17 | H39: =+'POA 2017 (montos)'!H9 -> 785.41 | I39: =+'POA 2017 (montos)'!I9 -> 1098.21 | ... M39: =+'POA 2017 (montos)'!M9 -> 1440.03 | N39: =SUM(B39:M39) -> 15270.68 | P39: REPROGRAMACION 2016 | Q39: =+N33 -> #REF!
A40: (13) BANORTE (BANCRECER) | B40: =+'POA 2017 (montos)'!B10 -> 167.2 | C40: =+'POA 2017 (montos)'!C10 -> 173.89 | D40: =+'POA 2017 (montos)'!D10 -> 173.89 | E40: =+'POA 2017 (montos)'!E10 -> 173.89 | F40: =+'POA 2017 (montos)'!F10 -> 173.89 | G40: =+'POA 2017 (montos)'!G10 -> 173.89 | H40: =+'POA 2017 (montos)'!H10 -> 173.89 | I40: =+'POA 2017 (montos)'!I10 -> 173.89 | ... M40: =+'POA 2017 (montos)'!M10 -> 173.89 | N40: =SUM(B40:M40) -> 2079.99 | P40: VARIACION % REP. 2016 | Q40: =+Q38/Q39*1-1 -> #REF!
A41: GUBERNAMENTAL | B41: =+B42+B43 -> 91128.97 | C41: =+C42+C43 -> 96204.13 | D41: =+D42+D43 -> 93918.03 | E41: =+E42+E43 -> 93647.89 | F41: =+F42+F43 -> 95090.15 | G41: =+G42+G43 -> 95150.26 | H41: =+H42+H43 -> 92591.28 | I41: =+I42+I43 -> 94721.33 | ... M41: =+M42+M43 -> 115552.2 | N41: =SUM(B41:M41) -> 1134565.8
A42: FIVIDESU Y FICAPRO | B42: =+'POA 2017 (montos)'!B13+'POA 2017 (montos)'!B21 -> 1618.82 | C42: =+'POA 2017 (montos)'!C13+'POA 2017 (montos)'!C21 -> 1354.68 | D42: =+'POA 2017 (montos)'!D13+'POA 2017 (montos)'!D21 -> 1181.65 | E42: =+'POA 2017 (montos)'!E13+'POA 2017 (montos)'!E21 -> 1558.25 | F42: =+'POA 2017 (montos)'!F13+'POA 2017 (montos)'!F21 -> 1218.08 | G42: =+'POA 2017 (montos)'!G13+'POA 2017 (montos)'!G21 -> 1946.1 | H42: =+'POA 2017 (montos)'!H13+'POA 2017 (montos)'!H21 -> 2024.55 | I42: =+'POA 2017 (montos)'!I13+'POA 2017 (montos)'!I21 -> 2176.63 | ... M42: =+'POA 2017 (montos)'!M13+'POA 2017 (montos)'!M21 -> 2842.33 | N42: =SUM(B42:M42) -> 21042.72
A43: INVI | B43: =+B44+B45 -> 89510.15 | C43: =+C44+C45 -> 94849.45 | D43: =+D44+D45 -> 92736.38 | E43: =+E44+E45 -> 92089.64 | F43: =+F44+F45 -> 93872.07 | G43: =+G44+G45 -> 93204.16 | H43: =+H44+H45 -> 90566.73 | I43: =+I44+I45 -> 92544.7 | ... M43: =+M44+M45 -> 112709.87 | N43: =SUM(B43:M43) -> 1113523.1 | P43: POA 2017 | Q43: =+N48 -> 1152392.5
A44: MEJORAMIENTO DE VIVIENDA | B44: =+'POA 2017 (montos)'!B45+'POA 2017 (montos)'!B71 -> 43789.94 | C44: =+'POA 2017 (montos)'!C45+'POA 2017 (montos)'!C71 -> 49528.79 | D44: =+'POA 2017 (montos)'!D45+'POA 2017 (montos)'!D71 -> 46560.71 | E44: =+'POA 2017 (montos)'!E45+'POA 2017 (montos)'!E71 -> 45395.84 | F44: =+'POA 2017 (montos)'!F45+'POA 2017 (montos)'!F71 -> 48200.22 | G44: =+'POA 2017 (montos)'!G45+'POA 2017 (montos)'!G71 -> 46367.58 | H44: =+'POA 2017 (montos)'!H45+'POA 2017 (montos)'!H71 -> 46225.26 | I44: =+'POA 2017 (montos)'!I45+'POA 2017 (montos)'!I71 -> 47750.23 | ... M44: =+'POA 2017 (montos)'!M45+'POA 2017 (montos)'!M71 -> 58865.06 | N44: =SUM(B44:M44) -> 569361.49 | P44: POA 2016 | Q44: =+N18 -> 1159322.8
A45: VIVIENDA EN CONJUNTO | B45: =+'POA 2017 (montos)'!B36-COMPARATIVOS!B44 -> 45720.21 | C45: =+'POA 2017 (montos)'!C36-COMPARATIVOS!C44 -> 45320.66 | D45: =+'POA 2017 (montos)'!D36-COMPARATIVOS!D44 -> 46175.67 | E45: =+'POA 2017 (montos)'!E36-COMPARATIVOS!E44 -> 46693.8 | F45: =+'POA 2017 (montos)'!F36-COMPARATIVOS!F44 -> 45671.85 | G45: =+'POA 2017 (montos)'!G36-COMPARATIVOS!G44 -> 46836.58 | H45: =+'POA 2017 (montos)'!H36-COMPARATIVOS!H44 -> 44341.47 | I45: =+'POA 2017 (montos)'!I36-COMPARATIVOS!I44 -> 44794.47 | ... M45: =+'POA 2017 (montos)'!M36-COMPARATIVOS!M44 -> 53844.81 | N45: =SUM(B45:M45) -> 544161.6 | P45: VARIACION % POA 2016 | Q45: =+Q43/Q44*1-1 -> -0.0059779293
A46: PROPIA | B46: =+'POA 2017 (montos)'!B86 -> 23.42 | C46: =+'POA 2017 (montos)'!C86 -> 8.66 | D46: =+'POA 2017 (montos)'!D86 -> 10.37 | E46: =+'POA 2017 (montos)'!E86 -> 23.9 | F46: =+'POA 2017 (montos)'!F86 -> 18.86 | G46: =+'POA 2017 (montos)'!G86 -> 19.88 | H46: =+'POA 2017 (montos)'!H86 -> 14.83 | I46: =+'POA 2017 (montos)'!I86 -> 25.57 | ... M46: =+'POA 2017 (montos)'!M86 -> 26.13 | N46: =SUM(B46:M46) -> 211.89
A47: SOCIAL | B47: =+'POA 2017 (montos)'!B96 -> 14.15 | C47: =+'POA 2017 (montos)'!C96 -> 30.68 | D47: =+'POA 2017 (montos)'!D96 -> 10.34 | E47: =+'POA 2017 (montos)'!E96 -> 17.79 | F47: =+'POA 2017 (montos)'!F96 -> 2.78 | G47: =+'POA 2017 (montos)'!G96 -> 22.37 | H47: =+'POA 2017 (montos)'!H96 -> 2.07 | I47: =+'POA 2017 (montos)'!I96 -> 49.26 | ... M47: =+'POA 2017 (montos)'!M96 -> 9.45 | N47: =SUM(B47:M47) -> 264.12
A48: TOTAL | B48: =+B38+B41+B46+B47 -> 92440.21 | C48: =+C38+C41+C46+C47 -> 97695.68 | D48: =+D38+D41+D46+D47 -> 95188.77 | E48: =+E38+E41+E46+E47 -> 94877.06 | F48: =+F38+F41+F46+F47 -> 96392.79 | G48: =+G38+G41+G46+G47 -> 97334.57 | H48: =+H38+H41+H46+H47 -> 93567.48 | I48: =+I38+I41+I46+I47 -> 96068.26 | ... M48: =+M38+M41+M46+M47 -> 117201.7 | N48: =SUM(B48:M48) -> 1152392.5
