Workbook

Sheet SPF-A01
H3: Informe Analítico de Ingresos Totales 2017
H4: Entidad: 09PFRC FIDEICOMISO DE RECUPERACIÓN CREDITICIA DE LA CIUDAD DE MÉXICO (FIDERE)
H5: Programa vs Recaudación
H6: (Pesos)
U7: SPF-A01
A9: Enero | H9: Mes que se reporta: | J9: Anual | N9: Mensual | S9: Acumulado en el periodo
A10: Febrero | H10: Junio
A11: Marzo | H11: Concepto | J11: =+K11-1 -> 2016 | K11: 2017 | N11: =+J11 -> 2016 | O11: =+K11 -> 2017 | S11: =+N11 -> 2016 | T11: =+O11 -> 2017
A12: Abril | J12: Obtenido | K12: Programa Original | L12: Programa Modificado | N12: Obtenido | O12: Programado | Q12: Obtenido | S12: Obtenido | T12: Programado | V12: Obtenido
A13: Mayo | O13: Original | P13: Modificado | Q13: Importe | T13: Original | U13: Modificado
A14: Junio
A15: Julio
A16: Agosto | H16: Total de Ingresos | J16: =+J18+J53 -> 86978551 | K16: =+K18+K53 -> 88806148 | L16: =+L18+L53 -> 89919148 | N16: =+N18+N53 -> 6926007 | O16: =+O18+O53 -> 7758845 | P16: =+P18+P53 -> 7758845 | Q16: =+Q18+Q53 -> 6896155.9 | S16: =+S18+S53 -> 39744292 | T16: =+T18+T53 -> 42405193 | U16: =+U18+U53 -> 43518193 | V16: =+V18+V53 -> 40907791
A17: Septiembre
A18: Octubre | H18: Ingresos Ordinarios | J18: =+J20+J43+J50 -> 86978551 | K18: =+K20+K43+K50 -> 88806148 | L18: =+L20+L43+L50 -> 89919148 | N18: =+N20+N43+N50 -> 6926007 | O18: =+O20+O43+O50 -> 7758845 | P18: =+P20+P43+P50 -> 7758845 | Q18: =+Q20+Q43+Q50 -> 6896155.9 | S18: =+S20+S43+S50 -> 39744292 | T18: =+T20+T43+T50 -> 42405193 | U18: =+U20+U43+U50 -> 43518193 | V18: =+V20+V43+V50 -> 40907791
A19: Noviembre
A20: Diciembre | H20: Ingresos Propios | J20: =SUM(J21,J23,J29,J32,J35) -> 58902094 | K20: =SUM(K21,K23,K29,K32,K35) -> 61911092 | L20: =SUM(L21,L23,L29,L32,L35) -> 63024092 | N20: =SUM(N21,N23,N29,N32,N35) -> 4646329 | O20: =SUM(O21,O23,O29,O32,O35) -> 5586567 | P20: =SUM(P21,P23,P29,P32,P35) -> 5586567 | Q20: =SUM(Q21,Q23,Q29,Q32,Q35) -> 4723877.9 | S20: =SUM(S21,S23,S29,S32,S35) -> 28345902 | T20: =SUM(T21,T23,T29,T32,T35) -> 31543803 | U20: =SUM(U21,U23,U29,U32,U35) -> 32656803 | V20: =SUM(V21,V23,V29,V32,V35) -> 30046401 | W20: =SUM(W21,W23,W29,W32,W35)+W39 -> -2610402.4 | X20: =SUM(X21,X23,X29,X32,X35)+X39 -> 0 | Y20: =SUM(Y21,Y23,Y29,Y32,Y35)+Y39 -> 1700498.1
H21: Venta de Bienes
H23: Venta de Servicios | J23: =SUM(J24:J27) -> 55054839 | K23: =SUM(K24:K27) -> 59655007 | L23: =SUM(L24:L27) -> 59655007 | M23: =SUM(M24:M27) -> 0 | N23: =SUM(N24:N27) -> 4430124.7 | O23: =SUM(O24:O27) -> 5396199 | P23: =SUM(P24:P27) -> 5396199 | Q23: =SUM(Q24:Q27) -> 4299190.3 | ... Y23: =SUM(Y24:Y27) -> 583072.72
H24: Comisiones Cobradas | J24: 42187440 | K24: 43068317 | L24: 43068317 | N24: 3707790 | O24: 3608750 | P24: 3608750 | Q24: 3522579.5 | S24: =17906004.07+N24 -> 21613794 | T24: =18732340+O24 -> 22341090 | U24: =18732340+P24 -> 22341090 | V24: =18287505.95+Q24 -> 21810085 | W24: =+V24-U24 -> -531004.6 | Y24: =+V24-S24 -> 196291.35
H25: Cuotas de Cobranza | J25: 2770598.7 | K25: 3489970 | L25: 3489970 | N25: 239842.63 | O25: 100329 | P25: 100329 | Q25: 228691.14 | S25: =1257301.57+N25 -> 1497144.2 | T25: =1447458+O25 -> 1547787 | U25: =1447458+P25 -> 1547787 | V25: =1614808.77+Q25 -> 1843499.9 | W25: =+V25-U25 -> 295712.91 | Y25: =+V25-S25 -> 346355.71
H26: Otros Ingresos | J26: 5967080.2 | K26: 5914000 | L26: 5914000 | N26: 482492.13 | O26: 490000 | P26: 490000 | Q26: 547919.67 | S26: =2448878.68+N26 -> 2931370.8 | T26: =2450000+O26 -> 2940000 | U26: =2450000+P26 -> 2940000 | V26: =2423876.8+Q26 -> 2971796.5 | W26: =+V26-U26 -> 31796.47 | Y26: =+V26-S26 -> 40425.66
H27: Créditos Fiscales | J27: 4129720 | K27: 7182720 | L27: 7182720 | N27: 0 | O27: 1197120 | P27: 1197120 | Q27: 0 | S27: 0 | T27: =2394240+O27 -> 3591360 | U27: =2394240+P27 -> 3591360 | V27: 0 | W27: =+V27-U27 -> -3591360 | Y27: =+V27-S27 -> 0
W28: =+V28-U28 -> 0 | Y28: =+V28-S28 -> 0
H29: Venta de Inversiones | J29: =+J30 -> 2449749 | K29: =+K30 -> 2132485 | L29: =+L30 -> 2132485 | M29: =+M30 -> 0 | N29: =+N30 -> 200251.37 | O29: =+O30 -> 180068 | P29: =+P30 -> 180068 | Q29: =+Q30 -> 406985.57 | ... Y29: =+Y30 -> 1176144.6
H30: Intereses Cobrados | J30: 2449749 | K30: 2132485 | L30: 2132485 | N30: 200251.37 | O30: 180068 | P30: 180068 | Q30: 406985.57 | S30: =812471.88+N30 -> 1012723.2 | T30: =881698+O30 -> 1061766 | U30: =881698+P30 -> 1061766 | V30: =1781882.26+Q30 -> 2188867.8 | W30: =+V30-U30 -> 1127101.8 | Y30: =+V30-S30 -> 1176144.6
W31: =+V31-U31 -> 0 | Y31: =+V31-S31 -> 0
H32: Ingresos Diversos | J32: =+J33+J39 -> 1397505.7 | K32: =+K33+K39 -> 123600 | L32: =+L33+L39 -> 1236600 | M32: =+M33 -> 0 | N32: =+N33+N39 -> 15952.85 | O32: =+O33+O39 -> 10300 | P32: =+P33+P39 -> 10300 | Q32: =+Q33+Q39 -> 17702.06 | R32: =+R33 -> 0 | S32: =+S33+S39 -> 1290870.2 | T32: =+T33+T39 -> 61800 | U32: =+U33+U39 -> 1174800 | V32: =+V33+V39 -> 1232151 | W32: =+W33 -> 57350.98 | X32: =+X33 -> 0 | Y32: =+Y33 -> -18719.21
H33: Recuperación de Carteras Propias. | J33: 244505.67 | K33: 123600 | L33: 123600 | N33: 15952.85 | O33: 10300 | P33: 10300 | Q33: 17702.06 | S33: =121917.34+N33 -> 137870.19 | T33: =51500+O33 -> 61800 | U33: =51500+P33 -> 61800 | V33: =101448.92+Q33 -> 119150.98 | W33: =+V33-U33 -> 57350.98 | Y33: =+V33-S33 -> -18719.21
W34: =+V34-U34 -> 0 | Y34: =+V34-S34 -> 0
H35: Operaciones Ajenas (netas) | J35: =SUM(J36:J37) -> 0 | K35: =SUM(K36:K37) -> 0 | L35: =SUM(L36:L37) -> 0 | N35: =SUM(N36:N37) -> 0 | O35: =SUM(O36:O37) -> 0 | P35: =SUM(P36:P37) -> 0 | Q35: =SUM(Q36:Q37) -> 0 | S35: =SUM(S36:S37) -> 0 | T35: =SUM(T36:T37) -> 0 | U35: =SUM(U36:U37) -> 0 | V35: =SUM(V36:V37) -> 0 | W35: =+V35-U35 -> 0 | Y35: =+V35-S35 -> 0
H36: Por cuenta de terceros | W36: =+V36-U36 -> 0 | Y36: =+V36-S36 -> 0
H37: Por erogaciones recuperables | W37: =+V37-U37 -> 0 | Y37: =+V37-S37 -> 0
W38: =+V38-U38 -> 0 | Y38: =+V38-S38 -> 0
H39: Remanente de Ejercicios Anteriores | J39: =SUM(J40:J41) -> 1153000 | K39: =SUM(K40:K41) -> 0 | L39: =SUM(L40:L41) -> 1113000 | N39: =SUM(N40:N41) -> 0 | O39: =SUM(O40:O41) -> 0 | P39: =SUM(P40:P41) -> 0 | Q39: =SUM(Q40:Q41) -> 0 | S39: =SUM(S40:S41) -> 1153000 | T39: =SUM(T40:T41) -> 0 | U39: =SUM(U40:U41) -> 1113000 | V39: =SUM(V40:V41) -> 1113000 | W39: =SUM(W40:W41) -> 0 | X39: =SUM(X40:X41) -> 0 | Y39: =SUM(Y40:Y41) -> -40000
H40: Remanente Local | J40: 1153000 | K40: 0 | L40: 1113000 | N40: 0 | O40: 0 | P40: 0 | Q40: 0 | S40: 1153000 | T40: 0 | U40: 1113000 | V40: 1113000 | W40: =+V40-U40 -> 0 | Y40: =+V40-S40 -> -40000
H41: Remanente Federal | W41: =+V41-U41 -> 0 | Y41: =+V41-S41 -> 0
W42: =+V42-U42 -> 0 | Y42: =+V42-S42 -> 0
H43: Aportaciones del GDF | J43: =+J44+J47 -> 28076457 | K43: =+K44+K47 -> 26895056 | L43: =+L44+L47 -> 26895056 | N43: =+N44+N47 -> 2279678 | O43: =+O44+O47 -> 2172278 | P43: =+P44+P47 -> 2172278 | Q43: =+Q44+Q47 -> 2172278 | S43: =+S44+S47 -> 11398390 | T43: =+T44+T47 -> 10861390 | U43: =+U44+U47 -> 10861390 | V43: =+V44+V47 -> 10861390 | W43: =+W44+W47 -> 0 | X43: =+X44+X47 -> 0 | Y43: =+Y44+Y47 -> -537000
H44: Corrientes | J44: =+J45+J46 -> 28076457 | K44: =+K45+K46 -> 26895056 | L44: =+L45+L46 -> 26895056 | N44: =+N45+N46 -> 2279678 | O44: =+O45+O46 -> 2172278 | P44: =+P45+P46 -> 2172278 | Q44: =+Q45+Q46 -> 2172278 | S44: =+S45+S46 -> 11398390 | T44: =+T45+T46 -> 10861390 | U44: =+U45+U46 -> 10861390 | V44: =+V45+V46 -> 10861390 | W44: =+V44-U44 -> 0 | Y44: =+V44-S44 -> -537000
...

Sheet SPF-A02
B2: Informe de Aplicación de los Ingresos Propios 2017
B3: Entidad 09PFRC FIDEICOMISO DE RECUPERACIÓN CREDITICIA DE LA CIUDAD DE MÉXICO (FIDERE)
B4: Acumulado al mes de: | D4: ='SPF-A01'!H10 -> Junio
B5: (Pesos)
M6: SPF-A02
B8: Entidad | D8: Ingresos Propios | H8: Aplicación de los Ingresos Propios | M8: Variación Ingreso Real vs. Suma del Gasto
D9: Programado al mes | E9: Ingreso Real | F9: Variación | H9: Gasto Corriente | I9: % | J9: Gasto de Capital | K9: % | L9: Suma del Gasto
F10: $ | G10: % | M10: $ | N10: %
B12: 09PFRC FIDEICOMISO DE RECUPERACIÓN CREDITCIA DE LA CIUDAD DE MÉXICO FIDERE | D12: 32656803 | E12: 30046401 | F12: =+E12-D12 -> -2610402.4 | G12: =IF(D12=0,"n.a.",((E12/D12)-1)*100) -> -7.9934414 | H12: 20979258 | I12: =IF(L12=0, "n.a.",H12/L12) -> 1 | K12: =IF(L12=0,"n.a.",J12/L12) -> 0 | L12: =+H12+J12 -> 20979258 | M12: =E12-L12 -> 9067142.1 | N12: =IF(L12=0,"n.a.",((E12/L12)-1)*100) -> 43.219555
B15: firma | F15: firma | L15: firma
B16: Elaboró | F16: Revisó: | L16: Autorizó:
B17: Nombre:C.P. CECILIA MENDOZA FRIAS | F17: Nombre: LIC. ELISA LUGO IPIÑA | L17: Nombre: LIC. MARIA YSAURA MORENO ALAMINA
B18: Cargo: Subgerente de Finanzas y Control | F18: Cargo: Gerente de Administración y Finanzas | L18: Cargo: Directora General de Fidere

Sheet SPF-A03
B2: CUADRO DE EXPLICACIÓN DE LAS VARIACIONES 2017
B3: ORGANISMO O EMPRESA: 09PFRC FIDEICOMISO DE RECUPERACIÓN CREDITICIA DE LA CIUDAD DE MÉXICO (FIDERE)
B4: PROGRAMA VS RECAUDACIÓN
B5: (PESOS) | I5: SPF-A03
B7: ACUMULADO AL MES DE: | E7: ='SPF-A01'!H10 -> Junio
C9: CONCEPTO | D9: CIFRAS AL MES DE: | F9: VARIACIÓN 2017 | H9: EXPLICACIÓN A LAS VARIACIONES
D10: ='SPF-A01'!H10 -> Junio | F10: VS. | G10: ABSOLUTA
G11: REL. NOM. %
B13: INGRESOS PROPIOS | C13: VENTA DE BIENES | D13: PROG. ORIGINAL | F13: Programa | G13: =+E14-E13 -> 0
D14: OBTENIDO 2017 | G14: =IF(E13=0,"n.a.",(E14/E13-1)*100) -> n.a.
D15: OBTENIDO 2016 | F15: 2017 | G15: =+E16-E15 -> 0
D16: OBTENIDO 2017 | G16: =IF(E15=0,"n..a",(E16/E15-1)*100) -> n..a
C17: VENTA DE SERVICIOS | D17: PROG. ORIGINAL | E17: 30420237 | F17: Programa | G17: =+E18-E17 -> -3794855.2 | H17: La variación de $3,794,855.22 siendo inferior en un 12.47 % a lo programado, es derivado principalmente al adeudo de las aportaciones por las actividades del Servicio de Apoyo Legal en Materia Fiscal para la Recuperación de Créditos Fiscales de Impuestos Federales coordinados a cargo de la Subtesorería de Fiscalización.
D18: OBTENIDO 2017 | E18: 26625382 | G18: =IF(E17=0,"n.a.",(E18/E17-1)*100) -> -12.474772
D19: OBTENIDO 2016 | E19: 26042309 | F19: 2017 | G19: =+E20-E19 -> 583072.72 | H19: Se tiene una variación de $583,072.72 que representa el 2.24% , por una captación mayor de recursos en las cuotas de cobranza por nuevas altas de la cartera del Instituto de Vivienda de la Ciudad de México, generando mayores comisiones.
D20: OBTENIDO 2017 | E20: 26625382 | G20: =IF(E19=0,"n..a",(E20/E19-1)*100) -> 2.238944
C21: VENTA DE INVERSIONES | D21: PROG. ORIGINAL | E21: 1061766 | F21: Programa | G21: =+E22-E21 -> 1127101.8 | H21: Se obtuvieron mayores ingresos por $1,127,101.83 siendo el 106.15% en los intereses que dan las instituciones bancarias por la inversión sobre la recuperación de las carteras administradas, por un incremento en la tasa de inversión aunado con mayor inversión de nuestros remanentes presupuestales.
D22: OBTENIDO 2017 | E22: 2188867.8 | G22: =IF(E21=0,"n.a.",(E22/E21-1)*100) -> 106.15351
D23: OBTENIDO 2016 | E23: 1012723.2 | F23: 2017 | G23: =+E24-E23 -> 1176144.6 | H23: Se obtuvieron mayores ingresos por $1,176,144.58 siendo el 116.14% en los intereses que dan las instituciones bancarias por la inversión sobre la recuperación de las carteras administradas, por un incremento en la tasa de inversión aunado con mayor inversión de nuestros remanentes presupuestales.
D24: OBTENIDO 2017 | E24: 2188867.8 | G24: =IF(E23=0,"n..a",(E24/E23-1)*100) -> 116.13682
C25: INGRESOS DIVERSOS (INCLUYE REMANENTES) | D25: PROG. ORIGINAL | E25: 61800 | F25: Programa | G25: =+E26-E25 -> 1170351 | H25: La diferencia de $1,170,350.98 que representa el 1,893.77%, es por una mayor recuperación DE $57,350.98 de las carteras propias de Renovación Habitación Popular ( R.H.P)., Fondo de Desarrollo Económico Cartera Mypes Locales y Federales, Fondo para la Consolidación de la Micro Empresa (Focomi Mypes), Cartera FONDECO D.F. por las acciones de cobranza judicial, como recordatorios de pago, llamadas telefónicas, etc. Y al reconocimiento de nuestros remanentes presupuestales por $1,113,000.00 como apoyo a los ingresos para cubrir las necesides de operación. | J25: =119150.98-61800 -> 57350.98
D26: OBTENIDO 2017 | E26: 1232151 | G26: =IF(E25=0,"n.a.",(E26/E25-1)*100) -> 1893.7718 | J26: 1113000 | K26: =+J25+J26 -> 1170351
D27: OBTENIDO 2016 | E27: 1290870.2 | F27: 2017 | G27: =+E28-E27 -> -58719.21 | H27: La diferencia de $ 58,719.21 que representa el 4.55%, es por una menor recuperación por $18,719.21 de las carteras propias Renovación Habitación Popular( R.H.P)., Fondo de Desarrollo Económico Cartera Mypes Locales y Federales, Fondo para la Consolidación de la Micro Empresa (Focomi Mypes) , Cartera FONDECO D.F. propiedad de FIDERE, aún con las acciones de cobranza judicial, como recordatorios de pago, llamadas telefónicas, etc. y menor utilización de remannetes presupuestales por $40,000.00 | J27: =119150.98-137870.19 -> -18719.21
D28: OBTENIDO 2017 | E28: 1232151 | G28: =IF(E27=0,"n.a.",(E28/E27-1)*100) -> -4.5488083 | J28: =1113000-1153000 -> -40000 | K28: =+J27+J28 -> -58719.21
B29: APORTACIONES | C29: CORRIENTES | D29: PROG. ORIGINAL | E29: 10861390 | F29: Programa | G29: =+E30-E29 -> 0 | H29: Sin variación
D30: OBTENIDO 2017 | E30: 10861390 | G30: =IF(E29=0,"n.a.",(E30/E29-1)*100) -> 0
D31: OBTENIDO 2016 | E31: 11398390 | F31: 2017 | G31: =+E32-E31 -> -537000 | H31: Se tiene una variación de $537,000.00siendo inferior en un 4.71% al año anterior por menores recursos autorizados como apoyo a las finanzas del fideicomiso para cubrir sueldos y prestaciones por una mejor recuperación de ingresos del fideicomiso.
D32: OBTENIDO 2017 | E32: 10861390 | G32: =IF(E31=0,"n.a.",(E32/E31-1)*100) -> -4.7111917
C33: CAPITAL | D33: PROG. ORIGINAL | F33: Programa | G33: =+E34-E33 -> 0
D34: OBTENIDO 2017 | G34: =IF(E33=0,"n.a.",(E34/E33-1)*100) -> n.a.
D35: OBTENIDO 2016 | F35: 2017 | G35: =+E36-E35 -> 0
D36: OBTENIDO 2017 | G36: =IF(E35=0,"n.a.",(E36/E35-1)*100) -> n.a.
C37: NOTA: El formato es indicativo no limitativo, por lo que en caso de requerir más espacios para el detalle, la Entidad deberá elaborarlo en la misma presentación y con las mismas características.
C38: En caso de no contemplar todos los rubros señalados se pueden eliminar renglones sobrantes o inutilizarlos.

Sheet  SPF-01
E4: Ingresos Obtenidos 2017
E5: Entidad 09PFRC FIDEICOMISO DE RECUPERACIÓN CREDITICIA DE LA CIUDAD DE MÉXICO (FIDERE)
E6: Gobierno del Distrito Federal
E7: Mensual
E8: Pesos | P8: SPF-01
E11: Entidad | F11: Enero | G11: Febrero | H11: Marzo | I11: Abril | J11: Mayo | K11: Junio | L11: Julio | M11: Agosto | N11: Septiembre | O11: Octubre | P11: Noviembre | Q11: Diciembre | R11: Ene-dic
E12: Total | F12: =+F13+F50 -> 5268013.1 | G12: =+G13+G50 -> 7301153.7 | H12: =+H13+H50 -> 6824662.8 | I12: =+I13+I50 -> 6941019.4 | J12: =+J13+J50 -> 7676785.6 | K12: =+K13+K50 -> 6896155.9 | L12: =+L13+L50 -> 0 | M12: =+M13+M50 -> 0 | ... R12: =+R13+R50 -> 40907791 | S12: =+R12-'SPF-A01'!V16 -> 0
E13: Ingresos Ordinarios | F13: =+F14+F40 -> 5268013.1 | G13: =+G14+G40 -> 7301153.7 | H13: =+H14+H40 -> 6824662.8 | I13: =+I14+I40 -> 6941019.4 | J13: =+J14+J40 -> 7676785.6 | K13: =+K14+K40 -> 6896155.9 | L13: =+L14+L40 -> 0 | M13: =+M14+M40 -> 0 | ... Q13: =+Q14+Q40 -> 0 | R13: =SUM(F13:Q13) -> 40907791
E14: Ingresos Propios | F14: =F16+F18+F24+F27+F31 -> 5268013.1 | G14: =G16+G18+G24+G27+G31 -> 5128875.7 | H14: =H16+H18+H24+H27+H31 -> 4652384.8 | I14: =I16+I18+I24+I27+I31 -> 4768741.4 | J14: =J16+J18+J24+J27+J31 -> 5504507.6 | K14: =K16+K18+K24+K27+K31 -> 4723877.9 | L14: =L16+L18+L24+L27+L31 -> 0 | M14: =M16+M18+M24+M27+M31 -> 0 | ... Q14: =Q16+Q18+Q24+Q27+Q31 -> 0 | R14: =SUM(F14:Q14) -> 30046401
E16: Venta de Bienes | F16: =SUM(F17:F17) -> 0 | G16: =SUM(G17:G17) -> 0 | H16: =SUM(H17:H17) -> 0 | I16: =SUM(I17:I17) -> 0 | J16: =SUM(J17:J17) -> 0 | K16: =SUM(K17:K17) -> 0 | L16: =SUM(L17:L17) -> 0 | M16: =SUM(M17:M17) -> 0 | ... Q16: =SUM(Q17:Q17) -> 0 | R16: =SUM(F16:Q16) -> 0
E18: Venta de Servicios | F18: =SUM(F19:F22) -> 4887146 | G18: =SUM(G19:G22) -> 4798099.6 | H18: =SUM(H19:H22) -> 4265675.9 | I18: =SUM(I19:I22) -> 4408428.2 | J18: =SUM(J19:J22) -> 3966841.9 | K18: =SUM(K19:K22) -> 4299190.3 | L18: =SUM(L19:L22) -> 0 | M18: =SUM(M19:M22) -> 0 | ... Q18: =SUM(Q19:Q22) -> 0 | R18: =SUM(F18:Q18) -> 26625382
E19: Comisiones Cobradas | F19: 4017939.9 | G19: 4020145.5 | H19: 3521170.6 | I19: 3718635.8 | J19: 3009614.2 | K19: 3522579.5 | R19: =SUM(F19:Q19) -> 21810085
E20: Cuotas de Cobranza | F20: 377705.16 | G20: 285302.05 | H20: 249231.19 | I20: 189226.72 | J20: 513343.65 | K20: 228691.14 | R20: =SUM(F20:Q20) -> 1843499.9
E21: Otros Ingresos | F21: 491500.95 | G21: 492652.06 | H21: 495274.1 | I21: 500565.69 | J21: 443884 | K21: 547919.67 | R21: =SUM(F21:Q21) -> 2971796.5
E22: Créditos Fiscales | F22: 0 | G22: 0 | H22: 0 | I22: 0 | J22: 0 | K22: 0 | R22: =SUM(F22:Q22) -> 0
E24: Venta de Inversiones | F24: =SUM(F25:F26) -> 351057.38 | G24: =SUM(G25:G26) -> 322175.32 | H24: =SUM(H25:H26) -> 377370.72 | I24: =SUM(I25:I26) -> 332940.65 | J24: =SUM(J25:J26) -> 398338.19 | K24: =SUM(K25:K26) -> 406985.57 | L24: =SUM(L25:L26) -> 0 | M24: =SUM(M25:M26) -> 0 | ... Q24: =SUM(Q25:Q26) -> 0 | R24: =SUM(F24:Q24) -> 2188867.8
E25: Intereses Cobrados | F25: 351057.38 | G25: 322175.32 | H25: 377370.72 | I25: 332940.65 | J25: 398338.19 | K25: 406985.57 | R25: =SUM(F25:Q25) -> 2188867.8
E27: Ingresos Diversos | F27: =SUM(F28:F30)+F36 -> 29809.68 | G27: =SUM(G28:G30)+G36 -> 8600.83 | H27: =SUM(H28:H30)+H36 -> 9338.27 | I27: =SUM(I28:I30)+I36 -> 27372.63 | J27: =SUM(J28:J30)+J36 -> 1139327.5 | K27: =SUM(K28:K30)+K36 -> 17702.06 | L27: =SUM(L28:L30)+L36 -> 0 | M27: =SUM(M28:M30)+M36 -> 0 | ... Q27: =SUM(Q28:Q30)+Q36 -> 0 | R27: =SUM(F27:Q27) -> 1232151
E28: Recuperación de Carteras Propias. | F28: 29809.68 | G28: 8600.83 | H28: 9338.27 | I28: 27372.63 | J28: 26327.51 | K28: 17702.06 | R28: =SUM(F28:Q28) -> 119150.98
E31: Operaciones Ajenas ( Netas ) | F31: =F32+F33 -> 0 | G31: =G32+G33 -> 0 | H31: =H32+H33 -> 0 | I31: =I32+I33 -> 0 | J31: =J32+J33 -> 0 | K31: =K32+K33 -> 0 | L31: =L32+L33 -> 0 | M31: =M32+M33 -> 0 | ... Q31: =Q32+Q33 -> 0 | R31: =SUM(F31:Q31) -> 0
E32: Por cuenta de terceros
E33: Por erogaciones recuperables
E36: Remanente de ejercicios anteriores | F36: =SUM(F37:F38) -> 0 | G36: =SUM(G37:G38) -> 0 | H36: =SUM(H37:H38) -> 0 | I36: =SUM(I37:I38) -> 0 | J36: =SUM(J37:J38) -> 1113000 | K36: =SUM(K37:K38) -> 0 | L36: =SUM(L37:L38) -> 0 | M36: =SUM(M37:M38) -> 0 | ... Q36: =SUM(Q37:Q38) -> 0 | R36: =SUM(F36:Q36) -> 1113000
E37: Remanente local | J37: 1113000 | R37: =SUM(J37:Q37) -> 1113000
E38: Remanente Federal
E40: Aportaciones del GDF | F40: =F41+F44 -> 0 | G40: =G41+G44 -> 2172278 | H40: =H41+H44 -> 2172278 | I40: =I41+I44 -> 2172278 | J40: =J41+J44 -> 2172278 | K40: =K41+K44 -> 2172278 | L40: =L41+L44 -> 0 | M40: =M41+M44 -> 0 | ... Q40: =Q41+Q44 -> 0 | R40: =SUM(F40:Q40) -> 10861390
E41: Corrientes | F41: =F42+F43 -> 0 | G41: =G42+G43 -> 2172278 | H41: =H42+H43 -> 2172278 | I41: =I42+I43 -> 2172278 | J41: =J42+J43 -> 2172278 | K41: =K42+K43 -> 2172278 | L41: =L42+L43 -> 0 | M41: =M42+M43 -> 0 | ... Q41: =Q42+Q43 -> 0 | R41: =SUM(F41:Q41) -> 10861390
E42: Operación | G42: 2172278 | H42: 2172278 | I42: 2172278 | J42: 2172278 | K42: 2172278 | R42: =SUM(F42:Q42) -> 10861390
E43: Intereses de la deuda
E44: Capital | F44: =F45+F46 -> 0 | G44: =G45+G46 -> 0 | H44: =H45+H46 -> 0 | I44: =I45+I46 -> 0 | J44: =J45+J46 -> 0 | K44: =K45+K46 -> 0 | L44: =L45+L46 -> 0 | M44: =M45+M46 -> 0 | ... Q44: =Q45+Q46 -> 0 | R44: =SUM(F44:Q44) -> 0
E45: Operación
E46: Amortización deuda
E47: Transferencias del Gobierno del Distrito Federal | F47: =F48+F49 -> 0 | G47: =G48+G49 -> 0 | H47: =H48+H49 -> 0 | I47: =I48+I49 -> 0 | J47: =J48+J49 -> 0 | K47: =K48+K49 -> 0 | L47: =L48+L49 -> 0 | M47: =M48+M49 -> 0 | ... Q47: =Q48+Q49 -> 0 | R47: =SUM(F47:Q47) -> 0
E48: Corrientes
E49: Capital
E50: Ingresos Extraordinarios | F50: =+F51 -> 0 | G50: =+G51 -> 0 | H50: =+H51 -> 0 | I50: =+I51 -> 0 | J50: =+J51 -> 0 | K50: =+K51 -> 0 | L50: =+L51 -> 0 | M50: =+M51 -> 0 | ... Q50: =+Q51 -> 0 | R50: =SUM(F50:Q50) -> 0
E51: Financiamiento Neto | F51: =+F52+F53 -> 0 | G51: =+G52+G53 -> 0 | H51: =+H52+H53 -> 0 | I51: =+I52+I53 -> 0 | J51: =+J52+J53 -> 0 | K51: =+K52+K53 -> 0 | L51: =+L52+L53 -> 0 | M51: =+M52+M53 -> 0 | ... Q51: =+Q52+Q53 -> 0 | R51: =SUM(F51:Q51) -> 0
E52: Colocación
E53: Amortización
E56: NOTA: El formato es indicativo no limitativo, por lo que en caso de requerir más espacios, la Entidad deberá elaborarlo en la misma presentación y con las mismas características.
...

Sheet SPF-C01
E4: Calendario Original de Ingresos Propios 2017
E5: Entidad 09PFRC FIDEICOMISO DE RECUPERACIÓN CREDITICIA DE LA CIUDAD DE MÉXICO (FIDERE)
E6: Gobierno del Distrito Federal
E7: Mensual
E8: Pesos | P8: SPF-C01
E10: Entidad | F10: Enero | G10: Febrero | H10: Marzo | I10: Abril | J10: Mayo | K10: Junio | L10: Julio | M10: Agosto | N10: Septiembre | O10: Octubre | P10: Noviembre | Q10: Diciembre | R10: Ene-dic
E11: Total | F11: =+F12+F43 -> 5333909 | G11: =+G12+G43 -> 7981834 | H11: =+H12+H43 -> 6620560 | I11: =+I12+I43 -> 8047485 | J11: =+J12+J43 -> 6662560 | K11: =+K12+K43 -> 7758845 | L11: =+L12+L43 -> 6753711 | M11: =+M12+M43 -> 7194913 | ... Q11: =+Q12+Q43 -> 13079361 | R11: =SUM(F11:Q11) -> 88806148
E12: Ingresos Ordinarios | F12: =+F13+F33+F40+F30 -> 5333909 | G12: =+G13+G33+G40+G30 -> 7981834 | H12: =+H13+H33+H40+H30 -> 6620560 | I12: =+I13+I33+I40+I30 -> 8047485 | J12: =+J13+J33+J40+J30 -> 6662560 | K12: =+K13+K33+K40+K30 -> 7758845 | L12: =+L13+L33+L40+L30 -> 6753711 | M12: =+M13+M33+M40+M30 -> 7194913 | ... Q12: =+Q13+Q33+Q40+Q30 -> 13079361 | R12: =SUM(F12:Q12) -> 88806148
E13: Ingresos Propios | F13: =+F14+F16+F22+F25+F27 -> 5333909 | G13: =+G14+G16+G22+G25+G27 -> 5809556 | H13: =+H14+H16+H22+H25+H27 -> 4448282 | I13: =+I14+I16+I22+I25+I27 -> 5875207 | J13: =+J14+J16+J22+J25+J27 -> 4490282 | K13: =+K14+K16+K22+K25+K27 -> 5586567 | L13: =+L14+L16+L22+L25+L27 -> 4581433 | M13: =+M14+M16+M22+M25+M27 -> 5022635 | ... Q13: =+Q14+Q16+Q22+Q25+Q27 -> 7907085 | R13: =SUM(F13:Q13) -> 61911092
E14: Venta de Bienes | F14: =SUM(F15:F15) -> 0 | G14: =SUM(G15:G15) -> 0 | H14: =SUM(H15:H15) -> 0 | I14: =SUM(I15:I15) -> 0 | J14: =SUM(J15:J15) -> 0 | K14: =SUM(K15:K15) -> 0 | L14: =SUM(L15:L15) -> 0 | M14: =SUM(M15:M15) -> 0 | ... Q14: =SUM(Q15:Q15) -> 0 | R14: =SUM(F14:Q14) -> 0
E16: Venta de Servicios | F16: =SUM(F17:F21) -> 5152595 | G16: =SUM(G17:G21) -> 5618519 | H16: =SUM(H17:H21) -> 4261883 | I16: =SUM(I17:I21) -> 5689385 | J16: =SUM(J17:J21) -> 4301656 | K16: =SUM(K17:K21) -> 5396199 | L16: =SUM(L17:L21) -> 4398034 | M16: =SUM(M17:M21) -> 4834609 | ... Q16: =SUM(Q17:Q21) -> 7679999 | R16: =SUM(F16:Q16) -> 59655007
E17: Comisiones Cobradas | F17: 4353610 | G17: 3459500 | H17: 3654600 | I17: 3710940 | J17: 3553690 | K17: 3608750 | L17: 3619100 | M17: 2915427 | N17: 3445460 | O17: 1920615 | P17: 3336880 | Q17: =5489708+37 -> 5489745 | R17: =SUM(F17:Q17) -> 43068317
E18: Cuotas de Cobranza | F18: 308985 | G18: 471899 | H18: 117283 | I18: 291325 | J18: 257966 | K18: 100329 | L18: 288934 | M18: 232062 | N18: 197001 | O18: 127849 | P18: 627203 | Q18: 469134 | R18: =SUM(F18:Q18) -> 3489970
E19: Otros Ingresos | F19: 490000 | G19: 490000 | H19: 490000 | I19: 490000 | J19: 490000 | K19: 490000 | L19: 490000 | M19: 490000 | N19: 490000 | O19: 490000 | P19: 490000 | Q19: =490000+34000 -> 524000 | R19: =SUM(F19:Q19) -> 5914000
E20: Créditos Fiscales | G20: 1197120 | I20: 1197120 | K20: 1197120 | M20: 1197120 | O20: 1197120 | Q20: 1197120 | R20: =SUM(F20:Q20) -> 7182720
E22: Venta de Inversiones | F22: =SUM(F23:F23) -> 171014 | G22: =SUM(G23:G23) -> 180737 | H22: =SUM(H23:H23) -> 176099 | I22: =SUM(I23:I23) -> 175522 | J22: =SUM(J23:J23) -> 178326 | K22: =SUM(K23:K23) -> 180068 | L22: =SUM(L23:L23) -> 173099 | M22: =SUM(M23:M23) -> 177726 | ... Q22: =SUM(Q23:Q23) -> 216786 | R22: =SUM(F22:Q22) -> 2132485
E23: Intereses Cobrados | F23: 171014 | G23: 180737 | H23: 176099 | I23: 175522 | J23: 178326 | K23: 180068 | L23: 173099 | M23: 177726 | N23: 169905 | O23: =165150+601 -> 165751 | P23: 167452 | Q23: 216786 | R23: =SUM(F23:Q23) -> 2132485
E25: Ingresos Diversos | F25: =SUM(F26:F26) -> 10300 | G25: =SUM(G26:G26) -> 10300 | H25: =SUM(H26:H26) -> 10300 | I25: =SUM(I26:I26) -> 10300 | J25: =SUM(J26:J26) -> 10300 | K25: =SUM(K26:K26) -> 10300 | L25: =SUM(L26:L26) -> 10300 | M25: =SUM(M26:M26) -> 10300 | ... Q25: =SUM(Q26:Q26) -> 10300 | R25: =SUM(F25:Q25) -> 123600
E26: Recuperación de Carteras Propias. | F26: 10300 | G26: 10300 | H26: 10300 | I26: 10300 | J26: 10300 | K26: 10300 | L26: 10300 | M26: 10300 | N26: 10300 | O26: 10300 | P26: 10300 | Q26: 10300 | R26: =SUM(F26:Q26) -> 123600
E27: Operaciones Ajenas ( Netas ) | F27: =+F28+F29 -> 0 | G27: =+G28+G29 -> 0 | H27: =+H28+H29 -> 0 | I27: =+I28+I29 -> 0 | J27: =+J28+J29 -> 0 | K27: =+K28+K29 -> 0 | L27: =+L28+L29 -> 0 | M27: =+M28+M29 -> 0 | ... Q27: =+Q28+Q29 -> 0 | R27: =SUM(F27:Q27) -> 0
E28: Por cuenta de terceros | R28: =SUM(F28:Q28) -> 0
E29: Por erogaciones recuperables | R29: =SUM(F29:Q29) -> 0
E30: Remanente de Ejercicios Anteriores | F30: =SUM(F31:F32) -> 0 | G30: =SUM(G31:G32) -> 0 | H30: =SUM(H31:H32) -> 0 | I30: =SUM(I31:I32) -> 0 | J30: =SUM(J31:J32) -> 0 | K30: =SUM(K31:K32) -> 0 | L30: =SUM(L31:L32) -> 0 | M30: =SUM(M31:M32) -> 0 | ... Q30: =SUM(Q31:Q32) -> 0 | R30: =SUM(F30:Q30) -> 0
E31: Remanente local | F31: 0 | G31: 0 | H31: 0 | I31: 0 | J31: 0 | K31: 0 | L31: 0 | M31: 0 | N31: 0 | O31: 0 | P31: 0 | R31: =SUM(F31:Q31) -> 0
E32: Remanente Federal | F32: 0 | G32: 0 | H32: 0 | I32: 0 | J32: 0 | K32: 0 | L32: 0 | M32: 0 | N32: 0 | O32: 0 | P32: 0 | R32: =SUM(F32:Q32) -> 0
E33: Aportaciones del GDF | F33: =+F34+F37 -> 0 | G33: =+G34+G37 -> 2172278 | H33: =+H34+H37 -> 2172278 | I33: =+I34+I37 -> 2172278 | J33: =+J34+J37 -> 2172278 | K33: =+K34+K37 -> 2172278 | L33: =+L34+L37 -> 2172278 | M33: =+M34+M37 -> 2172278 | ... Q33: =+Q34+Q37 -> 5172276 | R33: =SUM(F33:Q33) -> 26895056
E34: Corrientes | F34: =+F35+F36 -> 0 | G34: =+G35+G36 -> 2172278 | H34: =+H35+H36 -> 2172278 | I34: =+I35+I36 -> 2172278 | J34: =+J35+J36 -> 2172278 | K34: =+K35+K36 -> 2172278 | L34: =+L35+L36 -> 2172278 | M34: =+M35+M36 -> 2172278 | ... Q34: =+Q35+Q36 -> 5172276 | R34: =SUM(F34:Q34) -> 26895056
E35: Operación | F35: 0 | G35: 2172278 | H35: 2172278 | I35: 2172278 | J35: 2172278 | K35: 2172278 | L35: 2172278 | M35: 2172278 | N35: 2172278 | O35: 2172278 | P35: 2172278 | Q35: =3000000+2172276 -> 5172276 | R35: =SUM(F35:Q35) -> 26895056
E36: Intereses de la deuda | R36: =SUM(F36:Q36) -> 0
E37: Capital | F37: =+F38+F39 -> 0 | G37: =+G38+G39 -> 0 | H37: =+H38+H39 -> 0 | I37: =+I38+I39 -> 0 | J37: =+J38+J39 -> 0 | K37: =+K38+K39 -> 0 | L37: =+L38+L39 -> 0 | M37: =+M38+M39 -> 0 | ... Q37: =+Q38+Q39 -> 0 | R37: =SUM(F37:Q37) -> 0
E38: Operación | R38: =SUM(F38:Q38) -> 0
E39: Amortización deuda | R39: =SUM(F39:Q39) -> 0
E40: Transferencias del Gobierno Federal | F40: =+F41+F42 -> 0 | G40: =+G41+G42 -> 0 | H40: =+H41+H42 -> 0 | I40: =+I41+I42 -> 0 | J40: =+J41+J42 -> 0 | K40: =+K41+K42 -> 0 | L40: =+L41+L42 -> 0 | M40: =+M41+M42 -> 0 | ... Q40: =+Q41+Q42 -> 0 | R40: =SUM(F40:Q40) -> 0
E41: Corrientes | R41: =SUM(F41:Q41) -> 0
E42: Capital | R42: =SUM(F42:Q42) -> 0
E43: Ingresos Extraordinarios | F43: =+F44+F30 -> 0 | G43: =+G44+G30 -> 0 | H43: =+H44+H30 -> 0 | I43: =+I44+I30 -> 0 | J43: =+J44+J30 -> 0 | K43: =+K44+K30 -> 0 | L43: =+L44+L30 -> 0 | M43: =+M44+M30 -> 0 | ... Q43: =+Q44+Q30 -> 0 | R43: =SUM(F43:Q43) -> 0
E44: Financiamiento Neto | F44: =+F45-F46 -> 0 | G44: =+G45-G46 -> 0 | H44: =+H45-H46 -> 0 | I44: =+I45-I46 -> 0 | J44: =+J45-J46 -> 0 | K44: =+K45-K46 -> 0 | L44: =+L45-L46 -> 0 | M44: =+M45-M46 -> 0 | ... Q44: =+Q45-Q46 -> 0 | R44: =SUM(F44:Q44) -> 0
E45: Colocación | R45: =SUM(F45:Q45) -> 0
E46: Amortización | R46: =SUM(F46:Q46) -> 0
E49: NOTA: El formato es indicativo no limitativo, por lo que en caso de requerir más espacios, la Entidad deberá elaborarlo en la misma presentación y con las mismas características.
...

Sheet SPF-C02
E4: Calendario Modificado de Ingresos 2017
E5: Entidad 09PFRC FIDEICOMISO DE RECUPERACIÓN CREDITICIA DE LA CIUDAD DE MÉXICO (FIDERE)
E6: Gobierno del Distrito Federal
E7: Mensual
E8: Pesos | P8: SPF-C02
E10: Entidad | F10: Enero | G10: Febrero | H10: Marzo | I10: Abril | J10: Mayo | K10: Junio | L10: Julio | M10: Agosto | N10: Septiembre | O10: Octubre | P10: Noviembre | Q10: Diciembre | R10: Ene-dic
E11: Total | F11: =+F12+F43 -> 5333909 | G11: =+G12+G43 -> 7981834 | H11: =+H12+H43 -> 6620560 | I11: =+I12+I43 -> 8047485 | J11: =+J12+J43 -> 7775560 | K11: =+K12+K43 -> 7758845 | L11: =+L12+L43 -> 6753711 | M11: =+M12+M43 -> 7194913 | ... Q11: =+Q12+Q43 -> 13079361 | R11: =SUM(F11:Q11) -> 89919148
E12: Ingresos Ordinarios | F12: =+F13+F33+F40 -> 5333909 | G12: =+G13+G33+G40 -> 7981834 | H12: =+H13+H33+H40 -> 6620560 | I12: =+I13+I33+I40 -> 8047485 | J12: =+J13+J33+J40 -> 7775560 | K12: =+K13+K33+K40 -> 7758845 | L12: =+L13+L33+L40 -> 6753711 | M12: =+M13+M33+M40 -> 7194913 | ... Q12: =+Q13+Q33+Q40 -> 13079361 | R12: =SUM(F12:Q12) -> 89919148
E13: Ingresos Propios | F13: =+F14+F16+F22+F25+F27 -> 5333909 | G13: =+G14+G16+G22+G25+G27 -> 5809556 | H13: =+H14+H16+H22+H25+H27 -> 4448282 | I13: =+I14+I16+I22+I25+I27 -> 5875207 | J13: =+J14+J16+J22+J25+J27 -> 5603282 | K13: =+K14+K16+K22+K25+K27 -> 5586567 | L13: =+L14+L16+L22+L25+L27 -> 4581433 | M13: =+M14+M16+M22+M25+M27 -> 5022635 | ... Q13: =+Q14+Q16+Q22+Q25+Q27 -> 7907085 | R13: =SUM(F13:Q13) -> 63024092
E14: Venta de Bienes | F14: =SUM(F15:F15) -> 0 | G14: =SUM(G15:G15) -> 0 | H14: =SUM(H15:H15) -> 0 | I14: =SUM(I15:I15) -> 0 | J14: =SUM(J15:J15) -> 0 | K14: =SUM(K15:K15) -> 0 | L14: =SUM(L15:L15) -> 0 | M14: =SUM(M15:M15) -> 0 | ... Q14: =SUM(Q15:Q15) -> 0 | R14: =SUM(F14:Q14) -> 0
E16: Venta de Servicios | F16: =SUM(F17:F21) -> 5152595 | G16: =SUM(G17:G21) -> 5618519 | H16: =SUM(H17:H21) -> 4261883 | I16: =SUM(I17:I21) -> 5689385 | J16: =SUM(J17:J21) -> 4301656 | K16: =SUM(K17:K21) -> 5396199 | L16: =SUM(L17:L21) -> 4398034 | M16: =SUM(M17:M21) -> 4834609 | ... Q16: =SUM(Q17:Q21) -> 7679999 | R16: =SUM(F16:Q16) -> 59655007
E17: Comisiones Cobradas | F17: 4353610 | G17: 3459500 | H17: 3654600 | I17: 3710940 | J17: 3553690 | K17: 3608750 | L17: 3619100 | M17: 2915427 | N17: 3445460 | O17: 1920615 | P17: 3336880 | Q17: =5489708+37 -> 5489745 | R17: =SUM(F17:Q17) -> 43068317
E18: Cuotas de Cobranza | F18: 308985 | G18: 471899 | H18: 117283 | I18: 291325 | J18: 257966 | K18: 100329 | L18: 288934 | M18: 232062 | N18: 197001 | O18: 127849 | P18: 627203 | Q18: 469134 | R18: =SUM(F18:Q18) -> 3489970
E19: Otros Ingresos | F19: 490000 | G19: 490000 | H19: 490000 | I19: 490000 | J19: 490000 | K19: 490000 | L19: 490000 | M19: 490000 | N19: 490000 | O19: 490000 | P19: 490000 | Q19: =490000+34000 -> 524000 | R19: =SUM(F19:Q19) -> 5914000
E20: Créditos Fiscales | G20: 1197120 | I20: 1197120 | K20: 1197120 | M20: 1197120 | O20: 1197120 | Q20: 1197120 | R20: =SUM(F20:Q20) -> 7182720
E22: Venta de Inversiones | F22: =SUM(F23:F23) -> 171014 | G22: =SUM(G23:G23) -> 180737 | H22: =SUM(H23:H23) -> 176099 | I22: =SUM(I23:I23) -> 175522 | J22: =SUM(J23:J23) -> 178326 | K22: =SUM(K23:K23) -> 180068 | L22: =SUM(L23:L23) -> 173099 | M22: =SUM(M23:M23) -> 177726 | ... Q22: =SUM(Q23:Q23) -> 216786 | R22: =SUM(F22:Q22) -> 2132485
E23: Intereses Cobrados | F23: 171014 | G23: 180737 | H23: 176099 | I23: 175522 | J23: 178326 | K23: 180068 | L23: 173099 | M23: 177726 | N23: 169905 | O23: =165150+601 -> 165751 | P23: 167452 | Q23: 216786 | R23: =SUM(F23:Q23) -> 2132485
E25: Ingresos Diversos | F25: =SUM(F26+F30) -> 10300 | G25: =SUM(G26+G30) -> 10300 | H25: =SUM(H26+H30) -> 10300 | I25: =SUM(I26+I30) -> 10300 | J25: =SUM(J26+J30) -> 1123300 | K25: =SUM(K26+K30) -> 10300 | L25: =SUM(L26+L30) -> 10300 | M25: =SUM(M26+M30) -> 10300 | ... Q25: =SUM(Q26+Q30) -> 10300 | R25: =SUM(F25:Q25) -> 1236600
E26: Recuperación de Carteras Propias. | F26: 10300 | G26: 10300 | H26: 10300 | I26: 10300 | J26: 10300 | K26: 10300 | L26: 10300 | M26: 10300 | N26: 10300 | O26: 10300 | P26: 10300 | Q26: 10300 | R26: =SUM(F26:Q26) -> 123600
E27: Operaciones Ajenas ( Netas ) | F27: =+F28+F29 -> 0 | G27: =+G28+G29 -> 0 | H27: =+H28+H29 -> 0 | I27: =+I28+I29 -> 0 | J27: =+J28+J29 -> 0 | K27: =+K28+K29 -> 0 | L27: =+L28+L29 -> 0 | M27: =+M28+M29 -> 0 | ... Q27: =+Q28+Q29 -> 0 | R27: =SUM(F27:Q27) -> 0
E28: Por cuenta de terceros | R28: =SUM(F28:Q28) -> 0
E29: Por erogaciones recuperables | R29: =SUM(F29:Q29) -> 0
E30: Remanente de Ejercicios Anteriores | F30: =SUM(F31:F32) -> 0 | G30: =SUM(G31:G32) -> 0 | H30: =SUM(H31:H32) -> 0 | I30: =SUM(I31:I32) -> 0 | J30: =SUM(J31:J32) -> 1113000 | K30: =SUM(K31:K32) -> 0 | L30: =SUM(L31:L32) -> 0 | M30: =SUM(M31:M32) -> 0 | ... Q30: =SUM(Q31:Q32) -> 0 | R30: =SUM(F30:Q30) -> 1113000
E31: Remanente local | F31: 0 | G31: 0 | H31: 0 | I31: 0 | J31: 1113000 | K31: 0 | L31: 0 | M31: 0 | N31: 0 | O31: 0 | P31: 0 | R31: =SUM(F31:Q31) -> 1113000
E32: Remanente Federal | F32: 0 | G32: 0 | H32: 0 | I32: 0 | J32: 0 | K32: 0 | L32: 0 | M32: 0 | N32: 0 | O32: 0 | P32: 0 | R32: =SUM(F32:Q32) -> 0
E33: Aportaciones del GDF | F33: =+F34+F37 -> 0 | G33: =+G34+G37 -> 2172278 | H33: =+H34+H37 -> 2172278 | I33: =+I34+I37 -> 2172278 | J33: =+J34+J37 -> 2172278 | K33: =+K34+K37 -> 2172278 | L33: =+L34+L37 -> 2172278 | M33: =+M34+M37 -> 2172278 | ... Q33: =+Q34+Q37 -> 5172276 | R33: =SUM(F33:Q33) -> 26895056
E34: Corrientes | F34: =+F35+F36 -> 0 | G34: =+G35+G36 -> 2172278 | H34: =+H35+H36 -> 2172278 | I34: =+I35+I36 -> 2172278 | J34: =+J35+J36 -> 2172278 | K34: =+K35+K36 -> 2172278 | L34: =+L35+L36 -> 2172278 | M34: =+M35+M36 -> 2172278 | ... Q34: =+Q35+Q36 -> 5172276 | R34: =SUM(F34:Q34) -> 26895056
E35: Operación | F35: 0 | G35: 2172278 | H35: 2172278 | I35: 2172278 | J35: 2172278 | K35: 2172278 | L35: 2172278 | M35: 2172278 | N35: 2172278 | O35: 2172278 | P35: 2172278 | Q35: =3000000+2172276 -> 5172276 | R35: =SUM(F35:Q35) -> 26895056
E36: Intereses de la deuda | R36: =SUM(F36:Q36) -> 0
E37: Capital | F37: =+F38+F39 -> 0 | G37: =+G38+G39 -> 0 | H37: =+H38+H39 -> 0 | I37: =+I38+I39 -> 0 | J37: =+J38+J39 -> 0 | K37: =+K38+K39 -> 0 | L37: =+L38+L39 -> 0 | M37: =+M38+M39 -> 0 | ... Q37: =+Q38+Q39 -> 0 | R37: =SUM(F37:Q37) -> 0
E38: Operación | R38: =SUM(F38:Q38) -> 0
E39: Amortización deuda | R39: =SUM(F39:Q39) -> 0
E40: Transferencias del Gobierno Federal | F40: =+F41+F42 -> 0 | G40: =+G41+G42 -> 0 | H40: =+H41+H42 -> 0 | I40: =+I41+I42 -> 0 | J40: =+J41+J42 -> 0 | K40: =+K41+K42 -> 0 | L40: =+L41+L42 -> 0 | M40: =+M41+M42 -> 0 | ... Q40: =+Q41+Q42 -> 0 | R40: =SUM(F40:Q40) -> 0
E41: Corrientes | R41: =SUM(F41:Q41) -> 0
E42: Capital | R42: =SUM(F42:Q42) -> 0
E43: Ingresos Extraordinarios | F43: =+F44 -> 0 | G43: =+G44 -> 0 | H43: =+H44 -> 0 | I43: =+I44 -> 0 | J43: =+J44 -> 0 | K43: =+K44 -> 0 | L43: =+L44 -> 0 | M43: =+M44 -> 0 | ... Q43: =+Q44 -> 0 | R43: =SUM(F43:Q43) -> 0
E44: Financiamiento Neto | F44: =+F45-F46 -> 0 | G44: =+G45-G46 -> 0 | H44: =+H45-H46 -> 0 | I44: =+I45-I46 -> 0 | J44: =+J45-J46 -> 0 | K44: =+K45-K46 -> 0 | L44: =+L45-L46 -> 0 | M44: =+M45-M46 -> 0 | ... Q44: =+Q45-Q46 -> 0 | R44: =SUM(F44:Q44) -> 0
E45: Colocación | R45: =SUM(F45:Q45) -> 0
E46: Amortización | R46: =SUM(F46:Q46) -> 0
E49: NOTA: El formato es indicativo no limitativo, por lo que en caso de requerir más espacios, la Entidad deberá elaborarlo en la misma presentación y con las mismas características.
...

Sheet 2016
E4: Ingresos Obtenidos 2016
E5: Entidad: 09PFRC FIDEICOMISO DE RECUPERACIÓN CREDITICIA DE LA CIUDAD DE MÉXICO (FIDERE) | P5: SPF-01
E6: Gobierno de la Ciudad de México
E7: Mensual
E8: Pesos
E10: Entidad | F10: Enero | G10: Febrero | H10: Marzo | I10: Abril | J10: Mayo | K10: Junio | L10: Julio | M10: Agosto | N10: Septiembre | O10: Octubre | P10: Noviembre | Q10: Diciembre | R10: Ene-dic
E11: Total | F11: =+F12+F47 -> 5000201.2 | G11: =+G12+G47 -> 6621340.3 | H11: =+H12+H47 -> 6990222.9 | I11: =+I12+I47 -> 6800446.6 | J11: =+J12+J47 -> 7406074.6 | K11: =+K12+K47 -> 6926007 | L11: =+L12+L47 -> 6625875.8 | M11: =+M12+M47 -> 6680897.3 | ... Q11: =+Q12+Q47 -> 9796528.9 | R11: =SUM(F11:Q11) -> 86978551 | S11: =+R11-'[1]SPF-A01'!V15 -> 0 | T11: 84647457 | U11: =+R11-T11 -> 2331093.7
E12: Ingresos Ordinarios | F12: =+F13+F37+F44 -> 5000201.2 | G12: =+G13+G37+G44 -> 6621340.3 | H12: =+H13+H37+H44 -> 6990222.9 | I12: =+I13+I37+I44 -> 6800446.6 | J12: =+J13+J37+J44 -> 7406074.6 | K12: =+K13+K37+K44 -> 6926007 | L12: =+L13+L37+L44 -> 6625875.8 | M12: =+M13+M37+M44 -> 6680897.3 | ... Q12: =+Q13+Q37+Q44 -> 9796528.9 | R12: =SUM(F12:Q12) -> 86978551
E13: Ingresos Propios | F13: =F15+F17+F23+F26+F29 -> 5000201.2 | G13: =G15+G17+G23+G26+G29 -> 4341662.3 | H13: =H15+H17+H23+H26+H29 -> 4710544.9 | I13: =I15+I17+I23+I26+I29 -> 4520768.6 | J13: =J15+J17+J23+J26+J29 -> 5126396.6 | K13: =K15+K17+K23+K26+K29 -> 4646329 | L13: =L15+L17+L23+L26+L29 -> 4346197.8 | M13: =M15+M17+M23+M26+M29 -> 4401219.3 | ... Q13: =Q15+Q17+Q23+Q26+Q29 -> 4516851.9 | R13: =SUM(F13:Q13) -> 58902094
E15: Venta de Bienes
E17: Venta de Servicios | F17: =SUM(F18:F21) -> 4788915.3 | G17: =SUM(G18:G21) -> 4190886.8 | H17: =SUM(H18:H21) -> 4517400.4 | I17: =SUM(I18:I21) -> 4329792.7 | J17: =SUM(J18:J21) -> 3785189.1 | K17: =SUM(K18:K21) -> 4430124.7 | L17: =SUM(L18:L21) -> 4141005.8 | M17: =SUM(M18:M21) -> 4169590 | ... R17: =SUM(R18:R21) -> 55054839
E18: Comisiones Cobradas | F18: 3979456 | G18: 3538285.2 | H18: 3600840.9 | I18: 3541791 | J18: 3245630.9 | K18: 3707790 | L18: 3375235.6 | M18: 3476557.6 | N18: 3797611.8 | O18: 3152259 | P18: 3419282 | Q18: 3352700 | R18: =SUM(F18:Q18) -> 42187440
E19: Cuotas de Cobranza | F19: 290122.73 | G19: 172758.95 | H19: 429322.12 | I19: 305411.67 | J19: 59686.1 | K19: 239842.63 | L19: 273703.65 | M19: 182510.99 | N19: 112320.64 | O19: 128372.42 | P19: 246805.03 | Q19: 329741.79 | R19: =SUM(F19:Q19) -> 2770598.7
E20: Otros Ingresos | F20: 519336.51 | G20: 479842.68 | H20: 487237.4 | I20: 482589.99 | J20: 479872.1 | K20: 482492.13 | L20: 492066.54 | M20: 510521.4 | N20: 545234.94 | O20: 494754.63 | P20: 499046.4 | Q20: 494085.44 | R20: =SUM(F20:Q20) -> 5967080.2
E21: Créditos Fiscales | F21: 0 | G21: 0 | H21: 0 | I21: 0 | J21: 0 | K21: 0 | L21: 0 | M21: 0 | N21: 0 | O21: 4129720 | P21: 0 | Q21: 0 | R21: =SUM(F21:Q21) -> 4129720
E23: Venta de Inversiones | F23: =+F24 -> 155216.85 | G23: =+G24 -> 138086.82 | H23: =+H24 -> 179218.82 | I23: =+I24 -> 167444.88 | J23: =+J24 -> 172504.51 | K23: =+K24 -> 200251.37 | L23: =+L24 -> 189589.02 | M23: =+M24 -> 222494.92 | ... Q23: =+Q24 -> 308738.96 | R23: =SUM(F23:Q23) -> 2449749
E24: Intereses Cobrados | F24: 155216.85 | G24: 138086.82 | H24: 179218.82 | I24: 167444.88 | J24: 172504.51 | K24: 200251.37 | L24: 189589.02 | M24: 222494.92 | N24: 204531.97 | O24: 250352.68 | P24: 261318.25 | Q24: =307672.65+1066.31 -> 308738.96 | R24: =SUM(F24:Q24) -> 2449749
E26: Ingresos Diversos | F26: =SUM(F27:F27)+F33 -> 56069.05 | G26: =SUM(G27:G27)+G33 -> 12688.65 | H26: =SUM(H27:H27)+H33 -> 13925.6 | I26: =SUM(I27:I27)+I33 -> 23531.07 | J26: =SUM(J27:J27)+J33 -> 1168703 | K26: =SUM(K27:K27)+K33 -> 15952.85 | L26: =SUM(L27:L27)+L33 -> 15603.04 | M26: =SUM(M27:M27)+M33 -> 9134.39 | ... Q26: =SUM(Q27:Q27)+Q33 -> 31585.71 | R26: =SUM(F26:Q26) -> 1397505.7
E27: Recuperación de Carteras Propias. | F27: 56069.05 | G27: 12688.65 | H27: 13925.6 | I27: 23531.07 | J27: 15702.97 | K27: 15952.85 | L27: 15603.04 | M27: 9134.39 | N27: 25777.09 | O27: 13436.48 | P27: 11098.77 | Q27: =32652.02-1066.31 -> 31585.71 | R27: =SUM(F27:Q27) -> 244505.67
E29: Operaciones Ajenas ( Netas ) | F29: =F30+F31 -> 0 | G29: =G30+G31 -> 0 | H29: =H30+H31 -> 0 | I29: =I30+I31 -> 0 | J29: =J30+J31 -> 0 | K29: =K30+K31 -> 0 | L29: =L30+L31 -> 0 | M29: =M30+M31 -> 0 | ... Q29: =Q30+Q31 -> 0 | R29: =SUM(F29:Q29) -> 0
E30: Por cuenta de terceros
E31: Por erogaciones recuperables
E33: Remanente de ejercicios anteriores | F33: =SUM(F34:F35) -> 0 | G33: =SUM(G34:G35) -> 0 | H33: =SUM(H34:H35) -> 0 | I33: =SUM(I34:I35) -> 0 | J33: =SUM(J34:J35) -> 1153000 | K33: =SUM(K34:K35) -> 0 | L33: =SUM(L34:L35) -> 0 | M33: =SUM(M34:M35) -> 0 | ... Q33: =SUM(Q34:Q35) -> 0 | R33: =SUM(F33:Q33) -> 1153000
E34: Remanente local | J34: 1153000 | K34: 0 | L34: 0 | M34: 0 | N34: 0 | O34: 0 | P34: 0 | Q34: 0 | R34: =SUM(F34:Q34) -> 1153000
E35: Remanente Federal
E37: Aportaciones del GCDMX | F37: =F38+F41 -> 0 | G37: =G38+G41 -> 2279678 | H37: =H38+H41 -> 2279678 | I37: =I38+I41 -> 2279678 | J37: =J38+J41 -> 2279678 | K37: =K38+K41 -> 2279678 | L37: =L38+L41 -> 2279678 | M37: =M38+M41 -> 2279678 | ... Q37: =Q38+Q41 -> 5279677 | R37: =SUM(F37:Q37) -> 28076457
E38: Corrientes | F38: =+F39 -> 0 | G38: =+G39 -> 2279678 | H38: =+H39 -> 2279678 | I38: =+I39 -> 2279678 | J38: =+J39 -> 2279678 | K38: =+K39 -> 2279678 | L38: =+L39 -> 2279678 | M38: =+M39 -> 2279678 | ... Q38: =+Q39 -> 5279677 | R38: =SUM(F38:Q38) -> 28076457
E39: Operación | F39: 0 | G39: 2279678 | H39: 2279678 | I39: 2279678 | J39: 2279678 | K39: 2279678 | L39: 2279678 | M39: 2279678 | N39: 2279678 | O39: 2279678 | P39: 2279678 | Q39: 5279677 | R39: =SUM(F39:Q39) -> 28076457
E40: Intereses de la deuda
E41: Capital | F41: =F42+F43 -> 0 | G41: =G42+G43 -> 0 | H41: =H42+H43 -> 0 | I41: =I42+I43 -> 0 | J41: =J42+J43 -> 0 | K41: =K42+K43 -> 0 | L41: =L42+L43 -> 0 | M41: =M42+M43 -> 0 | ... Q41: =Q42+Q43 -> 0 | R41: =SUM(F41:Q41) -> 0
E42: Operación
E43: Amortización deuda
E44: Transferencias del Gobierno del Distrito Federal | F44: =F45+F46 -> 0 | G44: =G45+G46 -> 0 | H44: =H45+H46 -> 0 | I44: =I45+I46 -> 0 | J44: =J45+J46 -> 0 | K44: =K45+K46 -> 0 | L44: =L45+L46 -> 0 | M44: =M45+M46 -> 0 | ... Q44: =Q45+Q46 -> 0 | R44: =SUM(F44:Q44) -> 0
E45: Corrientes
E46: Capital
E47: Ingresos Extraordinarios | F47: =+F48 -> 0 | G47: =+G48 -> 0 | H47: =+H48 -> 0 | I47: =+I48 -> 0 | J47: =+J48 -> 0 | K47: =+K48 -> 0 | L47: =+L48 -> 0 | M47: =+M48 -> 0 | ... Q47: =+Q48 -> 0 | R47: =SUM(F47:Q47) -> 0
E48: Financiamiento Neto | F48: =+F49+F50 -> 0 | G48: =+G49+G50 -> 0 | H48: =+H49+H50 -> 0 | I48: =+I49+I50 -> 0 | J48: =+J49+J50 -> 0 | K48: =+K49+K50 -> 0 | L48: =+L49+L50 -> 0 | M48: =+M49+M50 -> 0 | ... Q48: =+Q49+Q50 -> 0 | R48: =SUM(F48:Q48) -> 0
E49: Colocación | F49: 0 | G49: 0 | H49: 0 | I49: 0 | J49: 0 | K49: 0 | L49: 0 | M49: 0 | N49: 0 | O49: 0 | P49: 0 | Q49: 0 | R49: =SUM(F49:Q49) -> 0
E50: Amortización | F50: 0 | G50: 0 | H50: 0 | I50: 0 | J50: 0 | K50: 0 | L50: 0 | M50: 0 | N50: 0 | O50: 0 | P50: 0 | Q50: 0 | R50: =SUM(F50:Q50) -> 0
E53: NOTA: El formato es indicativo no limitativo, por lo que en caso de requerir más espacios, las entidades deberán elaborarlo en la misma presentación y con las mismas características.
...

Sheet Acumulado
E2: NO ELIMINAR
E4: Ingresos Obtenidos Acumulados 2015
E5: Entidad | P5: SPF-01
E6: Gobierno del Distrito Federal
E7: Mensual
E8: Pesos
A10: - | F10: Enero | G10: =CONCATENATE($F$11,$A$10,G11) -> Enero-Febrero | H10: =CONCATENATE($F$11,$A$10,H11) -> Enero-Marzo | I10: =CONCATENATE($F$11,$A$10,I11) -> Enero-Abril | J10: =CONCATENATE($F$11,$A$10,J11) -> Enero-Mayo | K10: =CONCATENATE($F$11,$A$10,K11) -> Enero-Junio | L10: =CONCATENATE($F$11,$A$10,L11) -> Enero-Julio | M10: =CONCATENATE($F$11,$A$10,M11) -> Enero-Agosto | N10: =CONCATENATE($F$11,$A$10,N11) -> Enero-Septiembre | ... Q10: =CONCATENATE($F$11,$A$10,Q11) -> Enero-Diciembre
E11: Entidad | F11: Enero | G11: Febrero | H11: Marzo | I11: Abril | J11: Mayo | K11: Junio | L11: Julio | M11: Agosto | N11: Septiembre | O11: Octubre | P11: Noviembre | Q11: Diciembre
E12: Total | F12: =+F13+F48 -> 5268013.1 | G12: =+G13+G48 -> 12569167 | H12: =+H13+H48 -> 19393830 | I12: =+I13+I48 -> 26334849 | J12: =+J13+J48 -> 35124635 | K12: =+K13+K48 -> 42020791 | L12: =+L13+L48 -> 42020791 | M12: =+M13+M48 -> 42020791 | ... Q12: =+Q13+Q48 -> 42020791
E13: Ingresos Ordinarios | F13: =+F14+F34+F38+F45 -> 5268013.1 | G13: =+G14+G34+G38+G45 -> 12569167 | H13: =+H14+H34+H38+H45 -> 19393830 | I13: =+I14+I34+I38+I45 -> 26334849 | J13: =+J14+J34+J38+J45 -> 35124635 | K13: =+K14+K34+K38+K45 -> 42020791 | L13: =+L14+L34+L38+L45 -> 42020791 | M13: =+M14+M34+M38+M45 -> 42020791 | ... Q13: =+Q14+Q34+Q38+Q45 -> 42020791
E14: Ingresos Propios | F14: =F16+F19+F22+F25+F29 -> 5268013.1 | G14: =G16+G19+G22+G25+G29 -> 10396889 | H14: =H16+H19+H22+H25+H29 -> 15049274 | I14: =I16+I19+I22+I25+I29 -> 19818015 | J14: =J16+J19+J22+J25+J29 -> 25322523 | K14: =K16+K19+K22+K25+K29 -> 30046401 | L14: =L16+L19+L22+L25+L29 -> 30046401 | M14: =M16+M19+M22+M25+M29 -> 30046401 | ... Q14: =Q16+Q19+Q22+Q25+Q29 -> 30046401
E16: Venta de Bienes | F16: =+' SPF-01'!F16 -> 0 | G16: =SUM(' SPF-01'!$F$16:G16) -> 0 | H16: =SUM(' SPF-01'!$F$16:H16) -> 0 | I16: =SUM(' SPF-01'!$F$16:I16) -> 0 | J16: =SUM(' SPF-01'!$F$16:J16) -> 0 | K16: =SUM(' SPF-01'!$F$16:K16) -> 0 | L16: =SUM(' SPF-01'!$F$16:L16) -> 0 | M16: =SUM(' SPF-01'!$F$16:M16) -> 0 | N16: =SUM(' SPF-01'!$F$16:N16) -> 0 | ... Q16: =SUM(' SPF-01'!$F$16:Q16) -> 0
E19: Venta de Servicios | F19: =+' SPF-01'!F18 -> 4887146 | G19: =SUM(' SPF-01'!$F$18:G18) -> 9685245.6 | H19: =SUM(' SPF-01'!$F$18:H18) -> 13950921 | I19: =SUM(' SPF-01'!$F$18:I18) -> 18359350 | J19: =SUM(' SPF-01'!$F$18:J18) -> 22326192 | K19: =SUM(' SPF-01'!$F$18:K18) -> 26625382 | L19: =SUM(' SPF-01'!$F$18:L18) -> 26625382 | M19: =SUM(' SPF-01'!$F$18:M18) -> 26625382 | N19: =SUM(' SPF-01'!$F$18:N18) -> 26625382 | ... Q19: =SUM(' SPF-01'!$F$18:Q18) -> 26625382
E22: Venta de Inversiones | F22: =+' SPF-01'!F24 -> 351057.38 | G22: =SUM(' SPF-01'!$F$24:G24) -> 673232.7 | H22: =SUM(' SPF-01'!$F$24:H24) -> 1050603.4 | I22: =SUM(' SPF-01'!$F$24:I24) -> 1383544.1 | J22: =SUM(' SPF-01'!$F$24:J24) -> 1781882.3 | K22: =SUM(' SPF-01'!$F$24:K24) -> 2188867.8 | L22: =SUM(' SPF-01'!$F$24:L24) -> 2188867.8 | M22: =SUM(' SPF-01'!$F$24:M24) -> 2188867.8 | N22: =SUM(' SPF-01'!$F$24:N24) -> 2188867.8 | ... Q22: =SUM(' SPF-01'!$F$24:Q24) -> 2188867.8
F23: .
E25: Ingresos Diversos | F25: =+' SPF-01'!F27 -> 29809.68 | G25: =SUM(' SPF-01'!$F$27:G27) -> 38410.51 | H25: =SUM(' SPF-01'!$F$27:H27) -> 47748.78 | I25: =SUM(' SPF-01'!$F$27:I27) -> 75121.41 | J25: =SUM(' SPF-01'!$F$27:J27) -> 1214448.9 | K25: =SUM(' SPF-01'!$F$27:K27) -> 1232151 | L25: =SUM(' SPF-01'!$F$27:L27) -> 1232151 | M25: =SUM(' SPF-01'!$F$27:M27) -> 1232151 | N25: =SUM(' SPF-01'!$F$27:N27) -> 1232151 | ... Q25: =SUM(' SPF-01'!$F$27:Q27) -> 1232151
E29: Operaciones Ajenas ( Netas ) | F29: =SUM(F30:F31) -> 0 | G29: =SUM(G30:G31) -> 0 | H29: =SUM(H30:H31) -> 0 | I29: =SUM(I30:I31) -> 0 | J29: =SUM(J30:J31) -> 0 | K29: =SUM(K30:K31) -> 0 | L29: =SUM(L30:L31) -> 0 | M29: =SUM(M30:M31) -> 0 | ... Q29: =SUM(Q30:Q31) -> 0
E30: Por cuenta de terceros | F30: =+' SPF-01'!F32 -> 0 | G30: =SUM(' SPF-01'!$F$32:G32) -> 0 | H30: =SUM(' SPF-01'!$F$32:H32) -> 0 | I30: =SUM(' SPF-01'!$F$32:I32) -> 0 | J30: =SUM(' SPF-01'!$F$32:J32) -> 0 | K30: =SUM(' SPF-01'!$F$32:K32) -> 0 | L30: =SUM(' SPF-01'!$F$32:L32) -> 0 | M30: =SUM(' SPF-01'!$F$32:M32) -> 0 | N30: =SUM(' SPF-01'!$F$32:N32) -> 0 | ... Q30: =SUM(' SPF-01'!$F$32:Q32) -> 0
E31: Por erogaciones recuperables | F31: =+' SPF-01'!F33 -> 0 | G31: =SUM(' SPF-01'!$F$33:G33) -> 0 | H31: =SUM(' SPF-01'!$F$33:H33) -> 0 | I31: =SUM(' SPF-01'!$F$33:I33) -> 0 | J31: =SUM(' SPF-01'!$F$33:J33) -> 0 | K31: =SUM(' SPF-01'!$F$33:K33) -> 0 | L31: =SUM(' SPF-01'!$F$33:L33) -> 0 | M31: =SUM(' SPF-01'!$F$33:M33) -> 0 | N31: =SUM(' SPF-01'!$F$33:N33) -> 0 | ... Q31: =SUM(' SPF-01'!$F$33:Q33) -> 0
E34: Remanente de ejercicios anteriores | F34: =SUM(F35:F36) -> 0 | G34: =SUM(G35:G36) -> 0 | H34: =SUM(H35:H36) -> 0 | I34: =SUM(I35:I36) -> 0 | J34: =SUM(J35:J36) -> 1113000 | K34: =SUM(K35:K36) -> 1113000 | L34: =SUM(L35:L36) -> 1113000 | M34: =SUM(M35:M36) -> 1113000 | ... Q34: =SUM(Q35:Q36) -> 1113000
E35: Remanente local | F35: =+' SPF-01'!F37 -> 0 | G35: =SUM(' SPF-01'!$F$37:G37) -> 0 | H35: =SUM(' SPF-01'!$F$37:H37) -> 0 | I35: =SUM(' SPF-01'!$F$37:I37) -> 0 | J35: =SUM(' SPF-01'!$F$37:J37) -> 1113000 | K35: =SUM(' SPF-01'!$F$37:K37) -> 1113000 | L35: =SUM(' SPF-01'!$F$37:L37) -> 1113000 | M35: =SUM(' SPF-01'!$F$37:M37) -> 1113000 | N35: =SUM(' SPF-01'!$F$37:N37) -> 1113000 | ... Q35: =SUM(' SPF-01'!$F$37:Q37) -> 1113000
E36: Remanente Federal | F36: =+' SPF-01'!F38 -> 0 | G36: =SUM(' SPF-01'!$F$38:G38) -> 0 | H36: =SUM(' SPF-01'!$F$38:H38) -> 0 | I36: =SUM(' SPF-01'!$F$38:I38) -> 0 | J36: =SUM(' SPF-01'!$F$38:J38) -> 0 | K36: =SUM(' SPF-01'!$F$38:K38) -> 0 | L36: =SUM(' SPF-01'!$F$38:L38) -> 0 | M36: =SUM(' SPF-01'!$F$38:M38) -> 0 | N36: =SUM(' SPF-01'!$F$38:N38) -> 0 | ... Q36: =SUM(' SPF-01'!$F$38:Q38) -> 0
E38: Aportaciones del GDF | F38: =F39+F42 -> 0 | G38: =G39+G42 -> 2172278 | H38: =H39+H42 -> 4344556 | I38: =I39+I42 -> 6516834 | J38: =J39+J42 -> 8689112 | K38: =K39+K42 -> 10861390 | L38: =L39+L42 -> 10861390 | M38: =M39+M42 -> 10861390 | ... Q38: =Q39+Q42 -> 10861390
E39: Corrientes | F39: =+' SPF-01'!F41 -> 0 | G39: =SUM(' SPF-01'!$F42:G$42) -> 2172278 | H39: =SUM(' SPF-01'!$F42:H$42) -> 4344556 | I39: =SUM(' SPF-01'!$F42:I$42) -> 6516834 | J39: =SUM(' SPF-01'!$F42:J$42) -> 8689112 | K39: =SUM(' SPF-01'!$F42:K$42) -> 10861390 | L39: =SUM(' SPF-01'!$F42:L$42) -> 10861390 | M39: =SUM(' SPF-01'!$F42:M$42) -> 10861390 | N39: =SUM(' SPF-01'!$F42:N$42) -> 10861390 | ... Q39: =SUM(' SPF-01'!$F42:Q$42) -> 10861390
E40: Operación | F40: =+' SPF-01'!F42 -> 0 | G40: =SUM(' SPF-01'!$F$42:G42) -> 2172278 | H40: =SUM(' SPF-01'!$F$42:H42) -> 4344556 | I40: =SUM(' SPF-01'!$F$42:I42) -> 6516834 | J40: =SUM(' SPF-01'!$F$42:J42) -> 8689112 | K40: =SUM(' SPF-01'!$F$42:K42) -> 10861390 | L40: =SUM(' SPF-01'!$F$42:L42) -> 10861390 | M40: =SUM(' SPF-01'!$F$42:M42) -> 10861390 | N40: =SUM(' SPF-01'!$F$42:N42) -> 10861390 | ... Q40: =SUM(' SPF-01'!$F$42:Q42) -> 10861390
E41: Intereses de la deuda | F41: =+' SPF-01'!F43 -> 0 | G41: =SUM(' SPF-01'!$F$43:G43) -> 0 | H41: =SUM(' SPF-01'!$F$43:H43) -> 0 | I41: =SUM(' SPF-01'!$F$43:I43) -> 0 | J41: =SUM(' SPF-01'!$F$43:J43) -> 0 | K41: =SUM(' SPF-01'!$F$43:K43) -> 0 | L41: =SUM(' SPF-01'!$F$43:L43) -> 0 | M41: =SUM(' SPF-01'!$F$43:M43) -> 0 | N41: =SUM(' SPF-01'!$F$43:N43) -> 0 | ... Q41: =SUM(' SPF-01'!$F$43:Q43) -> 0
E42: Capital | F42: =+' SPF-01'!F44 -> 0 | G42: =SUM(' SPF-01'!$F$44:G44) -> 0 | H42: =SUM(' SPF-01'!$F$44:H44) -> 0 | I42: =SUM(' SPF-01'!$F$44:I44) -> 0 | J42: =SUM(' SPF-01'!$F$44:J44) -> 0 | K42: =SUM(' SPF-01'!$F$44:K44) -> 0 | L42: =SUM(' SPF-01'!$F$44:L44) -> 0 | M42: =SUM(' SPF-01'!$F$44:M44) -> 0 | N42: =SUM(' SPF-01'!$F$44:N44) -> 0 | ... Q42: =SUM(' SPF-01'!$F$44:Q44) -> 0
E43: Operación | F43: =+' SPF-01'!F45 -> 0 | G43: =SUM(' SPF-01'!$F$45:G45) -> 0 | H43: =SUM(' SPF-01'!$F$45:H45) -> 0 | I43: =SUM(' SPF-01'!$F$45:I45) -> 0 | J43: =SUM(' SPF-01'!$F$45:J45) -> 0 | K43: =SUM(' SPF-01'!$F$45:K45) -> 0 | L43: =SUM(' SPF-01'!$F$45:L45) -> 0 | M43: =SUM(' SPF-01'!$F$45:M45) -> 0 | N43: =SUM(' SPF-01'!$F$45:N45) -> 0 | ... Q43: =SUM(' SPF-01'!$F$45:Q45) -> 0
E44: Amortización deuda | F44: =+' SPF-01'!F46 -> 0 | G44: =SUM(' SPF-01'!$F$46:G46) -> 0 | H44: =SUM(' SPF-01'!$F$46:H46) -> 0 | I44: =SUM(' SPF-01'!$F$46:I46) -> 0 | J44: =SUM(' SPF-01'!$F$46:J46) -> 0 | K44: =SUM(' SPF-01'!$F$46:K46) -> 0 | L44: =SUM(' SPF-01'!$F$46:L46) -> 0 | M44: =SUM(' SPF-01'!$F$46:M46) -> 0 | N44: =SUM(' SPF-01'!$F$46:N46) -> 0 | ... Q44: =SUM(' SPF-01'!$F$46:Q46) -> 0
E45: Transferencias del Gobierno del Distrito Federal | F45: =F46+F47 -> 0 | G45: =G46+G47 -> 0 | H45: =H46+H47 -> 0 | I45: =I46+I47 -> 0 | J45: =J46+J47 -> 0 | K45: =K46+K47 -> 0 | L45: =L46+L47 -> 0 | M45: =M46+M47 -> 0 | ... Q45: =Q46+Q47 -> 0
E46: Corrientes | F46: =+' SPF-01'!F48 -> 0 | G46: =SUM(' SPF-01'!$F$48:G48) -> 0 | H46: =SUM(' SPF-01'!$F$48:H48) -> 0 | I46: =SUM(' SPF-01'!$F$48:I48) -> 0 | J46: =SUM(' SPF-01'!$F$48:J48) -> 0 | K46: =SUM(' SPF-01'!$F$48:K48) -> 0 | L46: =SUM(' SPF-01'!$F$48:L48) -> 0 | M46: =SUM(' SPF-01'!$F$48:M48) -> 0 | N46: =SUM(' SPF-01'!$F$48:N48) -> 0 | ... Q46: =SUM(' SPF-01'!$F$48:Q48) -> 0
E47: Capital | F47: =+' SPF-01'!F49 -> 0 | G47: =SUM(' SPF-01'!$F$49:G49) -> 0 | H47: =SUM(' SPF-01'!$F$49:H49) -> 0 | I47: =SUM(' SPF-01'!$F$49:I49) -> 0 | J47: =SUM(' SPF-01'!$F$49:J49) -> 0 | K47: =SUM(' SPF-01'!$F$49:K49) -> 0 | L47: =SUM(' SPF-01'!$F$49:L49) -> 0 | M47: =SUM(' SPF-01'!$F$49:M49) -> 0 | N47: =SUM(' SPF-01'!$F$49:N49) -> 0 | ... Q47: =SUM(' SPF-01'!$F$49:Q49) -> 0
E48: Ingresos Extraordinarios | F48: =+F49 -> 0 | G48: =+G49 -> 0 | H48: =+H49 -> 0 | I48: =+I49 -> 0 | J48: =+J49 -> 0 | K48: =+K49 -> 0 | L48: =+L49 -> 0 | M48: =+M49 -> 0 | ... Q48: =+Q49 -> 0
E49: Financiamiento Neto | F49: =+F50+F51 -> 0 | G49: =+G50+G51 -> 0 | H49: =+H50+H51 -> 0 | I49: =+I50+I51 -> 0 | J49: =+J50+J51 -> 0 | K49: =+K50+K51 -> 0 | L49: =+L50+L51 -> 0 | M49: =+M50+M51 -> 0 | ... Q49: =+Q50+Q51 -> 0
E50: Colocación | F50: =+' SPF-01'!F52 -> 0 | G50: =SUM(' SPF-01'!$F$52:G52) -> 0 | H50: =SUM(' SPF-01'!$F$52:H52) -> 0 | I50: =SUM(' SPF-01'!$F$52:I52) -> 0 | J50: =SUM(' SPF-01'!$F$52:J52) -> 0 | K50: =SUM(' SPF-01'!$F$52:K52) -> 0 | L50: =SUM(' SPF-01'!$F$52:L52) -> 0 | M50: =SUM(' SPF-01'!$F$52:M52) -> 0 | N50: =SUM(' SPF-01'!$F$52:N52) -> 0 | ... Q50: =SUM(' SPF-01'!$F$52:Q52) -> 0
E51: Amortización | F51: =+' SPF-01'!F53 -> 0 | G51: =SUM(' SPF-01'!$F$53:G53) -> 0 | H51: =SUM(' SPF-01'!$F$53:H53) -> 0 | I51: =SUM(' SPF-01'!$F$53:I53) -> 0 | J51: =SUM(' SPF-01'!$F$53:J53) -> 0 | K51: =SUM(' SPF-01'!$F$53:K53) -> 0 | L51: =SUM(' SPF-01'!$F$53:L53) -> 0 | M51: =SUM(' SPF-01'!$F$53:M53) -> 0 | N51: =SUM(' SPF-01'!$F$53:N53) -> 0 | ... Q51: =SUM(' SPF-01'!$F$53:Q53) -> 0
E54: NOTA: El formato es indicativo no limitativo, por lo que en caso de requerir más espacios, las entidades deberán elaborarlo en la misma presentación y con las mismas características.
E55: En caso de no contemplar todos los rubros señalados se pueden eliminar renglones sobrantes o inutilizados.
E58: Elaboró: _____________________________ | I58: Revisó: _________________________________ | O58: Autorizó: ___________________________________
E59: Nombre: | I59: Nombre: | O59: Nombre:
...

Sheet SPF-C01 Acumulado
E2: NO ELIMINAR
A4: - | E4: Calendario Original Acumulado de Ingresos Propios 2015
E5: Entidad | P5: SPF-C01
E6: Gobierno del Distrito Federal
E7: Mensual
E8: Pesos | F8: Enero | G8: =CONCATENATE($F$10,$A$4,G10) -> Enero-Febrero | H8: =CONCATENATE($F$10,$A$4,H10) -> Enero-Marzo | I8: =CONCATENATE($F$10,$A$4,I10) -> Enero-Abril | J8: =CONCATENATE($F$10,$A$4,J10) -> Enero-Mayo | K8: =CONCATENATE($F$10,$A$4,K10) -> Enero-Junio | L8: =CONCATENATE($F$10,$A$4,L10) -> Enero-Julio | M8: =CONCATENATE($F$10,$A$4,M10) -> Enero-Agosto | N8: =CONCATENATE($F$10,$A$4,N10) -> Enero-Septiembre | ... Q8: =CONCATENATE($F$10,$A$4,Q10) -> Enero-Diciembre
E10: Entidad | F10: Enero | G10: Febrero | H10: Marzo | I10: Abril | J10: Mayo | K10: Junio | L10: Julio | M10: Agosto | N10: Septiembre | O10: Octubre | P10: Noviembre | Q10: Diciembre
E11: Total | F11: =+F12+F39 -> 5333909 | G11: =+G12+G39 -> 13315743 | H11: =+H12+H39 -> 19936303 | I11: =+I12+I39 -> 27983788 | J11: =+J12+J39 -> 34646348 | K11: =+K12+K39 -> 42405193 | L11: =+L12+L39 -> 49158904 | M11: =+M12+M39 -> 56353817 | ... Q11: =+Q12+Q39 -> 88806148
E12: Ingresos Ordinarios | F12: =+F13+F29+F36+F26 -> 5333909 | G12: =+G13+G29+G36+G26 -> 13315743 | H12: =+H13+H29+H36+H26 -> 19936303 | I12: =+I13+I29+I36+I26 -> 27983788 | J12: =+J13+J29+J36+J26 -> 34646348 | K12: =+K13+K29+K36+K26 -> 42405193 | L12: =+L13+L29+L36+L26 -> 49158904 | M12: =+M13+M29+M36+M26 -> 56353817 | ... Q12: =+Q13+Q29+Q36+Q26 -> 88806148
E13: Ingresos Propios | F13: =+F14+F16+F18+F20+F23 -> 5333909 | G13: =+G14+G16+G18+G20+G23 -> 11143465 | H13: =+H14+H16+H18+H20+H23 -> 15591747 | I13: =+I14+I16+I18+I20+I23 -> 21466954 | J13: =+J14+J16+J18+J20+J23 -> 25957236 | K13: =+K14+K16+K18+K20+K23 -> 31543803 | L13: =+L14+L16+L18+L20+L23 -> 36125236 | M13: =+M14+M16+M18+M20+M23 -> 41147871 | ... Q13: =+Q14+Q16+Q18+Q20+Q23 -> 61911092
E14: Venta de Bienes | F14: =+'SPF-C01'!F14 -> 0 | G14: =SUM('SPF-C01'!$F$14:G14) -> 0 | H14: =SUM('SPF-C01'!$F$14:H14) -> 0 | I14: =SUM('SPF-C01'!$F$14:I14) -> 0 | J14: =SUM('SPF-C01'!$F$14:J14) -> 0 | K14: =SUM('SPF-C01'!$F$14:K14) -> 0 | L14: =SUM('SPF-C01'!$F$14:L14) -> 0 | M14: =SUM('SPF-C01'!$F$14:M14) -> 0 | N14: =SUM('SPF-C01'!$F$14:N14) -> 0 | ... Q14: =SUM('SPF-C01'!$F$14:Q14) -> 0
E16: Venta de Servicios | F16: =+'SPF-C01'!F16 -> 5152595 | G16: =SUM('SPF-C01'!$F$16:G16) -> 10771114 | H16: =SUM('SPF-C01'!$F$16:H16) -> 15032997 | I16: =SUM('SPF-C01'!$F$16:I16) -> 20722382 | J16: =SUM('SPF-C01'!$F$16:J16) -> 25024038 | K16: =SUM('SPF-C01'!$F$16:K16) -> 30420237 | L16: =SUM('SPF-C01'!$F$16:L16) -> 34818271 | M16: =SUM('SPF-C01'!$F$16:M16) -> 39652880 | N16: =SUM('SPF-C01'!$F$16:N16) -> 43785341 | ... Q16: =SUM('SPF-C01'!$F$16:Q16) -> 59655007
E18: Venta de Inversiones | F18: =+'SPF-C01'!F22 -> 171014 | G18: =SUM('SPF-C01'!$F$22:G22) -> 351751 | H18: =SUM('SPF-C01'!$F$22:H22) -> 527850 | I18: =SUM('SPF-C01'!$F$22:I22) -> 703372 | J18: =SUM('SPF-C01'!$F$22:J22) -> 881698 | K18: =SUM('SPF-C01'!$F$22:K22) -> 1061766 | L18: =SUM('SPF-C01'!$F$22:L22) -> 1234865 | M18: =SUM('SPF-C01'!$F$22:M22) -> 1412591 | N18: =SUM('SPF-C01'!$F$22:N22) -> 1582496 | ... Q18: =SUM('SPF-C01'!$F$22:Q22) -> 2132485
E20: Ingresos Diversos | F20: =+'SPF-C01'!F25 -> 10300 | G20: =SUM('SPF-C01'!$F$25:G25) -> 20600 | H20: =SUM('SPF-C01'!$F$25:H25) -> 30900 | I20: =SUM('SPF-C01'!$F$25:I25) -> 41200 | J20: =SUM('SPF-C01'!$F$25:J25) -> 51500 | K20: =SUM('SPF-C01'!$F$25:K25) -> 61800 | L20: =SUM('SPF-C01'!$F$25:L25) -> 72100 | M20: =SUM('SPF-C01'!$F$25:M25) -> 82400 | N20: =SUM('SPF-C01'!$F$25:N25) -> 92700 | ... Q20: =SUM('SPF-C01'!$F$25:Q25) -> 123600
E23: Operaciones Ajenas ( Netas ) | F23: =+'SPF-C01'!F27 -> 0 | G23: =SUM('SPF-C01'!$F$27:G27) -> 0 | H23: =SUM('SPF-C01'!$F$27:H27) -> 0 | I23: =SUM('SPF-C01'!$F$27:I27) -> 0 | J23: =SUM('SPF-C01'!$F$27:J27) -> 0 | K23: =SUM('SPF-C01'!$F$27:K27) -> 0 | L23: =SUM('SPF-C01'!$F$27:L27) -> 0 | M23: =SUM('SPF-C01'!$F$27:M27) -> 0 | N23: =SUM('SPF-C01'!$F$27:N27) -> 0 | ... Q23: =SUM('SPF-C01'!$F$27:Q27) -> 0
E24: Por cuenta de terceros
E25: Por erogaciones recuperables
E26: Remanente de Ejercicios Anteriores | F26: =+'SPF-C01'!F30 -> 0 | G26: =SUM('SPF-C01'!$F$30:G30) -> 0 | H26: =SUM('SPF-C01'!$F$30:H30) -> 0 | I26: =SUM('SPF-C01'!$F$30:I30) -> 0 | J26: =SUM('SPF-C01'!$F$30:J30) -> 0 | K26: =SUM('SPF-C01'!$F$30:K30) -> 0 | L26: =SUM('SPF-C01'!$F$30:L30) -> 0 | M26: =SUM('SPF-C01'!$F$30:M30) -> 0 | N26: =SUM('SPF-C01'!$F$30:N30) -> 0 | ... Q26: =SUM('SPF-C01'!$F$30:Q30) -> 0
E27: Remanente local | F27: =+'SPF-C01'!F31 -> 0 | G27: =SUM('SPF-C01'!F31:G31) -> 0 | H27: =SUM('SPF-C01'!G31:H31) -> 0 | I27: =SUM('SPF-C01'!H31:I31) -> 0 | J27: =SUM('SPF-C01'!I31:J31) -> 0 | K27: =SUM('SPF-C01'!J31:K31) -> 0 | L27: =SUM('SPF-C01'!K31:L31) -> 0 | M27: =SUM('SPF-C01'!L31:M31) -> 0 | N27: =SUM('SPF-C01'!M31:N31) -> 0 | ... Q27: =SUM('SPF-C01'!P31:Q31) -> 0
E28: Remanente Federal | F28: =+'SPF-C01'!F32 -> 0 | G28: =SUM('SPF-C01'!$F$32:G32) -> 0 | H28: =SUM('SPF-C01'!$F$32:H32) -> 0 | I28: =SUM('SPF-C01'!$F$32:I32) -> 0 | J28: =SUM('SPF-C01'!$F$32:J32) -> 0 | K28: =SUM('SPF-C01'!$F$32:K32) -> 0 | L28: =SUM('SPF-C01'!$F$32:L32) -> 0 | M28: =SUM('SPF-C01'!$F$32:M32) -> 0 | N28: =SUM('SPF-C01'!$F$32:N32) -> 0 | ... Q28: =SUM('SPF-C01'!$F$32:Q32) -> 0
E29: Aportaciones del GDF | F29: =+'SPF-C01'!F33 -> 0 | G29: =SUM('SPF-C01'!$F$33:G33) -> 2172278 | H29: =SUM('SPF-C01'!$F$33:H33) -> 4344556 | I29: =SUM('SPF-C01'!$F$33:I33) -> 6516834 | J29: =SUM('SPF-C01'!$F$33:J33) -> 8689112 | K29: =SUM('SPF-C01'!$F$33:K33) -> 10861390 | L29: =SUM('SPF-C01'!$F$33:L33) -> 13033668 | M29: =SUM('SPF-C01'!$F$33:M33) -> 15205946 | N29: =SUM('SPF-C01'!$F$33:N33) -> 17378224 | ... Q29: =SUM('SPF-C01'!$F$33:Q33) -> 26895056
