Workbook

Sheet SPF-A01
H3: Informe Analítico de Ingresos Totales 2015
H4: Entidad: 09PFRC FIDEICOMISO DE RECUPERACIÓN CREDITICIA DEL DISTRITO FEDERAL FIDERE III
H5: Programa vs Recaudación
H6: (Pesos)
U7: SPF-A01
A8: Enero | H8: Mes que se Reporta: | J8: Anual | N8: Mensual | S8: Acumulado en el periodo
A9: Febrero | H9: JUNIO
A10: Marzo | H10: Concepto | J10: 2014 | K10: 2015 | N10: 2014 | O10: 2015 | S10: 2014 | T10: 2015
A11: Abril | J11: Obtenido | K11: Programa Original | L11: Programa Modificado | N11: Obtenido | O11: Programado | Q11: Obtenido | S11: Obtenido | T11: Programado | V11: Obtenido
A12: Mayo | O12: Original | P12: Modificado | Q12: Importe | T12: Original | U12: Modificado
A13: Junio
A14: Julio
A15: Agosto | H15: Total de Ingresos | J15: =+J17+J53 -> 77099272 | K15: =+K17+K53 -> 83009201 | L15: =+L17+L53 -> 83080104 | M15: 0 | N15: =+N17+N53 -> 5958834.7 | O15: =+O17+O53 -> 6648346 | P15: =+P17+P53 -> 6648346 | Q15: =+Q17+Q53 -> 6266066.7 | S15: =+S17+S53 -> 33478869 | T15: =+T17+T53 -> 38497424 | U15: =+U17+U53 -> 38568327 | V15: =+V17+V53 -> 38744870
A16: Septiembre
A17: Octubre | H17: Ingresos Ordinarios | J17: =+J19+J43+J50 -> 77099272 | K17: =+K19+K43+K50 -> 83009201 | L17: =+L19+L43+L50 -> 83080104 | M17: =+M19+M43+M50 -> 0 | N17: =+N19+N43+N50 -> 5958834.7 | O17: =+O19+O43+O50 -> 6648346 | P17: =+P19+P43+P50 -> 6648346 | Q17: =+Q19+Q43+Q50 -> 6266066.7 | ... V17: =+V19+V43+V50 -> 38744870
A18: Noviembre
A19: Diciembre | H19: Ingresos Propios | J19: =SUM(J20,J22,J28,J31,J35) -> 63786658 | K19: =SUM(K20,K22,K28,K31,K35) -> 55356918 | L19: =SUM(L20,L22,L28,L31,L35) -> 55427821 | N19: =SUM(N20,N22,N28,N31,N35) -> 5542167.7 | O19: =SUM(O20,O22,O28,O31,O35) -> 4437813 | P19: =SUM(P20,P22,P28,P31,P35) -> 4437813 | Q19: =SUM(Q20,Q22,Q28,Q31,Q35) -> 4055533.7 | R19: =SUM(R20,R22,R28,R31,R35) -> 0 | S19: =SUM(S20,S22,S28,S31,S35) -> 30978869 | T19: =SUM(T20,T22,T28,T31,T35) -> 27494759 | U19: =SUM(U20,U22,U28,U31,U35) -> 27565662 | V19: =SUM(V20,V22,V28,V31,V35) -> 27742205
H20: Venta de Bienes | J20: 0 | K20: ='SPF-C01'!R16 -> 0 | L20: ='SPF-C01'!S16 -> 0 | N20: 0 | O20: {=SUM(IF($H$9='SPF-C01'!$F$12:$Q$12,'SPF-C01'!F16:Q16,0))} -> 0 | P20: 0 | Q20: 0 | S20: 0 | T20: {=SUM(IF($H$9='SPF-C01'!$F$12:$Q$12,'SPF-C01'!K16:V16,0))} -> 0 | U20: 0 | V20: 0
H22: Venta de Servicios | J22: =+J23+J24+J25+J26 -> 54594177 | K22: =+K23+K24+K25+K26 -> 53164640 | L22: =+L23+L24+L25+L26 -> 53164640 | N22: =+N23+N24+N25+N26 -> 4322112.3 | O22: =+O23+O24+O25+O26 -> 4265840 | P22: =+P23+P24+P25+P26 -> 4265840 | Q22: =+Q23+Q24+Q25+Q26 -> 3893596.9 | S22: =+S23+S24+S25+S26 -> 27751295 | T22: =+T23+T24+T25+T26 -> 26427470 | U22: =+U23+U24+U25+U26 -> 26427470 | V22: =+V23+V24+V25+V26 -> 26792092
H23: Intereses Cobrados | J23: 1663677.5 | K23: 0 | L23: 0 | N23: 147012.02 | O23: 0 | P23: 0 | Q23: 0 | S23: =762063.74+N23 -> 909075.76 | T23: 0 | U23: 0 | V23: 0
H24: Comisiones Cobradas | J24: 44136587 | K24: 44552380 | L24: 44552380 | N24: 3538487.5 | O24: 3550650 | P24: 3550650 | Q24: 3229915.4 | S24: =19074420.34+N24 -> 22612908 | T24: =18575370+O24 -> 22126020 | U24: =18575370+P24 -> 22126020 | V24: =19550479.42+Q24 -> 22780395
H25: Cuotas de Cobranza | J25: 2984320.8 | K25: 2348260 | L25: 2348260 | N25: 186146.55 | O25: 193190 | P25: 193190 | Q25: 224172.88 | S25: =1199241.45+N25 -> 1385388 | T25: =976260+O25 -> 1169450 | U25: =976260+P25 -> 1169450 | V25: =928721.71+Q25 -> 1152894.6
H26: Otros Ingresos | J26: 5809591.4 | K26: 6264000 | L26: 6264000 | N26: 450466.18 | O26: 522000 | P26: 522000 | Q26: 439508.59 | S26: =2393457.46+N26 -> 2843923.6 | T26: =2610000+O26 -> 3132000 | U26: =2610000+P26 -> 3132000 | V26: =2419294.23+Q26 -> 2858802.8
H28: Venta de Inversiones | J28: =+J29 -> 0 | K28: =+K29 -> 1998888 | L28: =+L29 -> 1998888 | N28: =+N29 -> 0 | O28: =+O29 -> 159823 | P28: =+P29 -> 159823 | Q28: =+Q29 -> 135154.23 | S28: =+S29 -> 0 | T28: =+T29 -> 994039 | U28: =+U29 -> 994039 | V28: =+V29 -> 769514.81
H29: Intereses Cobrados | J29: 0 | K29: 1998888 | L29: 1998888 | N29: 0 | O29: 159823 | P29: 159823 | Q29: 135154.23 | S29: 0 | T29: =834216+O29 -> 994039 | U29: =834216+P29 -> 994039 | V29: =634360.58+Q29 -> 769514.81
H31: Ingresos Diversos | J31: =+J32+J39 -> 9192481 | K31: =+K32+K39+K33 -> 193390 | L31: =+L32+L39+L33 -> 264292.57 | N31: =+N32+N39+N33 -> 1220055.4 | O31: =+O32+O39+O33 -> 12150 | P31: =+P32+P39+P33 -> 12150 | Q31: =+Q32+Q39+Q33 -> 26782.58 | S31: =+S32+S39+S33 -> 3227573.8 | T31: =+T32+T39+T33 -> 73250 | U31: =+U32+U39+U33 -> 144152.57 | V31: =+V32+V39+V33 -> 180597.62
H32: Recuperación de Carteras Propias. | J32: 254878.02 | K32: 193390 | L32: 193390 | N32: 19648.41 | O32: 12150 | P32: 12150 | Q32: 26782.58 | S32: =121926.4+N32 -> 141574.81 | T32: =61100+O32 -> 73250 | U32: =61100+P32 -> 73250 | V32: =82912.47+Q32 -> 109695.05
H33: Recuperación de Seguros por siniestro | J33: 0 | K33: 0 | L33: 70902.57 | N33: 0 | O33: 0 | P33: 0 | Q33: 0 | S33: 0 | T33: 0 | U33: 70902.57 | V33: 70902.57
H35: Operaciones Ajenas (netas)
H36: Por cuenta de terceros
H37: Por erogaciones recuperables
H39: Remanente de Ejercicios Anteriores | J39: =SUM(J40:J41) -> 8937603 | K39: =SUM(K40:K41) -> 0 | L39: =SUM(L40:L41) -> 0 | N39: =SUM(N40:N41) -> 1200407 | O39: =SUM(O40:O41) -> 0 | P39: =SUM(P40:P41) -> 0 | Q39: =SUM(Q40:Q41) -> 0 | S39: =SUM(S40:S41) -> 3085999 | T39: =SUM(T40:T41) -> 0 | U39: =SUM(U40:U41) -> 0 | V39: =SUM(V40:V41) -> 0
H40: Remanente local | J40: 8937603 | K40: 0 | L40: 0 | N40: 1200407 | O40: 0 | P40: 0 | Q40: 0 | S40: =1885592+N40 -> 3085999 | T40: 0 | U40: 0 | V40: 0
H41: Remanente Federal
H43: Aportaciones del GDF | J43: =+J44+J47 -> 13312614 | K43: =+K44+K47 -> 27652283 | L43: =+L44+L47 -> 27652283 | N43: =+N44+N47 -> 416667 | O43: =+O44+O47 -> 2210533 | P43: =+P44+P47 -> 2210533 | Q43: =+Q44+Q47 -> 2210533 | S43: =+S44+S47 -> 2500000 | T43: =+T44+T47 -> 11002665 | U43: =+U44+U47 -> 11002665 | V43: =+V44+V47 -> 11002665
H44: Corrientes | J44: =+J45 -> 13312614 | K44: =+K45 -> 27652283 | L44: =+L45 -> 27652283 | N44: =+N45 -> 416667 | O44: =+O45 -> 2210533 | P44: =+P45 -> 2210533 | Q44: =+Q45 -> 2210533 | S44: =+S45 -> 2500000 | T44: =+T45 -> 11002665 | U44: =+U45 -> 11002665 | V44: =+V45 -> 11002665
H45: Operación | J45: 13312614 | K45: 27652283 | L45: 27652283 | N45: 416667 | O45: 2210533 | P45: 2210533 | Q45: 2210533 | S45: =2083333+N45 -> 2500000 | T45: =8792132+O45 -> 11002665 | U45: =8792132+P45 -> 11002665 | V45: =8792132+Q45 -> 11002665
H46: Intereses de la deuda
H47: Capital
H48: Operación
...

Sheet SPF-A02
B4: Informe de Aplicación de los Ingresos Propios 2015
B5: Entidad: 09PFRC FIDEICOMISO DE RECUPERACIÓN CREDITICIA DEL DISTRITO FEDERAL FIDERE III
B6: Acumulado al mes de:JUNIO
B7: (Pesos) | M7: SPF-A02
B10: Entidad | D10: Ingresos Propios | H10: Aplicación de los Ingresos Propios | M10: Variación Ingreso Real vs. Suma del Gasto
D11: Programado al mes | E11: Ingreso Real | F11: Variación | H11: Gasto Corriente | I11: % | J11: Gasto de Capital | K11: % | L11: Suma del Gasto
F12: $ | G12: % | M12: $ | N12: %
B14: Entidad: 09 PF RC FIDEICOMISO DE RECUPERACIÓN CREDITICIA DEL DISTRITO FEDERAL FIDERE III | D14: 27565662 | E14: 27742205 | F14: =+E14-D14 -> 176543.12 | G14: =IF(D14=0,"n.a.",((E14/D14)-1)*100) -> 0.64044579 | H14: 19458935 | I14: =IF(L14=0, "n.a.",H14/L14) -> 1 | J14: 0 | K14: =IF(L14=0,"n.a.",J14/L14) -> 0 | L14: =+H14+J14 -> 19458935 | M14: =E14-L14 -> 8283269.3 | N14: =IF(L14=0,"n.a.",((E14/L14)-1)*100) -> 42.567947

Sheet SPF-A03
B4: CUADRO DE EXPLICACIÓN DE LAS VARIACIONES 2015
B5: ORGANISMO Ó EMPRESA: | E5: 09PFRC FIDEICOMISO DE RECUPERACIÓN CREDITICIA DEL DISTRITO FEDERAL FIDERE III
B6: PROGRAMA VS RECAUDACIÓN
B7: (PESOS)
B9: ACUMULADO AL MES DE: JUNIO | I9: SPF-A03
C11: CONCEPTO | D11: CIFRAS AL MES DE: | F11: VARIACIÓN 2015 | H11: EXPLICACIÓN A LAS VARIACIONES
D12: JUNIO | F12: VS. | G12: ABSOLUTA
G13: REL. NOM. %
B15: INGRESOS PROPIOS | C15: VENTA DE SERVICIOS | D15: PROG. ORIGINAL | E15: 26427470 | F15: Programa | G15: =+E16-E15 -> 364622.26 | H15: Se obtuvieron ingresos en venta de servicios por $364,622.26 siendo superior en un 1.38% por una mayor recaudación a lo esperado en las carteras bancarias y gubernamentales repercutiendo en las comisiones.
D16: OBTENIDO 2015 | E16: 26792092 | G16: =IF(E15=0,"n.a.",(E16/E15-1)*100) -> 1.3797093
D17: OBTENIDO 2014 | E17: 27751295 | F17: Recaudado en el ejercicio anterior | G17: =+E18-E17 -> -959203.02 | H17: Se tiene una variación de $959,203.02 que representa el 3.46% , por una captación menor de recursos en la recaudación a lo esperado en las carteras bancarias, y sociales principalmente en la cartera del Fondo para Desarrollo Social (Mypes) y (Microcréditos) , así como por el abatimiento de la cartera administrada por los finiquitos de los créditos que realizan los acreditados en forma anticipada al vencimiento del plazo y la reclasificación de los intereses cobrados a Venta de Inversiones por $909,075.76.
D18: OBTENIDO 2015 | E18: 26792092 | G18: =IF(E17=0,"n..a",(E18/E17-1)*100) -> -3.4564261
C19: INGRESOS DIVERSOS | D19: PROG. ORIGINAL | E19: 73250 | F19: Programa | G19: =+E20-E19 -> 107347.62 | H19: La diferencia de $107,347.62 que representa el 146.55%, es por una mayor recuperación de las carteras propias Renovación Habitación Popular( R.H.P)., Fondo de Desarrollo Económico Cartera Mypes Locales y Federales, Fondo para la Consolidación de la Micro Empresa (Focomi Mypes) , Cartera FONDECO D.F. propiedad de FIDERE, por las acciones de cobranza judicial, como recordatorios de pago, llamadas telefónicas, etc. y la incorporación de la recuperación de siniestros por $70,902.57 | J19: =70902.57+36445.05 -> 107347.62
D20: OBTENIDO 2015 | E20: 180597.62 | G20: =IF(E19=0,"n.a.",(E20/E19-1)*100) -> 146.54965
D21: OBTENIDO 2014 | E21: 3227573.8 | F21: Recaudado en el ejercicio anterior | G21: =+E22-E21 -> -3046976.2 | H21: La diferencia de $ 3,046,976.19 que representa el 94.40%, es por una menor recuperación de las carteras propias Renovación Habitación Popular( R.H.P)., Fondo de Desarrollo Económico Cartera Mypes Locales y Federales, Fondo para la Consolidación de la Micro Empresa (Focomi Mypes) , Cartera FONDECO D.F. propiedad de FIDERE, aun con las acciones de cobranza judicial, como recordatorios de pago, llamadas telefónicas, etc., la no utilización de Remanentes presupuestales como apoyo al gasto y menos la incorporación de la recuperación de siniestros por $70,902.57 | J21: =141574.81-109695.05 -> 31879.76
D22: OBTENIDO 2015 | E22: 180597.62 | G22: =IF(E21=0,"n.a.",(E22/E21-1)*100) -> -94.404539 | J22: 3085999 | K22: =+J21+J22-70902.57 -> 3046976.2
C23: VENTA DE INVERSIONES | D23: PROG. ORIGINAL | E23: 994039 | F23: Programa | G23: =+E24-E23 -> -224524.19 | H23: Se obtuvieron menores ingresos por $224,524.19 siendo el 22.59% en los intereses que dan las instituciones bancarias por la inversión sobre la recuperación de las carteras administradas, por la baja tasa de intereses y una menor captación de la recuperación de las carteras administradas.
D24: OBTENIDO 2015 | E24: 769514.81 | G24: =IF(E23=0,"n.a.",(E24/E23-1)*100) -> -22.58706
D25: OBTENIDO 2014 | E25: 0 | F25: Recaudado en el ejercicio anterior | G25: =+E26-E25 -> 769514.81 | H25: Este rubro se incluyo en el ejercicio 2015, derivado que los intereses se tenían considerado dentro de Venta de Servicios, obteniéndose un ingreso acumulado de $909,075.76 en junio de 2014 , contra los recursos captados en el 2015 por $769,514.81, existe una diferencia menor por $139,560.95 que representa el 15.35% por una disminución en la recuperación de las carteras administradas. | J25: =504635.53/617241.03*100 -> 81.756641 | K25: =100-J25 -> 18.243359
D26: OBTENIDO 2015 | E26: 769514.81 | G26: =IF(E25=0,"n.a.",(E26/E25-1)*100) -> n.a. | J26: 617241.03 | K26: 504635.53
B27: APORTACIONES | C27: CORRIENTES | D27: PROG. ORIGINAL | E27: 11002665 | F27: Programa | G27: =+E28-E27 -> 0
D28: OBTENIDO 2015 | E28: 11002665 | G28: =IF(E27=0,"n.a.",(E28/E27-1)*100) -> 0
D29: OBTENIDO 2014 | E29: 2500000 | F29: Recaudado en el ejercicio anterior | G29: =+E30-E29 -> 8502665 | H29: Se tiene una variación de $8,502,665.00 siendo superior en un 340.11% al año anterior por los recursos autorizados como apoyo a las finanzas del fideicomiso para cubrir sueldos y para fortalecer el fondo colateral de garantía, siendo solamente la participación de este fideicomiso como el ente encargado de dar seguimiento e instrumentar el convenio de Colaboración para Apoyar a los Acreditados Finales del Programa FOVI DDF (Banamex Banorte), firmado el día 27 de noviembre de 2006, entre la Sociedad Hipotecaria Federal, S.N.C. y el Gobierno del Distrito Federal, con el objeto reducir el riesgo de afectación de la garantía otorgada por el entonces Departamento del Distrito Federal.
D30: OBTENIDO 2015 | E30: 11002665 | G30: =IF(E29=0,"n.a.",(E30/E29-1)*100) -> 340.1066
C31: CAPITAL | D31: PROG. ORIGINAL | F31: Programa | G31: =+E32-E31 -> 0
D32: OBTENIDO 2015 | G32: =IF(E31=0,"n.a.",(E32/E31-1)*100) -> n.a.
D33: OBTENIDO 2014 | F33: Recaudado en el ejercicio anterior | G33: =+E34-E33 -> 0
D34: OBTENIDO 2015 | G34: =IF(E33=0,"n.a.",(E34/E33-1)*100) -> n.a.
B35: TRANSFERENCIAS | C35: CORRIENTES | D35: PROG. ORIGINAL | F35: Programa | G35: =+E36-E35 -> 0
D36: OBTENIDO 2014 | G36: =IF(E35=0,"n.a.",(E36/E35-1)*100) -> n.a.
D37: OBTENIDO 2013 | F37: Recaudado en el ejercicio anterior | G37: =+E38-E37 -> 0
D38: OBTENIDO 2014 | G38: =IF(E37=0,"n.a.",(E38/E37-1)*100) -> n.a.
C39: NOTA: El formato es indicativo no limitativo, por lo que en caso de requerir más espacios para el detalle, las entidades deberán elaborarlo en la misma presentación y con las mismas características.
C40: En caso de no contemplar todos los rubros señalados se pueden eliminar renglones sobrantes o inutilizados.
B44: FINANCIAMIENTO NETO | C44: VENTA DE BIENES | D44: PROG. ORIGINAL | F44: Programa | G44: =+E45-E44 -> 0
D45: OBTENIDO 2013 | G45: =IF(E44=0,"n.a.",(E45/E44-1)*100) -> n.a.
D46: OBTENIDO 2012 | F46: 2013 | G46: =+E47-E46 -> 0
D47: OBTENIDO 2013 | G47: =IF(E46=0,"n.a.",(E47/E46-1)*100) -> n.a.
C48: VENTA DE SERVICIOS | D48: PROG. ORIGINAL | F48: Programa | G48: =+E49-E48 -> 0
D49: OBTENIDO 2013 | G49: =IF(E48=0,"n.a.",(E49/E48-1)*100) -> n.a.
...

Sheet SPF-C01
E6: Calendario Original de Ingresos Propios 2015
E7: Entidad: 09PFRC FIDEICOMISO DE RECUPERACIÓN CREDITICIA DEL DISTRITO FEDERAL FIDERE III | P7: SPF-C01
E8: Gobierno del Distrito Federal
E9: Mensual
E10: Pesos
E12: Entidad | F12: Enero | G12: Febrero | H12: Marzo | I12: Abril | J12: Mayo | K12: Junio | L12: Julio | M12: Agosto | N12: Septiembre | O12: Octubre | P12: Noviembre | Q12: Diciembre | R12: Ene-dic
E13: Total | F13: =+F14+F45 -> 5015278 | G13: =+G14+G45 -> 6777004 | H13: =+H14+H45 -> 6808029 | I13: =+I14+I45 -> 6629133 | J13: =+J14+J45 -> 6619634 | K13: =+K14+K45 -> 6648346 | L13: =+L14+L45 -> 7048145 | M13: =+M14+M45 -> 6686839 | ... Q13: =+Q14+Q45 -> 10782093 | R13: =SUM(F13:Q13) -> 83009201
E14: Ingresos Ordinarios | F14: =+F15+F35+F42 -> 5015278 | G14: =+G15+G35+G42 -> 6777004 | H14: =+H15+H35+H42 -> 6808029 | I14: =+I15+I35+I42 -> 6629133 | J14: =+J15+J35+J42 -> 6619634 | K14: =+K15+K35+K42 -> 6648346 | L14: =+L15+L35+L42 -> 7048145 | M14: =+M15+M35+M42 -> 6686839 | ... Q14: =+Q15+Q35+Q42 -> 10782093 | R14: =SUM(F14:Q14) -> 83009201
E15: Ingresos Propios | F15: =+F16+F18+F23+F26+F29 -> 5015278 | G15: =+G16+G18+G23+G26+G29 -> 4616471 | H15: =+H16+H18+H23+H26+H29 -> 4597496 | I15: =+I16+I18+I23+I26+I29 -> 4418600 | J15: =+J16+J18+J23+J26+J29 -> 4409101 | K15: =+K16+K18+K23+K26+K29 -> 4437813 | L15: =+L16+L18+L23+L26+L29 -> 4837612 | M15: =+M16+M18+M23+M26+M29 -> 4476306 | ... Q15: =+Q16+Q18+Q23+Q26+Q29 -> 5185140 | R15: =SUM(F15:Q15) -> 55356918
E16: Venta de Bienes | F16: =SUM(F17:F17) -> 0 | G16: =SUM(G17:G17) -> 0 | H16: =SUM(H17:H17) -> 0 | I16: =SUM(I17:I17) -> 0 | J16: =SUM(J17:J17) -> 0 | K16: =SUM(K17:K17) -> 0 | L16: =SUM(L17:L17) -> 0 | M16: =SUM(M17:M17) -> 0 | ... Q16: =SUM(Q17:Q17) -> 0 | R16: =SUM(F16:Q16) -> 0
E18: Venta de Servicios | F18: =SUM(F19:F21) -> 4818510 | G18: =SUM(G19:G21) -> 4436810 | H18: =SUM(H19:H21) -> 4419240 | I18: =SUM(I19:I21) -> 4248280 | J18: =SUM(J19:J21) -> 4238790 | K18: =SUM(K19:K21) -> 4265840 | L18: =SUM(L19:L21) -> 4649010 | M18: =SUM(M19:M21) -> 4298890 | ... R18: =SUM(R19:R21) -> 53164640
E19: Comisiones Cobradas | F19: 4102950 | G19: 3718780 | H19: 3702480 | I19: 3530020 | J19: 3521140 | K19: 3550650 | L19: 3928670 | M19: 3583780 | N19: 3397270 | O19: 3806020 | P19: 3468780 | Q19: 4241840 | R19: =SUM(F19:Q19) -> 44552380
E20: Cuotas de Cobranza | F20: 193560 | G20: 196030 | H20: 194760 | I20: 196260 | J20: 195650 | K20: 193190 | L20: 198340 | M20: 193110 | N20: 194080 | O20: 194670 | P20: 202080 | Q20: 196530 | R20: =SUM(F20:Q20) -> 2348260
E21: Otros Ingresos | F21: 522000 | G21: 522000 | H21: 522000 | I21: 522000 | J21: 522000 | K21: 522000 | L21: 522000 | M21: 522000 | N21: 522000 | O21: 522000 | P21: 522000 | Q21: 522000 | R21: =SUM(F21:Q21) -> 6264000
E23: Venta de Inversiones | F23: =+F24 -> 184768 | G23: =+G24 -> 167161 | H23: =+H24 -> 165956 | I23: =+I24 -> 158220 | J23: =+J24 -> 158111 | K23: =+K24 -> 159823 | L23: =+L24 -> 176302 | M23: =+M24 -> 160326 | ... Q23: =+Q24 -> 190620 | R23: =SUM(F23:Q23) -> 1998888
E24: Intereses Cobrados | F24: 184768 | G24: 167161 | H24: 165956 | I24: 158220 | J24: 158111 | K24: 159823 | L24: 176302 | M24: 160326 | N24: 152118 | O24: 170146 | P24: 155337 | Q24: 190620 | R24: =SUM(F24:Q24) -> 1998888
E26: Ingresos Diversos | F26: =+F27+F32 -> 12000 | G26: =+G27+G32 -> 12500 | H26: =+H27+H32 -> 12300 | I26: =+I27+I32 -> 12100 | J26: =+J27+J32 -> 12200 | K26: =+K27+K32 -> 12150 | L26: =+L27+L32 -> 12300 | M26: =+M27+M32 -> 17090 | ... R26: =+R27+R32 -> 193390
E27: Recuperación de Carteras Propias. | F27: 12000 | G27: 12500 | H27: 12300 | I27: 12100 | J27: 12200 | K27: 12150 | L27: 12300 | M27: 17090 | N27: 12300 | O27: 15300 | P27: 29000 | Q27: 34150 | R27: =SUM(F27:Q27) -> 193390
E29: Operaciones Ajenas ( Netas ) | F29: =+F30+F31 -> 0 | G29: =+G30+G31 -> 0 | H29: =+H30+H31 -> 0 | I29: =+I30+I31 -> 0 | J29: =+J30+J31 -> 0 | K29: =+K30+K31 -> 0 | L29: =+L30+L31 -> 0 | M29: =+M30+M31 -> 0 | ... Q29: =+Q30+Q31 -> 0 | R29: =SUM(F29:Q29) -> 0
E30: Por cuenta de terceros | R30: =SUM(F30:Q30) -> 0
E31: Por erogaciones recuperables | R31: =SUM(F31:Q31) -> 0
E32: Remanente de Ejercicios Anteriores | F32: =SUM(F33:F34) -> 0 | G32: =SUM(G33:G34) -> 0 | H32: =SUM(H33:H34) -> 0 | I32: =SUM(I33:I34) -> 0 | J32: =SUM(J33:J34) -> 0 | K32: =SUM(K33:K34) -> 0 | L32: =SUM(L33:L34) -> 0 | M32: =SUM(M33:M34) -> 0 | ... Q32: =SUM(Q33:Q34) -> 0 | R32: =SUM(F32:Q32) -> 0
E33: Remanente local | F33: 0 | G33: 0 | H33: 0 | I33: 0 | J33: 0 | K33: 0 | L33: 0 | M33: 0 | N33: 0 | O33: 0 | P33: 0 | Q33: 0 | R33: =SUM(F33:Q33) -> 0
E34: Remanente Federal | F34: 0 | G34: 0 | H34: 0 | I34: 0 | J34: 0 | K34: 0 | L34: 0 | M34: 0 | N34: 0 | O34: 0 | P34: 0 | R34: =SUM(F34:Q34) -> 0
E35: Aportaciones del GDF | F35: =+F36+F39 -> 0 | G35: =+G36+G39 -> 2160533 | H35: =+H36+H39 -> 2210533 | I35: =+I36+I39 -> 2210533 | J35: =+J36+J39 -> 2210533 | K35: =+K36+K39 -> 2210533 | L35: =+L36+L39 -> 2210533 | M35: =+M36+M39 -> 2210533 | ... Q35: =+Q36+Q39 -> 5596953 | R35: =SUM(F35:Q35) -> 27652283
E36: Corrientes | F36: =+F37+F38 -> 0 | G36: =+G37+G38 -> 2160533 | H36: =+H37+H38 -> 2210533 | I36: =+I37+I38 -> 2210533 | J36: =+J37+J38 -> 2210533 | K36: =+K37+K38 -> 2210533 | L36: =+L37+L38 -> 2210533 | M36: =+M37+M38 -> 2210533 | ... Q36: =+Q37+Q38 -> 5596953 | R36: =SUM(F36:Q36) -> 27652283
E37: Operación | F37: 0 | G37: 2160533 | H37: 2210533 | I37: 2210533 | J37: 2210533 | K37: 2210533 | L37: 2210533 | M37: 2210533 | N37: 2210533 | O37: 2210533 | P37: 2210533 | Q37: 5596953 | R37: =SUM(F37:Q37) -> 27652283
E38: Intereses de la deuda | R38: =SUM(F38:Q38) -> 0
E39: Capital | F39: =+F40+F41 -> 0 | G39: =+G40+G41 -> 0 | H39: =+H40+H41 -> 0 | I39: =+I40+I41 -> 0 | J39: =+J40+J41 -> 0 | K39: =+K40+K41 -> 0 | L39: =+L40+L41 -> 0 | M39: =+M40+M41 -> 0 | ... Q39: =+Q40+Q41 -> 0 | R39: =SUM(F39:Q39) -> 0
E40: Operación | R40: =SUM(F40:Q40) -> 0
E41: Amortización deuda | R41: =SUM(F41:Q41) -> 0
E42: Transferencias del Gobierno Federal | F42: =+F43+F44 -> 0 | G42: =+G43+G44 -> 0 | H42: =+H43+H44 -> 0 | I42: =+I43+I44 -> 0 | J42: =+J43+J44 -> 0 | K42: =+K43+K44 -> 0 | L42: =+L43+L44 -> 0 | M42: =+M43+M44 -> 0 | ... Q42: =+Q43+Q44 -> 0 | R42: =SUM(F42:Q42) -> 0
E43: Corrientes | R43: =SUM(F43:Q43) -> 0
E44: Capital | R44: =SUM(F44:Q44) -> 0
E45: Ingresos Extraordinarios | F45: =+F46 -> 0 | G45: =+G46 -> 0 | H45: =+H46 -> 0 | I45: =+I46 -> 0 | J45: =+J46 -> 0 | K45: =+K46 -> 0 | L45: =+L46 -> 0 | M45: =+M46 -> 0 | ... R45: =+R46 -> 0
E46: Financiamiento Neto | F46: =+F47-F48 -> 0 | G46: =+G47-G48 -> 0 | H46: =+H47-H48 -> 0 | I46: =+I47-I48 -> 0 | J46: =+J47-J48 -> 0 | K46: =+K47-K48 -> 0 | L46: =+L47-L48 -> 0 | M46: =+M47-M48 -> 0 | ... Q46: =+Q47-Q48 -> 0 | R46: =SUM(F46:Q46) -> 0
E47: Colocación | F47: 0 | G47: 0 | H47: 0 | I47: 0 | J47: 0 | K47: 0 | L47: 0 | M47: 0 | N47: 0 | O47: 0 | P47: 0 | R47: =SUM(F47:Q47) -> 0
E48: Amortización | F48: 0 | G48: 0 | H48: 0 | I48: 0 | J48: 0 | K48: 0 | L48: 0 | M48: 0 | N48: 0 | O48: 0 | P48: 0 | R48: =SUM(F48:Q48) -> 0
E51: NOTA: El formato es indicativo no limitativo, por lo que en caso de requerir más espacios, las entidades deberán elaborarlo en la misma presentación y con las mismas características.
E52: En caso de no contemplar todos los rubros señalados se pueden eliminar renglones sobrantes o inutilizados.

Sheet SPF-C02
E6: Calendario Modificado de Ingresos Propios 2015
E7: Entidad: 09PFRC FIDEICOMISO DE RECUPERACIÓN CREDITICIA DEL DISTRITO FEDERAL FIDERE III | P7: SPF-C02
E8: Gobierno del Distrito Federal
E9: Mensual
E10: Pesos
E12: Entidad | F12: Enero | G12: Febrero | H12: Marzo | I12: Abril | J12: Mayo | K12: Junio | L12: Julio | M12: Agosto | N12: Septiembre | O12: Octubre | P12: Noviembre | Q12: Diciembre | R12: Ene-dic
E13: Total | F13: =+F14+F46 -> 5015278 | G13: =+G14+G46 -> 6777004 | H13: =+H14+H46 -> 6808029 | I13: =+I14+I46 -> 6629133 | J13: =+J14+J46 -> 6690536.6 | K13: =+K14+K46 -> 6648346 | L13: =+L14+L46 -> 7048145 | M13: =+M14+M46 -> 6686839 | ... Q13: =+Q14+Q46 -> 10782093 | R13: =SUM(F13:Q13) -> 83080104
E14: Ingresos Ordinarios | F14: =+F15+F36+F43 -> 5015278 | G14: =+G15+G36+G43 -> 6777004 | H14: =+H15+H36+H43 -> 6808029 | I14: =+I15+I36+I43 -> 6629133 | J14: =+J15+J36+J43 -> 6690536.6 | K14: =+K15+K36+K43 -> 6648346 | L14: =+L15+L36+L43 -> 7048145 | M14: =+M15+M36+M43 -> 6686839 | ... Q14: =+Q15+Q36+Q43 -> 10782093 | R14: =SUM(F14:Q14) -> 83080104
E15: Ingresos Propios | F15: =+F16+F18+F23+F26+F30 -> 5015278 | G15: =+G16+G18+G23+G26+G30 -> 4616471 | H15: =+H16+H18+H23+H26+H30 -> 4597496 | I15: =+I16+I18+I23+I26+I30 -> 4418600 | J15: =+J16+J18+J23+J26+J30 -> 4480003.6 | K15: =+K16+K18+K23+K26+K30 -> 4437813 | L15: =+L16+L18+L23+L26+L30 -> 4837612 | M15: =+M16+M18+M23+M26+M30 -> 4476306 | ... Q15: =+Q16+Q18+Q23+Q26+Q30 -> 5185140 | R15: =SUM(F15:Q15) -> 55427821
E16: Venta de Bienes | F16: =SUM(F17:F17) -> 0 | G16: =SUM(G17:G17) -> 0 | H16: =SUM(H17:H17) -> 0 | I16: =SUM(I17:I17) -> 0 | J16: =SUM(J17:J17) -> 0 | K16: =SUM(K17:K17) -> 0 | L16: =SUM(L17:L17) -> 0 | M16: =SUM(M17:M17) -> 0 | ... Q16: =SUM(Q17:Q17) -> 0 | R16: =SUM(F16:Q16) -> 0
E18: Venta de Servicios | F18: =SUM(F19:F21) -> 4818510 | G18: =SUM(G19:G21) -> 4436810 | H18: =SUM(H19:H21) -> 4419240 | I18: =SUM(I19:I21) -> 4248280 | J18: =SUM(J19:J21) -> 4238790 | K18: =SUM(K19:K21) -> 4265840 | L18: =SUM(L19:L21) -> 4649010 | M18: =SUM(M19:M21) -> 4298890 | ... R18: =SUM(R19:R21) -> 53164640
E19: Comisiones Cobradas | F19: 4102950 | G19: 3718780 | H19: 3702480 | I19: 3530020 | J19: 3521140 | K19: 3550650 | L19: 3928670 | M19: 3583780 | N19: 3397270 | O19: 3806020 | P19: 3468780 | Q19: 4241840 | R19: =SUM(F19:Q19) -> 44552380
E20: Cuotas de Cobranza | F20: 193560 | G20: 196030 | H20: 194760 | I20: 196260 | J20: 195650 | K20: 193190 | L20: 198340 | M20: 193110 | N20: 194080 | O20: 194670 | P20: 202080 | Q20: 196530 | R20: =SUM(F20:Q20) -> 2348260
E21: Otros Ingresos | F21: 522000 | G21: 522000 | H21: 522000 | I21: 522000 | J21: 522000 | K21: 522000 | L21: 522000 | M21: 522000 | N21: 522000 | O21: 522000 | P21: 522000 | Q21: 522000 | R21: =SUM(F21:Q21) -> 6264000
E23: Venta de Inversiones | F23: 184768 | G23: 167161 | H23: 165956 | I23: 158220 | J23: 158111 | K23: 159823 | L23: 176302 | M23: 160326 | N23: 152118 | O23: 170146 | P23: 155337 | Q23: 190620 | R23: =SUM(F23:Q23) -> 1998888
E24: Intereses Cobrados | F24: 184768 | G24: 167161 | H24: 165956 | I24: 158220 | J24: 158111 | K24: 159823 | L24: 176302 | M24: 160326 | N24: 152118 | O24: 170146 | P24: 155337 | Q24: 190620
E26: Ingresos Diversos | F26: =+F27+F34+F28 -> 12000 | G26: =+G27+G34+G28 -> 12500 | H26: =+H27+H34+H28 -> 12300 | I26: =+I27+I34+I28 -> 12100 | J26: =+J27+J34+J28 -> 83102.57 | K26: =+K27+K34+K28 -> 12150 | L26: =+L27+L34+L28 -> 12300 | M26: =+M27+M34+M28 -> 17090 | ... R26: =+R27+R34+R28 -> 264292.57
E27: Recuperación de Carteras Propias. | F27: 12000 | G27: 12500 | H27: 12300 | I27: 12100 | J27: 12200 | K27: 12150 | L27: 12300 | M27: 17090 | N27: 12300 | O27: 15300 | P27: 29000 | Q27: 34150 | R27: =SUM(F27:Q27) -> 193390
E28: Recuperación de Seguros por siniestro | F28: 0 | G28: 0 | H28: 0 | I28: 0 | J28: 70902.57 | K28: 0 | L28: 0 | M28: 0 | N28: 0 | O28: 0 | P28: 0 | Q28: 0 | R28: =SUM(F28:Q28) -> 70902.57
E30: Operaciones Ajenas ( Netas ) | F30: =+F31+F32 -> 0 | G30: =+G31+G32 -> 0 | H30: =+H31+H32 -> 0 | I30: =+I31+I32 -> 0 | J30: =+J31+J32 -> 0 | K30: =+K31+K32 -> 0 | L30: =+L31+L32 -> 0 | M30: =+M31+M32 -> 0 | ... Q30: =+Q31+Q32 -> 0 | R30: =SUM(F30:Q30) -> 0
E31: Por cuenta de terceros | R31: =SUM(F31:Q31) -> 0
E32: Por erogaciones recuperables | R32: =SUM(F32:Q32) -> 0
E33: Remanente de Ejercicios Anteriores | F33: =SUM(F34:F35) -> 0 | G33: =SUM(G34:G35) -> 0 | H33: =SUM(H34:H35) -> 0 | I33: =SUM(I34:I35) -> 0 | J33: =SUM(J34:J35) -> 0 | K33: =SUM(K34:K35) -> 0 | L33: =SUM(L34:L35) -> 0 | M33: =SUM(M34:M35) -> 0 | ... Q33: =SUM(Q34:Q35) -> 0 | R33: =SUM(F33:Q33) -> 0
E34: Remanente local | F34: 0 | G34: 0 | H34: 0 | I34: 0 | J34: 0 | K34: 0 | L34: 0 | M34: 0 | N34: 0 | O34: 0 | P34: 0 | Q34: 0 | R34: =SUM(F34:Q34) -> 0
E35: Remanente Federal | F35: 0 | G35: 0 | H35: 0 | I35: 0 | J35: 0 | K35: 0 | L35: 0 | M35: 0 | N35: 0 | O35: 0 | P35: 0 | R35: =SUM(F35:Q35) -> 0
E36: Aportaciones del GDF | F36: =+F37+F40 -> 0 | G36: =+G37+G40 -> 2160533 | H36: =+H37+H40 -> 2210533 | I36: =+I37+I40 -> 2210533 | J36: =+J37+J40 -> 2210533 | K36: =+K37+K40 -> 2210533 | L36: =+L37+L40 -> 2210533 | M36: =+M37+M40 -> 2210533 | ... Q36: =+Q37+Q40 -> 5596953 | R36: =SUM(F36:Q36) -> 27652283
E37: Corrientes | F37: =+F38+F39 -> 0 | G37: =+G38+G39 -> 2160533 | H37: =+H38+H39 -> 2210533 | I37: =+I38+I39 -> 2210533 | J37: =+J38+J39 -> 2210533 | K37: =+K38+K39 -> 2210533 | L37: =+L38+L39 -> 2210533 | M37: =+M38+M39 -> 2210533 | ... Q37: =+Q38+Q39 -> 5596953 | R37: =SUM(F37:Q37) -> 27652283
E38: Operación | F38: 0 | G38: 2160533 | H38: 2210533 | I38: 2210533 | J38: 2210533 | K38: 2210533 | L38: 2210533 | M38: 2210533 | N38: 2210533 | O38: 2210533 | P38: 2210533 | Q38: 5596953 | R38: =SUM(F38:Q38) -> 27652283
E39: Intereses de la deuda | R39: =SUM(F39:Q39) -> 0
E40: Capital | F40: =+F41+F42 -> 0 | G40: =+G41+G42 -> 0 | H40: =+H41+H42 -> 0 | I40: =+I41+I42 -> 0 | J40: =+J41+J42 -> 0 | K40: =+K41+K42 -> 0 | L40: =+L41+L42 -> 0 | M40: =+M41+M42 -> 0 | ... Q40: =+Q41+Q42 -> 0 | R40: =SUM(F40:Q40) -> 0
E41: Operación | R41: =SUM(F41:Q41) -> 0
E42: Amortización deuda | R42: =SUM(F42:Q42) -> 0
E43: Transferencias del Gobierno Federal | F43: =+F44+F45 -> 0 | G43: =+G44+G45 -> 0 | H43: =+H44+H45 -> 0 | I43: =+I44+I45 -> 0 | J43: =+J44+J45 -> 0 | K43: =+K44+K45 -> 0 | L43: =+L44+L45 -> 0 | M43: =+M44+M45 -> 0 | ... Q43: =+Q44+Q45 -> 0 | R43: =SUM(F43:Q43) -> 0
E44: Corrientes | R44: =SUM(F44:Q44) -> 0
E45: Capital | R45: =SUM(F45:Q45) -> 0
E46: Ingresos Extraordinarios | F46: =+F47 -> 0 | G46: =+G47 -> 0 | H46: =+H47 -> 0 | I46: =+I47 -> 0 | J46: =+J47 -> 0 | K46: =+K47 -> 0 | L46: =+L47 -> 0 | M46: =+M47 -> 0 | ... R46: =+R47 -> 0
E47: Financiamiento Neto | F47: =+F48-F49 -> 0 | G47: =+G48-G49 -> 0 | H47: =+H48-H49 -> 0 | I47: =+I48-I49 -> 0 | J47: =+J48-J49 -> 0 | K47: =+K48-K49 -> 0 | L47: =+L48-L49 -> 0 | M47: =+M48-M49 -> 0 | ... Q47: =+Q48-Q49 -> 0 | R47: =SUM(F47:Q47) -> 0
E48: Colocación | F48: 0 | G48: 0 | H48: 0 | I48: 0 | J48: 0 | K48: 0 | L48: 0 | M48: 0 | N48: 0 | O48: 0 | P48: 0 | R48: =SUM(F48:Q48) -> 0
E49: Amortización | F49: 0 | G49: 0 | H49: 0 | I49: 0 | J49: 0 | K49: 0 | L49: 0 | M49: 0 | N49: 0 | O49: 0 | P49: 0 | R49: =SUM(F49:Q49) -> 0
E52: NOTA: El formato es indicativo no limitativo, por lo que en caso de requerir más espacios, las entidades deberán elaborarlo en la misma presentación y con las mismas características.
...

Sheet SPF-01
E4: Ingresos Obtenidos 2015
E5: Entidad: 09PFRC FIDEICOMISO DE RECUPERACIÓN CREDITICIA DEL DISTRITO FEDERAL FIDERE III | P5: SPF-01
E6: Gobierno del Distrito Federal
E7: Mensual
E8: Pesos
E10: Entidad | F10: Enero | G10: Febrero | H10: Marzo | I10: Abril | J10: Mayo | K10: Junio | L10: Julio | M10: Agosto | N10: Septiembre | O10: Octubre | P10: Noviembre | Q10: Diciembre | R10: Ene-dic
E11: Total | F11: =+F12+F47 -> 5192843.9 | G11: =+G12+G47 -> 6709973.7 | H11: =+H12+H47 -> 6846626.9 | I11: =+I12+I47 -> 6866847 | J11: =+J12+J47 -> 6862511.5 | K11: =+K12+K47 -> 6266066.7 | L11: =+L12+L47 -> 0 | M11: =+M12+M47 -> 0 | ... Q11: =+Q12+Q47 -> 0 | R11: =SUM(F11:Q11) -> 38744870 | S11: =+R11-'SPF-A01'!V15 -> 0
E12: Ingresos Ordinarios | F12: =+F13+F37+F44 -> 5192843.9 | G12: =+G13+G37+G44 -> 6709973.7 | H12: =+H13+H37+H44 -> 6846626.9 | I12: =+I13+I37+I44 -> 6866847 | J12: =+J13+J37+J44 -> 6862511.5 | K12: =+K13+K37+K44 -> 6266066.7 | L12: =+L13+L37+L44 -> 0 | M12: =+M13+M37+M44 -> 0 | ... Q12: =+Q13+Q37+Q44 -> 0 | R12: =SUM(F12:Q12) -> 38744870
E13: Ingresos Propios | F13: =F15+F17+F22+F25+F29 -> 5192843.9 | G13: =G15+G17+G22+G25+G29 -> 4549440.7 | H13: =H15+H17+H22+H25+H29 -> 4636093.9 | I13: =I15+I17+I22+I25+I29 -> 4656314 | J13: =J15+J17+J22+J25+J29 -> 4651978.5 | K13: =K15+K17+K22+K25+K29 -> 4055533.7 | L13: =L15+L17+L22+L25+L29 -> 0 | M13: =M15+M17+M22+M25+M29 -> 0 | ... Q13: =Q15+Q17+Q22+Q25+Q29 -> 0 | R13: =SUM(F13:Q13) -> 27742205
E15: Venta de Bienes
E17: Venta de Servicios | F17: =SUM(F18:F20) -> 5054405.7 | G17: =SUM(G18:G20) -> 4417213.8 | H17: =SUM(H18:H20) -> 4489244.8 | I17: =SUM(I18:I20) -> 4496265.8 | J17: =SUM(J18:J20) -> 4441365.3 | K17: =SUM(K18:K20) -> 3893596.9 | L17: =SUM(L18:L20) -> 0 | M17: =SUM(M18:M20) -> 0 | ... R17: =SUM(R18:R20) -> 26792092
E18: Comisiones Cobradas | F18: 4322282.6 | G18: 3908068.3 | H18: 3658650.9 | I18: 3858320.2 | J18: 3803157.4 | K18: 3229915.4 | R18: =SUM(F18:Q18) -> 22780395
E19: Cuotas de Cobranza | F19: 203599.03 | G19: 38119.36 | H19: 360890.86 | I19: 203524.54 | J19: 122587.92 | K19: 224172.88 | R19: =SUM(F19:Q19) -> 1152894.6
E20: Otros Ingresos | F20: 528524.09 | G20: 471026.16 | H20: 469702.96 | I20: 434421 | J20: 515620.02 | K20: 439508.59 | R20: =SUM(F20:Q20) -> 2858802.8
E22: Venta de Inversiones | F22: =+F23 -> 131605.72 | G22: =+G23 -> 103239.42 | H22: =+H23 -> 140345.42 | I22: =+I23 -> 129444.97 | J22: =+J23 -> 129725.05 | K22: =+K23 -> 135154.23 | L22: =+L23 -> 0 | M22: =+M23 -> 0 | ... Q22: =+Q23 -> 0 | R22: =SUM(F22:Q22) -> 769514.81
E23: Intereses Cobrados | F23: 131605.72 | G23: 103239.42 | H23: 140345.42 | I23: 129444.97 | J23: 129725.05 | K23: 135154.23 | R23: =SUM(F23:Q23) -> 769514.81
E25: Ingresos Diversos | F25: =SUM(F26:F27)+F33 -> 6832.5 | G25: =SUM(G26:G27)+G33 -> 28987.4 | H25: =SUM(H26:H27)+H33 -> 6503.71 | I25: =SUM(I26:I27)+I33 -> 30603.27 | J25: =SUM(J26:J27)+J33 -> 80888.16 | K25: =SUM(K26:K27)+K33 -> 26782.58 | L25: =SUM(L26:L27)+L33 -> 0 | M25: =SUM(M26:M27)+M33 -> 0 | ... Q25: =SUM(Q26:Q27)+Q33 -> 0 | R25: =SUM(F25:Q25) -> 180597.62
E26: Recuperación de Carteras Propias. | F26: 6832.5 | G26: 28987.4 | H26: 6503.71 | I26: 30603.27 | J26: 9985.59 | K26: 26782.58 | R26: =SUM(F26:Q26) -> 109695.05
E27: Recuperación de Seguros por siniestro | J27: 70902.57 | K27: 0
E29: Operaciones Ajenas ( Netas ) | F29: =F30+F31 -> 0 | G29: =G30+G31 -> 0 | H29: =H30+H31 -> 0 | I29: =I30+I31 -> 0 | J29: =J30+J31 -> 0 | K29: =K30+K31 -> 0 | L29: =L30+L31 -> 0 | M29: =M30+M31 -> 0 | ... Q29: =Q30+Q31 -> 0 | R29: =SUM(F29:Q29) -> 0
E30: Por cuenta de terceros
E31: Por erogaciones recuperables
E33: Remanente de ejercicios anteriores | F33: =SUM(F34:F35) -> 0 | G33: =SUM(G34:G35) -> 0 | H33: =SUM(H34:H35) -> 0 | I33: =SUM(I34:I35) -> 0 | J33: =SUM(J34:J35) -> 0 | K33: =SUM(K34:K35) -> 0 | L33: =SUM(L34:L35) -> 0 | M33: =SUM(M34:M35) -> 0 | ... Q33: =SUM(Q34:Q35) -> 0 | R33: =SUM(F33:Q33) -> 0
E34: Remanente local | P34: 0 | Q34: 0 | R34: =SUM(F34:Q34) -> 0
E35: Remanente Federal
E37: Aportaciones del GDF | F37: =F38+F41 -> 0 | G37: =G38+G41 -> 2160533 | H37: =H38+H41 -> 2210533 | I37: =I38+I41 -> 2210533 | J37: =J38+J41 -> 2210533 | K37: =K38+K41 -> 2210533 | L37: =L38+L41 -> 0 | M37: =M38+M41 -> 0 | ... Q37: =Q38+Q41 -> 0 | R37: =SUM(F37:Q37) -> 11002665
E38: Corrientes | F38: =F39+F40 -> 0 | G38: =G39+G40 -> 2160533 | H38: =H39+H40 -> 2210533 | I38: =I39+I40 -> 2210533 | J38: =J39+J40 -> 2210533 | K38: =K39+K40 -> 2210533 | L38: =L39+L40 -> 0 | M38: =M39+M40 -> 0 | ... Q38: =Q39+Q40 -> 0 | R38: =SUM(F38:Q38) -> 11002665
E39: Operación | F39: 0 | G39: 2160533 | H39: 2210533 | I39: 2210533 | J39: 2210533 | K39: 2210533 | L39: 0 | M39: 0 | N39: 0 | O39: 0 | P39: 0 | Q39: 0 | R39: =SUM(F39:Q39) -> 11002665
E40: Intereses de la deuda
E41: Capital | F41: =F42+F43 -> 0 | G41: =G42+G43 -> 0 | H41: =H42+H43 -> 0 | I41: =I42+I43 -> 0 | J41: =J42+J43 -> 0 | K41: =K42+K43 -> 0 | L41: =L42+L43 -> 0 | M41: =M42+M43 -> 0 | ... Q41: =Q42+Q43 -> 0 | R41: =SUM(F41:Q41) -> 0
E42: Operación
E43: Amortización deuda
E44: Transferencias del Gobierno del Distrito Federal | F44: =F45+F46 -> 0 | G44: =G45+G46 -> 0 | H44: =H45+H46 -> 0 | I44: =I45+I46 -> 0 | J44: =J45+J46 -> 0 | K44: =K45+K46 -> 0 | L44: =L45+L46 -> 0 | M44: =M45+M46 -> 0 | ... Q44: =Q45+Q46 -> 0 | R44: =SUM(F44:Q44) -> 0
E45: Corrientes
E46: Capital
E47: Ingresos Extraordinarios | F47: =+F48 -> 0 | G47: =+G48 -> 0 | H47: =+H48 -> 0 | I47: =+I48 -> 0 | J47: =+J48 -> 0 | K47: =+K48 -> 0 | L47: =+L48 -> 0 | M47: =+M48 -> 0 | ... Q47: =+Q48 -> 0 | R47: =SUM(F47:Q47) -> 0
E48: Financiamiento Neto | F48: =+F49+F50 -> 0 | G48: =+G49+G50 -> 0 | H48: =+H49+H50 -> 0 | I48: =+I49+I50 -> 0 | J48: =+J49+J50 -> 0 | K48: =+K49+K50 -> 0 | L48: =+L49+L50 -> 0 | M48: =+M49+M50 -> 0 | ... Q48: =+Q49+Q50 -> 0 | R48: =SUM(F48:Q48) -> 0
E49: Colocación | F49: 0 | G49: 0 | H49: 0 | I49: 0 | J49: 0 | K49: 0 | L49: 0 | M49: 0 | N49: 0 | O49: 0 | P49: 0 | Q49: 0 | R49: =SUM(F49:Q49) -> 0
E50: Amortización | F50: 0 | G50: 0 | H50: 0 | I50: 0 | J50: 0 | K50: 0 | L50: 0 | M50: 0 | N50: 0 | O50: 0 | P50: 0 | Q50: 0 | R50: =SUM(F50:Q50) -> 0
E53: NOTA: El formato es indicativo no limitativo, por lo que en caso de requerir más espacios, las entidades deberán elaborarlo en la misma presentación y con las mismas características.
...
