Workbook

Sheet Septiembre
A1: ORGANISMOS , EMPRESAS Y FIDEICOMISOS DEL GCDMX
A2: INFORME PRESUPUESTAL DE FLUJO DE EFECTIVO
A3: (PESOS CON DECIMALES)
A5: ENTIDAD: FIDEICOMISO DE RECUPERACIÓN CREDITICIA DE LA CIUDAD DE MÉXICO (FIDERE)
E7: ACUMULADO AL MES DE: | F7: 43008
A8: CONCEPTOS | C8: ORIGINAL | D8: MODIFICADO | E8: PROGRAMADO | F8: RECAUDADO | H8: 14241130
H9: 14241130
A11: DISPONIBILIDAD INICIAL | C11: 12150331 | D11: =+C11+14241129.68-1113000 -> 25278461 | E11: 0 | G11: =+H9+C11-G19 -> 25278461
B13: INGRESOS
A15: INGRESOS PROPIOS | C15: =SUM(C17:C21) -> 61911092 | D15: =SUM(D17:D21) -> 63024092 | E15: =SUM(E17:E21) -> 46573537 | F15: =SUM(F17:F21) -> 44008856 | G15: =+D15-C15 -> 1113000 | H15: =+F15-E15 -> -2564681.1
B17: VENTA DE BIENES
B18: VENTA DE SERVICIOS | C18: 59655007 | D18: 59655007 | E18: 43785341 | F18: 39142396 | G18: =+D18-C18 -> 0 | H18: =+F18-E18 -> -4642945.2 | I18: =+F18/E18*100 -> 89.39612
B19: INGRESOS DIVERSOS | C19: 123600 | D19: =123600+1113000 -> 1236600 | E19: 1205700 | F19: 1392749 | G19: =+D19-C19 -> 1113000 | H19: =+F19-E19 -> 187049 | I19: =+F19/E19*100 -> 115.51373
B20: VENTA DE INVERSIONES | C20: 2132485 | D20: 2132485 | E20: 1582496 | F20: 3473711.1 | G20: =+D20-C20 -> 0 | H20: =+F20-E20 -> 1891215.1 | I20: =+F20/E20*100 -> 219.50836
B21: OTROS
A23: OPERACIONES AJENAS | C23: =SUM(C25:C26) -> 0 | D23: =SUM(D25:D26) -> 0 | E23: 0 | F23: =SUM(F25:F26) -> 0
B25: POR CUENTA DE TERCEROS
B26: POR EROGACIONES RECUPERABLES
A28: APORTACIONES DEL GDF | C28: =SUM(C30:C31) -> 26895056 | D28: =SUM(D30:D31) -> 26895056 | E28: =SUM(E30:E31) -> 17378224 | F28: =SUM(F30:F31) -> 17378224 | G28: =+D28-C28 -> 0 | H28: =+F28-E28 -> 0 | I28: =+F28/E28*100 -> 100
H29: =+F29-E29 -> 0
B30: CORRIENTES | C30: =C100 -> 26895056 | D30: =D100 -> 26895056 | E30: =E100 -> 17378224 | F30: =F100 -> 17378224 | G30: =+D30-C30 -> 0 | H30: =+F30-E30 -> 0 | I30: =+F30/E30*100 -> 100
B31: CAPITAL | C31: =C114 -> 0 | D31: =D114 -> 0 | E31: =E112 -> 0 | F31: =F112 -> 0
A33: TRANSFERENCIAS DEL GOB. FED. | C33: =SUM(C35:C36) -> 0 | D33: =SUM(D35:D36) -> 0 | E33: =SUM(E35:E36) -> 0 | F33: =SUM(F35:F36) -> 0
B35: CORRIENTES
B36: CAPITAL
C38: =SUM(C40:C41) -> 0 | D38: =SUM(D40:D41) -> 0 | E38: =SUM(E40:E41) -> 0 | F38: =SUM(F40:F41) -> 0
A43: TOTAL DE INGRESOS | C43: =SUM(C15+C23+C33+C28+C38) -> 88806148 | D43: =SUM(D15+D23+D33+D28+D38) -> 89919148 | E43: =SUM(E15+E23+E33+E28+E38) -> 63951761 | F43: =SUM(F15+F23+F33+F28+F38) -> 61387080 | G43: =+D43-C43 -> 1113000 | H43: =+F43-E43 -> -2564681.1 | I43: =+F43/E43*100 -> 95.989663 | J43: =+D43-F43 -> 28532068 | K43: 26679234
K44: =+J43-K43 -> 1852834.4 | L44: 1852834.4
A46: CONCEPTOS | C46: ORIGINAL | D46: MODIFICADO | E46: PROGRAMADO | F46: EJERCIDO
A48: GASTO
A50: RECURSOS PROPIOS | C50: =SUM(C52+C59+C64+C68) -> 61911092 | D50: =SUM(D52+D59+D64+D68) -> 63024092 | E50: =SUM(E52+E59+E64+E68) -> 46148047 | F50: =SUM(F52+F59+F64+F68) -> 31881833 | G50: =+D50-C50 -> 1113000 | H50: =+E50-F50 -> 14266214 | I50: =+F50/E50*100 -> 69.085985
A52: GASTO CORRIENTE | C52: =SUM(C54:C57) -> 61911092 | D52: =SUM(D54:D57) -> 61891092 | E52: =SUM(E54:E57) -> 45015047 | F52: =SUM(F54:F57) -> 31881833 | G52: =+D52-C52 -> -20000 | H52: =+E52-F52 -> 13133214 | I52: =+F52/E52*100 -> 70.824835
B54: 1000 SERVICIOS PERSONALES | C54: ='[1]Analítico Septiembre'!R10+'[1]Analítico Septiembre'!R38+'[1]Analítico Septiembre'!R103-Septiembre!C102 -> 28786461 | D54: ='[1]Analítico Septiembre'!S10+'[1]Analítico Septiembre'!S38+'[1]Analítico Septiembre'!S103-Septiembre!D102 -> 28786461 | E54: ='[1]Analítico Septiembre'!T10+'[1]Analítico Septiembre'!T38+'[1]Analítico Septiembre'!T103-Septiembre!E102 -> 20145749 | F54: ='[1]Analítico Septiembre'!V10+'[1]Analítico Septiembre'!V38+'[1]Analítico Septiembre'!V103-Septiembre!F102 -> 14752416 | G54: =+D54-C54 -> 0 | H54: =+E54-F54 -> 5393333.2 | I54: =+F54/E54*100 -> 73.228431 | J54: 24869.2 | K54: 19941.8 | L54: =+J54-K54 -> 4927.4
B55: 2000 MATERIALES Y SUMINISTROS | C55: =+'[1]Analítico Septiembre'!R16+'[1]Analítico Septiembre'!R57+'[1]Analítico Septiembre'!R123 -> 1635100 | D55: =+'[1]Analítico Septiembre'!S16+'[1]Analítico Septiembre'!S57+'[1]Analítico Septiembre'!S123 -> 1635100 | E55: =+'[1]Analítico Septiembre'!T16+'[1]Analítico Septiembre'!T57+'[1]Analítico Septiembre'!T123 -> 1468954 | F55: =+'[1]Analítico Septiembre'!V16+'[1]Analítico Septiembre'!V57+'[1]Analítico Septiembre'!V123 -> 951680.64 | G55: =+D55-C55 -> 0 | H55: =+E55-F55 -> 517273.36 | I55: =+F55/E55*100 -> 64.786279 | J55: 1461.7 | K55: 593.3 | L55: =+J55-K55 -> 868.4
B56: 3000 SERVICIOS GENERALES | C56: =+'[1]Analítico Septiembre'!R12+'[1]Analítico Septiembre'!R19+'[1]Analítico Septiembre'!S79+'[1]Analítico Septiembre'!R151 -> 31489531 | D56: ='[1]Analítico Septiembre'!S12+'[1]Analítico Septiembre'!S19+'[1]Analítico Septiembre'!S79+'[1]Analítico Septiembre'!S151-D104 -> 31469531 | E56: =+'[1]Analítico Septiembre'!T12+'[1]Analítico Septiembre'!T19+'[1]Analítico Septiembre'!T79+'[1]Analítico Septiembre'!T151-E104 -> 23400344 | F56: =+'[1]Analítico Septiembre'!V12+'[1]Analítico Septiembre'!V19+'[1]Analítico Septiembre'!V79+'[1]Analítico Septiembre'!V151-F104 -> 16177736 | G56: =+D56-C56 -> -20000 | H56: =+E56-F56 -> 7222607.6 | I56: =+F56/E56*100 -> 69.134609 | L56: =+J56-K56 -> 0
B57: 4000 TRANSFERENCIAS, ASIGNACIONES, SUBSIDIOS Y OTRAS AYUDAS | L57: =+J57-K57 -> 0
L58: =+J58-K58 -> 0
A59: GASTO DE CAPITAL | C59: =SUM(C61:C62) -> 0 | D59: =SUM(D61:D62) -> 1133000 | E59: =SUM(E61:E62) -> 1133000 | F59: =SUM(F61:F62) -> 0 | G59: =+D59-C59 -> 1133000 | H59: =+E59-F59 -> 1133000 | I59: =+F59/E59*100 -> 0 | L59: =+J59-K59 -> 0
B61: 5000 BIENES MUEBLES, INMUEBLES E INTANGIBLES | C61: 0 | D61: ='[1]Analítico Septiembre'!S158 -> 1133000 | E61: ='[1]Analítico Septiembre'!T158 -> 1133000 | F61: ='[1]Analítico Septiembre'!V158 -> 0 | G61: =+D61-C61 -> 1133000 | H61: =+E61-F61 -> 1133000 | I61: =+F61/E61*100 -> 0
B62: 6000 OBRA PÚBLICA | C62: 0 | D62: 0 | E62: 0 | F62: 0
...

Sheet Analítico Septiembre
N1: GOBIERNO DE LA CIUDAD DE MÉXICO
N2: ESTADO DE DETALLE DEL PRESUPUESTO DE EGRESOS
N3: ANALITICO DE CLAVES
N4: (cifras en pesos)
N5: 09PFRC FIDEICOMISO DE RECUPERACIÓN CREDITICIA DE LA CIUDAD DE MÉXICO (FIDERE)
W6: Mes: | X6: 43008
A7: CENTRO GESTOR | D7: ÁREA FUNCIONAL | H7: FONDO | I7: FG | J7: FE | L7: OR | M7: POSICIÓN PRESUPUESTAL | N7: TG | O7: DI | P7: DG | Q7: PROYECTO DE INVERSIÓN | R7: ORIGINAL | S7: MODIFICADO | T7: PROGRAMADO ACUMULADO | U7: EJERCIDO | W7: DEVENGADO | X7: COMPROMETIDO | Y7: DISPONIBLE | Z7: COMPROMETIDO SALDO ANTERIOR | AA7: DEVENGADO ANTERIOR | AB7: EJERCIDO MENSUAL | AC7: DIFERENCIA
A8: S | B8: SB | C8: UR | D8: FI | E8: F | F8: SF | G8: AI | H8: FF | I8: FG | J8: FE | K8: AD | L8: OR | M8: PTDA | N8: TG | O8: DI | P8: DG | U8: MENSUAL | V8: AL PERIODO
A9: 9 | B9: PF | C9: RC | D9: 1 | E9: 2 | F9: 4 | G9: 306 | H9: 4 | I9: 1 | J9: 2 | K9: 7 | L9: 0 | M9: 1547 | N9: 1 | O9: 1 | P9: 0 | R9: 80000 | S9: 80000 | T9: 80000 | U9: 0 | V9: 57000 | W9: 0 | X9: 0 | Y9: =+S9-V9-X9-W9 -> 23000 | Z9: 0 | AB9: =+Z9-X9 -> 0 | AC9: =+U9-AB9+W9 -> 0
N10: CAPÍTULO 1000 | R10: =+R9 -> 80000 | S10: =+S9 -> 80000 | T10: =+T9 -> 80000 | U10: =+U9 -> 0 | V10: =+V9 -> 57000 | W10: =+W9 -> 0 | X10: =+X9 -> 0 | Y10: =+Y9 -> 23000 | Z10: =+Z9 -> 0 | AB10: =+AB9 -> 0 | AC10: =+AC9 -> 0
A11: 9 | B11: PF | C11: RC | D11: 1 | E11: 2 | F11: 4 | G11: 306 | H11: 4 | I11: 1 | J11: 2 | K11: 7 | L11: 0 | M11: 3341 | N11: 1 | O11: 1 | P11: 0 | R11: 35000 | S11: 35000 | T11: 0 | U11: 0 | V11: 0 | W11: 0 | X11: 0 | Y11: =+S11-V11-X11-W11 -> 35000 | Z11: 0 | AB11: =+Z11-X11 -> 0 | AC11: =+U11-AB11+W11 -> 0
N12: CAPÍTULO 3000 | R12: =+R11 -> 35000 | S12: =+S11 -> 35000 | T12: =+T11 -> 0 | U12: =+U11 -> 0 | V12: =+V11 -> 0 | W12: =+W11 -> 0 | X12: =+X11 -> 0 | Y12: =+Y11 -> 35000 | Z12: =+Z11 -> 0 | AB12: =+AB11 -> 0 | AC12: =+AC11 -> 0
A13: TOTAL CLASIFICACIÓN FUNCIONAL 1 2 4 3 0 6 | R13: =+R10+R12 -> 115000 | S13: =+S10+S12 -> 115000 | T13: =+T10+T12 -> 80000 | U13: =+U10+U12 -> 0 | V13: =+V10+V12 -> 57000 | W13: =+W10+W12 -> 0 | X13: =+X10+X12 -> 0 | Y13: =+Y10+Y12 -> 58000 | Z13: =+Z10+Z12 -> 0 | AB13: =+AB10+AB12 -> 0 | AC13: =+AC10+AC12 -> 0
A14: 9 | B14: PF | C14: RC | D14: 1 | E14: 7 | F14: 2 | G14: 301 | H14: 4 | I14: 1 | J14: 2 | K14: 7 | L14: 0 | M14: 2721 | N14: 1 | O14: 1 | P14: 0 | R14: 40000 | S14: 40000 | T14: 40000 | U14: 0 | V14: 0 | W14: 0 | X14: 0 | Y14: =+S14-V14-X14-W14 -> 40000 | Z14: 0 | AB14: =+Z14-X14 -> 0 | AC14: =+U14-AB14+W14 -> 0
A15: 9 | B15: PF | C15: RC | D15: 1 | E15: 7 | F15: 2 | G15: 301 | H15: 4 | I15: 1 | J15: 2 | K15: 7 | L15: 0 | M15: 2731 | N15: 1 | O15: 1 | P15: 0 | R15: 2000 | S15: 2000 | T15: 2000 | U15: 0 | V15: 888 | W15: 0 | X15: 0 | Y15: =+S15-V15-X15-W15 -> 1112 | Z15: 0 | AB15: =+Z15-X15 -> 0 | AC15: =+U15-AB15+W15 -> 0
N16: CAPÍTULO 2000 | R16: =SUM(R14:R15) -> 42000 | S16: =SUM(S14:S15) -> 42000 | T16: =SUM(T14:T15) -> 42000 | U16: =SUM(U14:U15) -> 0 | V16: =SUM(V14:V15) -> 888 | W16: =SUM(W14:W15) -> 0 | X16: =SUM(X14:X15) -> 0 | Y16: =SUM(Y14:Y15) -> 41112 | Z16: =SUM(Z14:Z15) -> 0 | AB16: =SUM(AB14:AB15) -> 0 | AC16: =SUM(AC14:AC15) -> 0
A17: 9 | B17: PF | C17: RC | D17: 1 | E17: 7 | F17: 2 | G17: 301 | H17: 4 | I17: 1 | J17: 2 | K17: 7 | L17: 0 | M17: 3341 | N17: 1 | O17: 1 | P17: 0 | R17: 60000 | S17: 60000 | T17: 0 | U17: 0 | V17: 0 | X17: 0 | Y17: =+S17-V17-X17-W17 -> 60000 | Z17: 0 | AB17: =+Z17-X17 -> 0 | AC17: =+U17-AB17 -> 0
A18: 9 | B18: PF | C18: RC | D18: 1 | E18: 7 | F18: 2 | G18: 301 | H18: 4 | I18: 1 | J18: 2 | K18: 7 | L18: 0 | M18: 3521 | N18: 1 | O18: 1 | P18: 0 | R18: 20000 | S18: 20000 | T18: 20000 | U18: 0 | V18: 0 | W18: 0 | X18: 0 | Y18: =+S18-V18-X18-W18 -> 20000 | Z18: 0 | AB18: =+Z18-X18 -> 0 | AC18: =+U18-AB18 -> 0
N19: CAPÍTULO 3000 | R19: =SUM(R17:R18) -> 80000 | S19: =SUM(S17:S18) -> 80000 | T19: =SUM(T17:T18) -> 20000 | U19: =SUM(U17:U18) -> 0 | V19: =SUM(V17:V18) -> 0 | W19: =SUM(W17:W18) -> 0 | X19: =SUM(X17:X18) -> 0 | Y19: =SUM(Y17:Y18) -> 80000 | Z19: =SUM(Z17:Z18) -> 0 | AB19: =SUM(AB17:AB18) -> 0 | AC19: =SUM(AC17:AC18) -> 0
A20: TOTAL CLASIFICACIÓN FUNCIONAL 1 7 2 3 0 1 | R20: =+R16+R19 -> 122000 | S20: =+S16+S19 -> 122000 | T20: =+T16+T19 -> 62000 | U20: =+U16+U19 -> 0 | V20: =+V16+V19 -> 888 | W20: =+W16+W19 -> 0 | X20: =+X16+X19 -> 0 | Y20: =+Y16+Y19 -> 121112 | Z20: =+Z16+Z19 -> 0 | AB20: =+AB16+AB19 -> 0 | AC20: =+AC16+AC19 -> 0
A21: 9 | B21: PF | C21: RC | D21: 1 | E21: 8 | F21: 5 | G21: 301 | H21: 4 | I21: 1 | J21: 2 | K21: 7 | L21: 0 | M21: 1131 | N21: 1 | O21: 1 | P21: 0 | R21: 1881000 | S21: 1881000 | T21: 1458000 | U21: 43463.4 | V21: 786003.99 | W21: 0 | X21: 1094996 | Y21: =+S21-V21-X21-W21 -> 0 | Z21: 1138459.4 | AB21: =+Z21-X21+AA21-W21 -> 43463.4 | AC21: =+U21-AB21 -> -1.3824319e-10
A22: 9 | B22: PF | C22: RC | D22: 1 | E22: 8 | F22: 5 | G22: 301 | H22: 1 | I22: 1 | J22: 1 | K22: 7 | L22: 0 | M22: 1131 | N22: 1 | O22: 1 | P22: 0 | R22: 5500034 | S22: 5500034 | T22: 4000024 | U22: 500003 | V22: 4000024 | W22: 0 | X22: 1500010 | Y22: =+S22-V22-X22-W22 -> 0 | Z22: 2000013 | AB22: =+Z22-X22+AA22-W22 -> 500003 | AC22: =+U22-AB22 -> 0
A23: 9 | B23: PF | C23: RC | D23: 1 | E23: 8 | F23: 5 | G23: 301 | H23: 4 | I23: 1 | J23: 2 | K23: 7 | L23: 0 | M23: 1321 | N23: 1 | O23: 1 | P23: 0 | R23: 313915 | S23: 313915 | T23: 306415 | U23: 0 | V23: 284356.56 | W23: 0 | X23: 29558.44 | Y23: =+S23-V23-X23-W23 -> 0 | Z23: 29558.44 | AB23: =+Z23-X23+AA23-W23 -> 0 | AC23: =+U23-AB23 -> 0
A24: 9 | B24: PF | C24: RC | D24: 1 | E24: 8 | F24: 5 | G24: 301 | H24: 4 | I24: 1 | J24: 2 | K24: 7 | L24: 0 | M24: 1323 | N24: 1 | O24: 1 | P24: 0 | R24: 599967 | S24: 599967 | T24: 100000 | U24: 0 | V24: 9782.14 | W24: 0 | X24: 590184.86 | Y24: =+S24-V24-X24-W24 -> 0 | Z24: 590184.86 | AB24: =+Z24-X24+AA24-W24 -> 0 | AC24: =+U24-AB24 -> 0
A25: 9 | B25: PF | C25: RC | D25: 1 | E25: 8 | F25: 5 | G25: 301 | H25: 1 | I25: 1 | J25: 1 | K25: 7 | L25: 0 | M25: 1323 | N25: 1 | O25: 1 | P25: 0 | R25: 1000000 | S25: 1000000 | T25: 0 | U25: 0 | V25: 0 | W25: 0 | X25: 1000000 | Y25: =+S25-V25-X25-W25 -> 0 | Z25: 1000000 | AB25: =+Z25-X25+AA25-W25 -> 0 | AC25: =+U25-AB25 -> 0
A26: 9 | B26: PF | C26: RC | D26: 1 | E26: 8 | F26: 5 | G26: 301 | H26: 4 | I26: 1 | J26: 2 | K26: 7 | L26: 0 | M26: 1331 | N26: 1 | O26: 1 | P26: 0 | R26: 5000 | S26: 5000 | T26: 5000 | U26: 0 | V26: 0 | W26: 0 | X26: 0 | Y26: =+S26-V26-X26-W26 -> 5000 | Z26: 0 | AB26: =+Z26-X26+AA26-W26 -> 0 | AC26: =+U26-AB26 -> 0
A27: 9 | B27: PF | C27: RC | D27: 1 | E27: 8 | F27: 5 | G27: 301 | H27: 4 | I27: 1 | J27: 2 | K27: 7 | L27: 0 | M27: 1412 | N27: 1 | O27: 1 | P27: 0 | R27: 1183302 | S27: 1183302 | T27: 937481 | U27: 98609 | V27: 788872 | W27: 0 | X27: 394430 | Y27: =+S27-V27-X27-W27 -> 0 | Z27: 493039 | AB27: =+Z27-X27+AA27-W27 -> 98609 | AC27: =+U27-AB27 -> 0
A28: 9 | B28: PF | C28: RC | D28: 1 | E28: 8 | F28: 5 | G28: 301 | H28: 4 | I28: 1 | J28: 2 | K28: 7 | L28: 0 | M28: 1422 | N28: 1 | O28: 1 | P28: 0 | R28: 607569 | S28: 607569 | T28: 485679 | U28: 101262 | V28: 405048 | W28: 0 | X28: 202521 | Y28: =+S28-V28-X28-W28 -> 0 | Z28: 303783 | AB28: =+Z28-X28+AA28-W28 -> 101262 | AC28: =+U28-AB28 -> 0
A29: 9 | B29: PF | C29: RC | D29: 1 | E29: 8 | F29: 5 | G29: 301 | H29: 4 | I29: 1 | J29: 2 | K29: 7 | L29: 0 | M29: 1431 | N29: 1 | O29: 1 | P29: 0 | R29: 762500 | S29: 762500 | T29: 601878 | U29: 127084 | V29: 508336 | W29: 0 | X29: 254164 | Y29: =+S29-V29-X29-W29 -> 0 | Z29: 381248 | AB29: =+Z29-X29+AA29-W29 -> 127084 | AC29: =+U29-AB29 -> 0
A30: 9 | B30: PF | C30: RC | D30: 1 | E30: 8 | F30: 5 | G30: 301 | H30: 4 | I30: 1 | J30: 2 | K30: 7 | L30: 0 | M30: 1441 | N30: 1 | O30: 1 | P30: 0 | R30: 355980 | S30: 355980 | T30: 266985 | U30: 29665 | V30: 195862.1 | W30: 0 | X30: 7797.9 | Y30: =+S30-V30-X30-W30 -> 152320 | Z30: 7797.9 | AB30: =+Z30-X30+AA30-W30 -> 0 | AC30: =+U30-AB30 -> 29665
A31: 9 | B31: PF | C31: RC | D31: 1 | E31: 8 | F31: 5 | G31: 301 | H31: 4 | I31: 1 | J31: 2 | K31: 7 | L31: 0 | M31: 1511 | N31: 1 | O31: 1 | P31: 0 | R31: 306211 | S31: 306211 | T31: 229662 | U31: 24340.02 | V31: 209115.52 | W31: 0 | X31: 97095.48 | Y31: =+S31-V31-X31-W31 -> 0 | Z31: 121435.5 | AB31: =+Z31-X31+AA31-W31 -> 24340.02 | AC31: =+U31-AB31 -> 0
A32: 9 | B32: PF | C32: RC | D32: 1 | E32: 8 | F32: 5 | G32: 301 | H32: 4 | I32: 1 | J32: 2 | K32: 7 | L32: 0 | M32: 1541 | N32: 1 | O32: 1 | P32: 18 | R32: 471796 | S32: 471796 | T32: 0 | U32: 0 | V32: 0 | W32: 0 | X32: 0 | Y32: =+S32-V32-X32-W32 -> 471796 | Z32: 0 | AB32: =+Z32-X32+AA32-W32 -> 0 | AC32: =+U32-AB32 -> 0
... A37: 9 | B37: PF | C37: RC | D37: 1 | E37: 8 | F37: 5 | G37: 301 | H37: 1 | I37: 1 | J37: 1 | K37: 7 | L37: 0 | M37: 1591 | N37: 1 | O37: 1 | P37: 0 | R37: 2000000 | S37: 2000000 | T37: 1454544 | U37: 181818 | V37: 1454544 | W37: 0 | X37: 545456 | Y37: =+S37-V37-X37-W37 -> 0 | Z37: 727274 | AB37: =+Z37-X37+AA37-W37 -> 181818 | AC37: =+U37-AB37 -> 0
N38: CAPÍTULO 1000 | R38: =SUM(R21:R37) -> 17048698 | S38: =SUM(S21:S37) -> 17048698 | T38: =SUM(T21:T37) -> 11507162 | U38: =SUM(U21:U37) -> 1241572.4 | V38: =SUM(V21:V37) -> 10075645 | W38: =SUM(W21:W37) -> 0 | X38: =SUM(X21:X37) -> 6237049.2 | Y38: =SUM(Y21:Y37) -> 736003.94 | ... AC38: =SUM(AC21:AC37) -> 29665
A39: 9 | B39: PF | C39: RC | D39: 1 | E39: 8 | F39: 5 | G39: 301 | H39: 4 | I39: 1 | J39: 2 | K39: 7 | L39: 0 | M39: 2111 | N39: 1 | O39: 1 | P39: 0 | R39: 185000 | S39: 185000 | T39: 170000 | U39: 0 | V39: 156570.17 | W39: 0 | X39: 0 | Y39: =+S39-V39-X39-W39 -> 28429.83 | Z39: 0 | AB39: =+Z39-X39+AA39-W39 -> 0 | AC39: =+U39-AB39 -> 0
A40: 9 | B40: PF | C40: RC | D40: 1 | E40: 8 | F40: 5 | G40: 301 | H40: 4 | I40: 1 | J40: 2 | K40: 7 | L40: 0 | M40: 2121 | N40: 1 | O40: 1 | P40: 0 | R40: 1500 | S40: 1500 | T40: 1500 | U40: 0 | V40: 0 | W40: 0 | X40: 0 | Y40: =+S40-V40-X40-W40 -> 1500 | Z40: 0 | AB40: =+Z40-X40+AA40-W40 -> 0 | AC40: =+U40-AB40 -> 0
A41: 9 | B41: PF | C41: RC | D41: 1 | E41: 8 | F41: 5 | G41: 301 | H41: 4 | I41: 1 | J41: 2 | K41: 7 | L41: 0 | M41: 2141 | N41: 1 | O41: 1 | P41: 0 | R41: 125000 | S41: 125000 | T41: 125000 | U41: 0 | V41: 121201.07 | W41: 0 | X41: 0 | Y41: =+S41-V41-X41-W41 -> 3798.93 | Z41: 0 | AB41: =+Z41-X41+AA41-W41 -> 0 | AC41: =+U41-AB41 -> 0
A42: 9 | B42: PF | C42: RC | D42: 1 | E42: 8 | F42: 5 | G42: 301 | H42: 4 | I42: 1 | J42: 2 | K42: 7 | L42: 0 | M42: 2151 | N42: 1 | O42: 1 | P42: 0 | R42: 17000 | S42: 17000 | T42: 17000 | U42: 0 | V42: 13907.3 | W42: 0 | X42: 0 | Y42: =+S42-V42-X42-W42 -> 3092.7 | Z42: 0 | AB42: =+Z42-X42+AA42-W42 -> 0 | AC42: =+U42-AB42 -> 0
A43: 9 | B43: PF | C43: RC | D43: 1 | E43: 8 | F43: 5 | G43: 301 | H43: 4 | I43: 1 | J43: 2 | K43: 7 | L43: 0 | M43: 2161 | N43: 1 | O43: 1 | P43: 0 | R43: 3000 | S43: 3000 | T43: 2250 | U43: 0 | V43: 293.08 | W43: 0 | X43: 0 | Y43: =+S43-V43-X43-W43 -> 2706.92 | Z43: 0 | AB43: =+Z43-X43+AA43-W43 -> 0 | AC43: =+U43-AB43 -> 0
A44: 9 | B44: PF | C44: RC | D44: 1 | E44: 8 | F44: 5 | G44: 301 | H44: 4 | I44: 1 | J44: 2 | K44: 7 | L44: 0 | M44: 2211 | N44: 1 | O44: 1 | P44: 0 | R44: 12000 | S44: 12000 | T44: 9000 | U44: 0 | V44: 1566.76 | W44: 0 | X44: 0 | Y44: =+S44-V44-X44-W44 -> 10433.24 | Z44: 0 | AB44: =+Z44-X44+AA44-W44 -> 0 | AC44: =+U44-AB44 -> 0
...
