Workbook

Sheet SPF-A01
H3: Informe Analítico de Ingresos Totales 2014
H4: Entidad: 09PFRC FIDEICOMISO DE RECUPERACIÓN CREDITICIA DEL DISTRITO FEDERAL FIDERE III
H5: Programa vs Recaudación
H6: (Pesos)
U7: SPF-A01
A8: Enero | H8: Mes que se Reporta: | J8: Anual | N8: Mensual | S8: Acumulado en el periodo
A9: Febrero | H9: SEPTIEMBRE
A10: Marzo | H10: Concepto | J10: 2013 | K10: 2014 | N10: 2013 | O10: 2014 | S10: 2013 | T10: 2014
A11: Abril | J11: Obtenido | K11: Programa Original | L11: Programa Modificado | N11: Obtenido | O11: Programado | Q11: Obtenido | S11: Obtenido | T11: Programado | V11: Obtenido
A12: Mayo | O12: Original | P12: Modificado | Q12: Importe | T12: Original | U12: Modificado
A13: Junio
A14: Julio
A15: Agosto | H15: Total de Ingresos | J15: =+J17+J51 -> 74666333 | K15: =+K17+K51 -> 81309889 | L15: =+L17+L51 -> 82249889 | M15: 0 | N15: =+N17+N51 -> 5750374.3 | O15: =+O17+O51 -> 5816604 | P15: =+P17+P51 -> 5816604 | Q15: =+Q17+Q51 -> 5217615.3 | S15: =+S17+S51 -> 58024948 | T15: =+T17+T51 -> 56736013 | U15: =+U17+U51 -> 57676013 | V15: =+V17+V51 -> 51023525
A16: Septiembre
A17: Octubre | H17: Ingresos Ordinarios | J17: =+J19+J41+J48 -> 74666333 | K17: =+K19+K41+K48 -> 81309889 | L17: =+L19+L41+L48 -> 82249889 | M17: =+M19+M41+M48 -> 0 | N17: =+N19+N41+N48 -> 5750374.3 | O17: =+O19+O41+O48 -> 5816604 | P17: =+P19+P41+P48 -> 5816604 | Q17: =+Q19+Q41+Q48 -> 5217615.3 | ... V17: =+V19+V41+V48 -> 51023525
A18: Noviembre
A19: Diciembre | H19: Ingresos Propios | J19: =SUM(J20,J22,J28,J30,J33) -> 70166333 | K19: =SUM(K20,K22,K28,K30,K33) -> 76309889 | L19: =SUM(L20,L22,L28,L30,L33) -> 77249889 | N19: =SUM(N20,N22,N28,N30,N33) -> 5375374.3 | O19: =SUM(O20,O22,O28,O30,O33) -> 5399937 | P19: =SUM(P20,P22,P28,P30,P33) -> 5399937 | Q19: =SUM(Q20,Q22,Q28,Q30,Q33) -> 4800948.3 | R19: =SUM(R20,R22,R28,R30,R33) -> 0 | S19: =SUM(S20,S22,S28,S30,S33) -> 54649948 | T19: =SUM(T20,T22,T28,T30,T33) -> 52986012 | U19: =SUM(U20,U22,U28,U30,U33) -> 53926012 | V19: =SUM(V20,V22,V28,V30,V33) -> 47273524
H20: Venta de Bienes | K20: ='SPF-C01'!R16 -> 0 | L20: ='SPF-C01'!S16 -> 0 | O20: {=SUM(IF($H$9='SPF-C01'!$F$12:$Q$12,'SPF-C01'!F16:Q16,0))} -> 0 | P20: {=SUMIF('SPF-C02'!$E$10:$P$10,'SPF-A01'!$H$9,'SPF-C02'!E14:P14)} -> 0 | Q20: 0 | T20: {=SUMIF('SPF-C01'!$F$12:$Q$12,'SPF-A01'!$H$9,'SPF-C01'!F16:Q16)} -> 0 | U20: {=SUMIF('SPF-C02'!$E$10:$P$10,'SPF-A01'!$H$10:$H$12,'SPF-C02'!E14:P14)} -> 0 | V20: 0
H22: Venta de Servicios | J22: =+J23+J24+J25+J26 -> 55257472 | K22: =+K23+K24+K25+K26 -> 70335256 | L22: =+L23+L24+L25+L26 -> 70335256 | N22: =+N23+N24+N25+N26 -> 4409981.3 | O22: =+O23+O24+O25+O26 -> 4580614 | P22: =+P23+P24+P25+P26 -> 4580614 | Q22: =+Q23+Q24+Q25+Q26 -> 4064811.8 | S22: =+S23+S24+S25+S26 -> 42096253 | T22: =+T23+T24+T25+T26 -> 47351719 | U22: =+U23+U24+U25+U26 -> 47351719 | V22: =+V23+V24+V25+V26 -> 41044432
H23: Intereses Cobrados | J23: 2494980.2 | K23: 2960582 | L23: 2960582 | N23: 194743.01 | O23: 206457 | P23: 206457 | Q23: 131589.97 | S23: =1755718.77+N23 -> 1950461.8 | T23: =1998430+O23 -> 2204887 | U23: =1998430+P23 -> 2204887 | V23: =1167193.17+Q23 -> 1298783.1
H24: Comisiones Cobradas | J24: 45172947 | K24: 58978044 | L24: 58978044 | N24: 3376867.4 | O24: 3672027 | P24: 3672027 | Q24: 3311458.8 | S24: =30844631.63+N24 -> 34221499 | T24: =35189165+O24 -> 38861192 | U24: =35189165+P24 -> 38861192 | V24: =30194868.28+Q24 -> 33506327
H25: Cuotas de Cobranza | J25: 2111882.6 | K25: 2996630 | L25: 2996630 | N25: 356271.28 | O25: 252130 | P25: 252130 | Q25: 132224.08 | S25: =1479037.27+N25 -> 1835308.6 | T25: =1983510+O25 -> 2235640 | U25: =1983510+P25 -> 2235640 | V25: =1804624.06+Q25 -> 1936848.1
H26: Otros Ingresos | J26: 5477662.7 | K26: 5400000 | L26: 5400000 | N26: 482099.64 | O26: 450000 | P26: 450000 | Q26: 489538.92 | S26: =3606883.76+N26 -> 4088983.4 | T26: =3600000+O26 -> 4050000 | U26: =3600000+P26 -> 4050000 | V26: =3812934.44+Q26 -> 4302473.4
H28: Venta de Inversiones
H30: Ingresos Diversos | J30: =+J31+J37 -> 14908861 | K30: =+K31+K37 -> 5974633 | L30: =+L31+L37 -> 6914633 | N30: =+N31+N37 -> 965392.98 | O30: =+O31+O37 -> 819323 | P30: =+P31+P37 -> 819323 | Q30: =+Q31+Q37 -> 736136.46 | S30: =+S31+S37 -> 12553695 | T30: =+T31+T37 -> 5634293 | U30: =+U31+U37 -> 6574293 | V30: =+V31+V37 -> 6229092.6
H31: Recuperación de Carteras Propias. | J31: 788623.03 | K31: 877030 | L31: 877030 | N31: 77907.98 | O31: 87410 | P31: 87410 | Q31: =4221.27+2.19 -> 4223.46 | S31: =600563.97+N31 -> 678471.95 | T31: =449280+O31 -> 536690 | U31: =449280+P31 -> 536690 | V31: =187266.17+Q31 -> 191489.63
H33: Operaciones Ajenas (netas)
H34: Por cuenta de terceros
H35: Por erogaciones recuperables
H37: Remanente de Ejercicios Anteriores | J37: =SUM(J38:J39) -> 14120238 | K37: =SUM(K38:K39) -> 5097603 | L37: =SUM(L38:L39) -> 6037603 | N37: =SUM(N38:N39) -> 887485 | O37: =SUM(O38:O39) -> 731913 | P37: =SUM(P38:P39) -> 731913 | Q37: =SUM(Q38:Q39) -> 731913 | S37: =SUM(S38:S39) -> 11875223 | T37: =SUM(T38:T39) -> 5097603 | U37: =SUM(U38:U39) -> 6037603 | V37: =SUM(V38:V39) -> 6037603
H38: Remanente local | J38: 14120238 | K38: 5097603 | L38: =5097603+940000 -> 6037603 | N38: 887485 | O38: 731913 | P38: 731913 | Q38: 731913 | S38: =10987738+N38 -> 11875223 | T38: =4365690+O38 -> 5097603 | U38: =5305690+P38 -> 6037603 | V38: =5305690+Q38 -> 6037603
H39: Remanente Federal
H41: Aportaciones del GDF | J41: =+J42+J45 -> 4500000 | K41: =+K42+K45 -> 5000000 | L41: =+L42+L45 -> 5000000 | N41: =+N42+N45 -> 375000 | O41: =+O42+O45 -> 416667 | P41: =+P42+P45 -> 416667 | Q41: =+Q42+Q45 -> 416667 | S41: =+S42+S45 -> 3375000 | T41: =+T42+T45 -> 3750001 | U41: =+U42+U45 -> 3750001 | V41: =+V42+V45 -> 3750001
H42: Corrientes | J42: 4500000 | K42: 5000000 | L42: 5000000 | N42: 375000 | O42: 416667 | P42: 416667 | Q42: 416667 | S42: =3000000+N42 -> 3375000 | T42: =3333334+O42 -> 3750001 | U42: =3333334+P42 -> 3750001 | V42: =3333334+Q42 -> 3750001
H43: Operación
H44: Intereses de la deuda
H45: Capital
H46: Operación
H47: Amortización de la deuda
H48: Transferencias del Gobierno Federal | J48: =+J49+J50 -> 0 | K48: =+K49+K50 -> 0 | L48: =+L49+L50 -> 0 | N48: =+N49+N50 -> 0 | O48: =+O49+O50 -> 0 | P48: =+P49+P50 -> 0 | Q48: =+Q49+Q50 -> 0 | S48: =+S49+S50 -> 0 | T48: =+T49+T50 -> 0 | U48: =+U49+U50 -> 0 | V48: =+V49+V50 -> 0
...

Sheet SPF-A02
B4: Informe de Aplicación de los Ingresos Propios 2014
B5: Entidad: 09PFRC FIDEICOMISO DE RECUPERACIÓN CREDITICIA DEL DISTRITO FEDERAL FIDERE III
B6: Acumulado al mes de: SEPTIEMBRE
B7: (Pesos) | M7: SPF-A02
B10: Entidad | D10: Ingresos Propios | H10: Aplicación de los Ingresos Propios | M10: Variación Ingreso Real vs. Suma del Gasto
D11: Programado al mes | E11: Ingreso Real | F11: Variación | H11: Gasto Corriente | I11: % | J11: Gasto de Capital | K11: % | L11: Suma del Gasto
F12: $ | G12: % | M12: $ | N12: %
B14: Entidad: 09 PF RC FIDEICOMISO DE RECUPERACIÓN CREDITICIA DEL DISTRITO FEDERAL FIDERE III | D14: 53926012 | E14: 47273521 | F14: =+E14-D14 -> -6652490.6 | G14: =IF(D14=0,"n.a.",((E14/D14)-1)*100) -> -12.33633 | H14: 42308536 | I14: =IF(L14=0, "n.a.",H14/L14) -> 1 | J14: 0 | K14: =IF(L14=0,"n.a.",J14/L14) -> 0 | L14: =+H14+J14 -> 42308536 | M14: =E14-L14 -> 4964985.2 | N14: =IF(L14=0,"n.a.",((E14/L14)-1)*100) -> 11.735186

Sheet SPF-A03
B4: CUADRO DE EXPLICACIÓN DE LAS VARIACIONES 2014
B5: ORGANISMO Ó EMPRESA: | E5: 09PFRC FIDEICOMISO DE RECUPERACIÓN CREDITICIA DEL DISTRITO FEDERAL FIDERE III
B6: PROGRAMA VS RECAUDACIÓN
B7: (PESOS)
B9: ACUMULADO AL MES DE: SEPTIEMBRE | I9: SPF-A03
C11: CONCEPTO | D11: CIFRAS AL MES DE: | F11: VARIACIÓN 2014 | H11: EXPLICACIÓN A LAS VARIACIONES
D12: SEPTIEMBRE | F12: VS. | G12: ABSOLUTA
G13: REL. NOM. %
B15: INGRESOS PROPIOS | C15: VENTA DE SERVICIOS | D15: PROG. ORIGINAL | E15: 47351719 | F15: Programa | G15: =+E16-E15 -> -6307287.2 | H15: Se obtuvieron menores ingresos en venta de servicios por $6,307,287.24 siendo inferior en un 13.32% por una menor recaudación a lo esperado en los intereses que dan las instituciones bancarias por la inversión sobre la recuperación de las carteras administradas, por la baja tasa de intereses y por una menor recuperación en las carteras gubernamentales, por el abatimiento de la cartera administrada por los finiquitos de los créditos que realizan los acreditados en forma anticipada al vencimiento del plazo, repercutiendo en las comisiones y un menor número de altas por parte del Instituto de Vivienda del D.F. (INVI) | K15: =70000*0.04 -> 2800
D16: OBTENIDO 2014 | E16: 41044432 | G16: =IF(E15=0,"n.a.",(E16/E15-1)*100) -> -13.320081
D17: OBTENIDO 2013 | E17: 42096253 | F17: Recaudado en el ejercicio anterior | G17: =+E18-E17 -> -1052000 | H17: Se tiene una variación inferior de $1,052,000.00 que representa el 2.50% , por una captación menor de recursos en las comisiones y cuotas de cobranza, en comparación del ejercicio anterior. Por el abatimiento de la cartera administrada por los finiquitos de los créditos que realizan los acreditados en forma anticipada al vencimiento del plazo y un menor número de altas por parte del Instituto de Vivienda del D.F. (INVI)
D18: OBTENIDO 2014 | E18: 41044253 | G18: =IF(E17=0,"n..a",(E18/E17-1)*100) -> -2.4990348
C19: INGRESOS DIVERSOS | D19: PROG. ORIGINAL | E19: 5634293 | F19: Programa | G19: =+E20-E19 -> 594799.63 | H19: La mayor recaudación por $594,799.63 siendo superior del 10.56%, son por el reconocimiento de nuestros remanentes de ejercicios anteriores por $940,000.00, menos $345,200.37 por una menor recuperación de las carteras propias Renovación Habitación Popular( R.H.P)., Fondo de Desarrollo Económico Cartera Mypes Locales y Federales, Fondo para la Consolidación de la Micro Empresa (Focomi Mypes) , Cartera FONDECO D.F. propiedad de FIDERE, aun con las acciones de cobranza judicial, como recordatorios de pago, llamadas telefónicas, etc. | J19: =940000-345200.37 -> 594799.63
D20: OBTENIDO 2014 | E20: 6229092.6 | G20: =IF(E19=0,"n.a.",(E20/E19-1)*100) -> 10.556775 | J20: =536690-191489.63 -> 345200.37
D21: OBTENIDO 2013 | E21: 12553695 | F21: Recaudado en el ejercicio anterior | G21: =+E22-E21 -> -6324602.3 | H21: Se tiene una menor recaudación por $6,324,602.32 siendo inferior en un 50.38% , por la obtención de menores recursos en la recuperación de las carteras propias por $486,982.32 Renovación Habitación Popular( R.H.P)., Fondo de Desarrollo Económico Cartera Mypes Locales y Federales, Fondo para la Consolidación de la Micro Empresa (Focomi Mypes) , Cartera FONDECO D.F. propiedad de FIDERE, aun con las acciones de cobranza judicial, como recordatorios de pago, llamadas telefónicas, etc. Así como una menor utilización de nuestros remanentes de ejercicios anteriores por $5,837,620.00 como apoyo al gasto de operación en comparación al ejercicio anterior . | J21: =6037603-11875223 -> -5837620 | K21: =191489.63-678471.95 -> -486982.32
D22: OBTENIDO 2014 | E22: 6229092.6 | G22: =IF(E21=0,"n.a.",(E22/E21-1)*100) -> -50.380405 | K22: =+J21+K21 -> -6324602.3
B23: APORTACIONES | C23: CORRIENTES | D23: PROG. ORIGINAL | E23: 3750001 | F23: Programa | G23: =+E24-E23 -> 0 | H23: N/A
D24: OBTENIDO 2014 | E24: 3750001 | G24: =IF(E23=0,"n.a.",(E24/E23-1)*100) -> 0
D25: OBTENIDO 2013 | E25: 3375000 | F25: Recaudado en el ejercicio anterior | G25: =+E26-E25 -> 375001 | H25: Se tiene una variación de $375,001.00 siendo superior en un 11.11% al año anterior por los recursos autorizados como apoyo al gasto corriente y para fortalecer el fondo colateral de garantía, siendo solamente la participación de este fideicomiso como el ente encargado de dar seguimiento e instrumentar el convenio de Colaboración para Apoyar a los Acreditados Finales del Programa FOVI DDF (Banamex Banorte), firmado el día 27 de noviembre de 2006, entre la Sociedad Hipotecaria Federal, S.N.C. y el Gobierno del Distrito Federal, con el objeto reducir el riesgo de afectación de la garantía otorgada por el entonces Departamento del Distrito Federal.
D26: OBTENIDO 2014 | E26: 3750001 | G26: =IF(E25=0,"n.a.",(E26/E25-1)*100) -> 11.111141
C27: CAPITAL | D27: PROG. ORIGINAL | F27: Programa | G27: =+E28-E27 -> 0
D28: OBTENIDO 2014 | G28: =IF(E27=0,"n.a.",(E28/E27-1)*100) -> n.a.
D29: OBTENIDO 2013 | F29: Recaudado en el ejercicio anterior | G29: =+E30-E29 -> 0
D30: OBTENIDO 2014 | G30: =IF(E29=0,"n.a.",(E30/E29-1)*100) -> n.a.
B31: TRANSFERENCIAS | C31: CORRIENTES | D31: PROG. ORIGINAL | F31: Programa | G31: =+E32-E31 -> 0
D32: OBTENIDO 2014 | G32: =IF(E31=0,"n.a.",(E32/E31-1)*100) -> n.a.
D33: OBTENIDO 2013 | F33: Recaudado en el ejercicio anterior | G33: =+E34-E33 -> 0
D34: OBTENIDO 2014 | G34: =IF(E33=0,"n.a.",(E34/E33-1)*100) -> n.a.
C35: NOTA: El formato es indicativo no limitativo, por lo que en caso de requerir más espacios para el detalle, las entidades deberán elaborarlo en la misma presentación y con las mismas características.
C36: En caso de no contemplar todos los rubros señalados se pueden eliminar renglones sobrantes o inutilizados.
B40: FINANCIAMIENTO NETO | C40: VENTA DE BIENES | D40: PROG. ORIGINAL | F40: Programa | G40: =+E41-E40 -> 0
D41: OBTENIDO 2013 | G41: =IF(E40=0,"n.a.",(E41/E40-1)*100) -> n.a.
D42: OBTENIDO 2012 | F42: 2013 | G42: =+E43-E42 -> 0
D43: OBTENIDO 2013 | G43: =IF(E42=0,"n.a.",(E43/E42-1)*100) -> n.a.
C44: VENTA DE SERVICIOS | D44: PROG. ORIGINAL | F44: Programa | G44: =+E45-E44 -> 0
D45: OBTENIDO 2013 | G45: =IF(E44=0,"n.a.",(E45/E44-1)*100) -> n.a.
D46: OBTENIDO 2012 | F46: 2013 | G46: =+E47-E46 -> 0
D47: OBTENIDO 2013 | G47: =IF(E46=0,"n.a.",(E47/E46-1)*100) -> n.a.

Sheet SPF-C01
E6: Calendario Original de Ingresos Propios 2014
E7: Entidad: 09PFRC FIDEICOMISO DE RECUPERACIÓN CREDITICIA DEL DISTRITO FEDERAL FIDERE III | P7: SPF-C01
E8: Gobierno del Distrito Federal
E9: Mensual
E10: Pesos
E12: Entidad | F12: Enero | G12: Febrero | H12: Marzo | I12: Abril | J12: Mayo | K12: Junio | L12: Julio | M12: Agosto | N12: Septiembre | O12: Octubre | P12: Noviembre | Q12: Diciembre | R12: Ene-dic
E13: Total | F13: =+F14+F44 -> 5631604 | G13: =+G14+G44 -> 6188769 | H13: =+H14+H44 -> 6119704 | I13: =+I14+I44 -> 6096604 | J13: =+J14+J44 -> 5951104 | K13: =+K14+K44 -> 6714746 | L13: =+L14+L44 -> 8335774 | M13: =+M14+M44 -> 5881104 | ... Q13: =+Q14+Q44 -> 12673598 | R13: =SUM(F13:Q13) -> 81309889
E14: Ingresos Ordinarios | F14: =+F15+F34+F41 -> 5631604 | G14: =+G15+G34+G41 -> 6188769 | H14: =+H15+H34+H41 -> 6119704 | I14: =+I15+I34+I41 -> 6096604 | J14: =+J15+J34+J41 -> 5951104 | K14: =+K15+K34+K41 -> 6714746 | L14: =+L15+L34+L41 -> 8335774 | M14: =+M15+M34+M41 -> 5881104 | ... Q14: =+Q15+Q34+Q41 -> 12673598 | R14: =SUM(F14:Q14) -> 81309889
E15: Ingresos Propios | F15: =+F16+F18+F23+F25+F28 -> 5631604 | G15: =+G16+G18+G23+G25+G28 -> 5355437 | H15: =+H16+H18+H23+H25+H28 -> 5703037 | I15: =+I16+I18+I23+I25+I28 -> 5679937 | J15: =+J16+J18+J23+J25+J28 -> 5534437 | K15: =+K16+K18+K23+K25+K28 -> 6298079 | L15: =+L16+L18+L23+L25+L28 -> 7919107 | M15: =+M16+M18+M23+M25+M28 -> 5464437 | ... Q15: =+Q16+Q18+Q23+Q25+Q28 -> 12256933 | R15: =SUM(F15:Q15) -> 76309889
E16: Venta de Bienes | F16: =SUM(F17:F17) -> 0 | G16: =SUM(G17:G17) -> 0 | H16: =SUM(H17:H17) -> 0 | I16: =SUM(I17:I17) -> 0 | J16: =SUM(J17:J17) -> 0 | K16: =SUM(K17:K17) -> 0 | L16: =SUM(L17:L17) -> 0 | M16: =SUM(M17:M17) -> 0 | ... Q16: =SUM(Q17:Q17) -> 0 | R16: =SUM(F16:Q16) -> 0
E18: Venta de Servicios | F18: =SUM(F19:F22) -> 5572924 | G18: =SUM(G19:G22) -> 5292837 | H18: =SUM(H19:H22) -> 4751944 | I18: =SUM(I19:I22) -> 4717935 | J18: =SUM(J19:J22) -> 5375290 | K18: =SUM(K19:K22) -> 5054162 | L18: =SUM(L19:L22) -> 6645008 | M18: =SUM(M19:M22) -> 5361005 | ... R18: =SUM(R19:R22) -> 70335256
E19: Intereses Cobrados | F19: 283905 | G19: 231499 | H19: 226604 | I19: 270475 | J19: 251870 | K19: 216684 | L19: 270418 | M19: 246975 | N19: 206457 | O19: 253437 | P19: 230759 | Q19: 271499 | R19: =SUM(F19:Q19) -> 2960582
E20: Comisiones Cobradas | F20: 4613019 | G20: 4361708 | H20: 3824810 | I20: 3746630 | J20: 4421090 | K20: 4135848 | L20: 5673760 | M20: 4412300 | N20: 3672027 | O20: 4472940 | P20: 4513578 | Q20: 11130334 | R20: =SUM(F20:Q20) -> 58978044
E21: Cuotas de Cobranza | F21: 226000 | G21: 249630 | H21: 250530 | I21: 250830 | J21: 252330 | K21: 251630 | L21: 250830 | M21: 251730 | N21: 252130 | O21: 252130 | P21: 251530 | Q21: 257330 | R21: =SUM(F21:Q21) -> 2996630
E22: Otros Ingresos | F22: 450000 | G22: 450000 | H22: 450000 | I22: 450000 | J22: 450000 | K22: 450000 | L22: 450000 | M22: 450000 | N22: 450000 | O22: 450000 | P22: 450000 | Q22: 450000 | R22: =SUM(F22:Q22) -> 5400000
E23: Venta de Inversiones | F23: =SUM(F24:F24) -> 0 | G23: =SUM(G24:G24) -> 0 | H23: =SUM(H24:H24) -> 0 | I23: =SUM(I24:I24) -> 0 | J23: =SUM(J24:J24) -> 0 | K23: =SUM(K24:K24) -> 0 | L23: =SUM(L24:L24) -> 0 | M23: =SUM(M24:M24) -> 0 | ... Q23: =SUM(Q24:Q24) -> 0 | R23: =SUM(F23:Q23) -> 0
E25: Ingresos Diversos | F25: =+F26+F31 -> 58680 | G25: =+G26+G31 -> 62600 | H25: =+H26+H31 -> 951093 | I25: =+I26+I31 -> 962002 | J25: =+J26+J31 -> 159147 | K25: =+K26+K31 -> 1243917 | L25: =+L26+L31 -> 1274099 | M25: =+M26+M31 -> 103432 | ... R25: =+R26+R31 -> 5974633
E26: Recuperación de Carteras Propias. | F26: 58680 | G26: 62600 | H26: 55670 | I26: 72780 | J26: 58200 | K26: 43510 | L26: 37900 | M26: 59940 | N26: 87410 | O26: 69430 | P26: 123140 | Q26: 147770 | R26: =SUM(F26:Q26) -> 877030
E28: Operaciones Ajenas ( Netas ) | F28: =+F29+F30 -> 0 | G28: =+G29+G30 -> 0 | H28: =+H29+H30 -> 0 | I28: =+I29+I30 -> 0 | J28: =+J29+J30 -> 0 | K28: =+K29+K30 -> 0 | L28: =+L29+L30 -> 0 | M28: =+M29+M30 -> 0 | ... Q28: =+Q29+Q30 -> 0 | R28: =SUM(F28:Q28) -> 0
E29: Por cuenta de terceros | R29: =SUM(F29:Q29) -> 0
E30: Por erogaciones recuperables | R30: =SUM(F30:Q30) -> 0
E31: Remanente de Ejercicios Anteriores | F31: =SUM(F32:F33) -> 0 | G31: =SUM(G32:G33) -> 0 | H31: =SUM(H32:H33) -> 895423 | I31: =SUM(I32:I33) -> 889222 | J31: =SUM(J32:J33) -> 100947 | K31: =SUM(K32:K33) -> 1200407 | L31: =SUM(L32:L33) -> 1236199 | M31: =SUM(M32:M33) -> 43492 | ... Q31: =SUM(Q32:Q33) -> 0 | R31: =SUM(F31:Q31) -> 5097603
E32: Remanente local | F32: 0 | G32: 0 | H32: 895423 | I32: 889222 | J32: 100947 | K32: 1200407 | L32: 1236199 | M32: 43492 | N32: 731913 | O32: 0 | P32: 0 | R32: =SUM(F32:Q32) -> 5097603
E33: Remanente Federal | F33: 0 | G33: 0 | H33: 0 | I33: 0 | J33: 0 | K33: 0 | L33: 0 | M33: 0 | N33: 0 | O33: 0 | P33: 0 | R33: =SUM(F33:Q33) -> 0
E34: Aportaciones del GDF | F34: =+F35+F38 -> 0 | G34: =+G35+G38 -> 833332 | H34: =+H35+H38 -> 416667 | I34: =+I35+I38 -> 416667 | J34: =+J35+J38 -> 416667 | K34: =+K35+K38 -> 416667 | L34: =+L35+L38 -> 416667 | M34: =+M35+M38 -> 416667 | ... Q34: =+Q35+Q38 -> 416665 | R34: =SUM(F34:Q34) -> 5000000
E35: Corrientes | F35: =+F36+F37 -> 0 | G35: =+G36+G37 -> 833332 | H35: =+H36+H37 -> 416667 | I35: =+I36+I37 -> 416667 | J35: =+J36+J37 -> 416667 | K35: =+K36+K37 -> 416667 | L35: =+L36+L37 -> 416667 | M35: =+M36+M37 -> 416667 | ... Q35: =+Q36+Q37 -> 416665 | R35: =SUM(F35:Q35) -> 5000000
E36: Operación | F36: 0 | G36: 833332 | H36: 416667 | I36: 416667 | J36: 416667 | K36: 416667 | L36: 416667 | M36: 416667 | N36: 416667 | O36: 416667 | P36: 416667 | Q36: 416665 | R36: =SUM(F36:Q36) -> 5000000
E37: Intereses de la deuda | R37: =SUM(F37:Q37) -> 0
E38: Capital | F38: =+F39+F40 -> 0 | G38: =+G39+G40 -> 0 | H38: =+H39+H40 -> 0 | I38: =+I39+I40 -> 0 | J38: =+J39+J40 -> 0 | K38: =+K39+K40 -> 0 | L38: =+L39+L40 -> 0 | M38: =+M39+M40 -> 0 | ... Q38: =+Q39+Q40 -> 0 | R38: =SUM(F38:Q38) -> 0
E39: Operación | R39: =SUM(F39:Q39) -> 0
E40: Amortización deuda | R40: =SUM(F40:Q40) -> 0
E41: Transferencias del Gobierno Federal | F41: =+F42+F43 -> 0 | G41: =+G42+G43 -> 0 | H41: =+H42+H43 -> 0 | I41: =+I42+I43 -> 0 | J41: =+J42+J43 -> 0 | K41: =+K42+K43 -> 0 | L41: =+L42+L43 -> 0 | M41: =+M42+M43 -> 0 | ... Q41: =+Q42+Q43 -> 0 | R41: =SUM(F41:Q41) -> 0
E42: Corrientes | R42: =SUM(F42:Q42) -> 0
E43: Capital | R43: =SUM(F43:Q43) -> 0
E44: Ingresos Extraordinarios | F44: =+F45 -> 0 | G44: =+G45 -> 0 | H44: =+H45 -> 0 | I44: =+I45 -> 0 | J44: =+J45 -> 0 | K44: =+K45 -> 0 | L44: =+L45 -> 0 | M44: =+M45 -> 0 | ... R44: =+R45 -> 0
E45: Financiamiento Neto | F45: =+F46-F47 -> 0 | G45: =+G46-G47 -> 0 | H45: =+H46-H47 -> 0 | I45: =+I46-I47 -> 0 | J45: =+J46-J47 -> 0 | K45: =+K46-K47 -> 0 | L45: =+L46-L47 -> 0 | M45: =+M46-M47 -> 0 | ... Q45: =+Q46-Q47 -> 0 | R45: =SUM(F45:Q45) -> 0
E46: Colocación | F46: 0 | G46: 0 | H46: 0 | I46: 0 | J46: 0 | K46: 0 | L46: 0 | M46: 0 | N46: 0 | O46: 0 | P46: 0 | R46: =SUM(F46:Q46) -> 0
E47: Amortización | F47: 0 | G47: 0 | H47: 0 | I47: 0 | J47: 0 | K47: 0 | L47: 0 | M47: 0 | N47: 0 | O47: 0 | P47: 0 | R47: =SUM(F47:Q47) -> 0
E50: NOTA: El formato es indicativo no limitativo, por lo que en caso de requerir más espacios, las entidades deberán elaborarlo en la misma presentación y con las mismas características.
E51: En caso de no contemplar todos los rubros señalados se pueden eliminar renglones sobrantes o inutilizados.

Sheet SPF-C02
D4: Calendario Modificado de Ingresos 2014
D5: Entidad: 09PFRC FIDEICOMISO DE RECUPERACIÓN CREDITICIA DEL DISTRITO FEDERAL FIDERE III
D6: Gobierno del Distrito Federal
D7: Mensual
D8: Pesos
P9: SPF-C02
D10: Entidad | E10: Enero | F10: Febrero | G10: Marzo | H10: Abril | I10: Mayo | J10: Junio | K10: Julio | L10: Agosto | M10: Septiembre | N10: Octubre | O10: Noviembre | P10: Diciembre | Q10: Ene-dic
D11: Total | E11: =+E12+E42 -> 5631604 | F11: =+F12+F42 -> 6188769 | G11: =+G12+G42 -> 6119704 | H11: =+H12+H42 -> 6096604 | I11: =+I12+I42 -> 5951104 | J11: =+J12+J42 -> 6714746 | K11: =+K12+K42 -> 9275774 | L11: =+L12+L42 -> 5881104 | ... P11: =+P12+P42 -> 12673598 | Q11: =SUM(E11:P11) -> 82249889 | R11: =+Q11-'SPF-C01'!$R$13 -> 940000
D12: Ingresos Ordinarios | E12: =+E13+E32+E39 -> 5631604 | F12: =+F13+F32+F39 -> 6188769 | G12: =+G13+G32+G39 -> 6119704 | H12: =+H13+H32+H39 -> 6096604 | I12: =+I13+I32+I39 -> 5951104 | J12: =+J13+J32+J39 -> 6714746 | K12: =+K13+K32+K39 -> 9275774 | L12: =+L13+L32+L39 -> 5881104 | ... P12: =+P13+P32+P39 -> 12673598 | Q12: =SUM(E12:P12) -> 82249889
D13: Ingresos Propios | E13: =+E14+E16+E21+E23+E26 -> 5631604 | F13: =+F14+F16+F21+F23+F26 -> 5355437 | G13: =+G14+G16+G21+G23+G26 -> 5703037 | H13: =+H14+H16+H21+H23+H26 -> 5679937 | I13: =+I14+I16+I21+I23+I26 -> 5534437 | J13: =+J14+J16+J21+J23+J26 -> 6298079 | K13: =+K14+K16+K21+K23+K26 -> 8859107 | L13: =+L14+L16+L21+L23+L26 -> 5464437 | ... P13: =+P14+P16+P21+P23+P26 -> 12256933 | Q13: =SUM(E13:P13) -> 77249889
D14: Venta de Bienes | E14: =SUM(E15:E15) -> 0 | F14: =SUM(F15:F15) -> 0 | G14: =SUM(G15:G15) -> 0 | H14: =SUM(H15:H15) -> 0 | I14: =SUM(I15:I15) -> 0 | J14: =SUM(J15:J15) -> 0 | K14: =SUM(K15:K15) -> 0 | L14: =SUM(L15:L15) -> 0 | ... P14: =SUM(P15:P15) -> 0 | Q14: =SUM(E14:P14) -> 0
D16: Venta de Servicios | E16: =SUM(E17:E20) -> 5572924 | F16: =SUM(F17:F20) -> 5292837 | G16: =SUM(G17:G20) -> 4751944 | H16: =SUM(H17:H20) -> 4717935 | I16: =SUM(I17:I20) -> 5375290 | J16: =SUM(J17:J20) -> 5054162 | K16: =SUM(K17:K20) -> 6645008 | L16: =SUM(L17:L20) -> 5361005 | ... Q16: =SUM(Q17:Q20) -> 70335256
D17: Intereses Cobrados | E17: 283905 | F17: 231499 | G17: 226604 | H17: 270475 | I17: 251870 | J17: 216684 | K17: 270418 | L17: 246975 | M17: 206457 | N17: 253437 | O17: 230759 | P17: 271499 | Q17: =SUM(E17:P17) -> 2960582
D18: Comisiones Cobradas | E18: 4613019 | F18: 4361708 | G18: 3824810 | H18: 3746630 | I18: 4421090 | J18: 4135848 | K18: 5673760 | L18: 4412300 | M18: 3672027 | N18: 4472940 | O18: 4513578 | P18: 11130334 | Q18: =SUM(E18:P18) -> 58978044
D19: Cuotas de Cobranza | E19: 226000 | F19: 249630 | G19: 250530 | H19: 250830 | I19: 252330 | J19: 251630 | K19: 250830 | L19: 251730 | M19: 252130 | N19: 252130 | O19: 251530 | P19: 257330 | Q19: =SUM(E19:P19) -> 2996630
D20: Otros Ingresos | E20: 450000 | F20: 450000 | G20: 450000 | H20: 450000 | I20: 450000 | J20: 450000 | K20: 450000 | L20: 450000 | M20: 450000 | N20: 450000 | O20: 450000 | P20: 450000 | Q20: =SUM(E20:P20) -> 5400000
D21: Venta de Inversiones | E21: =SUM(E22:E22) -> 0 | F21: =SUM(F22:F22) -> 0 | G21: =SUM(G22:G22) -> 0 | H21: =SUM(H22:H22) -> 0 | I21: =SUM(I22:I22) -> 0 | J21: =SUM(J22:J22) -> 0 | K21: =SUM(K22:K22) -> 0 | L21: =SUM(L22:L22) -> 0 | ... P21: =SUM(P22:P22) -> 0 | Q21: =SUM(E21:P21) -> 0
D23: Ingresos Diversos | E23: =+E24+E29 -> 58680 | F23: =+F24+F29 -> 62600 | G23: =+G24+G29 -> 951093 | H23: =+H24+H29 -> 962002 | I23: =+I24+I29 -> 159147 | J23: =+J24+J29 -> 1243917 | K23: =+K24+K29 -> 2214099 | L23: =+L24+L29 -> 103432 | ... Q23: =+Q24+Q29 -> 6914633
D24: Recuperación de Carteras Propias. | E24: 58680 | F24: 62600 | G24: 55670 | H24: 72780 | I24: 58200 | J24: 43510 | K24: 37900 | L24: 59940 | M24: 87410 | N24: 69430 | O24: 123140 | P24: 147770 | Q24: =SUM(E24:P24) -> 877030
D26: Operaciones Ajenas ( Netas ) | E26: =+E27+E28 -> 0 | F26: =+F27+F28 -> 0 | G26: =+G27+G28 -> 0 | H26: =+H27+H28 -> 0 | I26: =+I27+I28 -> 0 | J26: =+J27+J28 -> 0 | K26: =+K27+K28 -> 0 | L26: =+L27+L28 -> 0 | ... P26: =+P27+P28 -> 0 | Q26: =SUM(E26:P26) -> 0
D27: Por cuenta de terceros | Q27: =SUM(E27:P27) -> 0
D28: Por erogaciones recuperables | Q28: =SUM(E28:P28) -> 0
D29: Remanente de Ejercicios Anteriores | E29: =SUM(E30:E31) -> 0 | F29: =SUM(F30:F31) -> 0 | G29: =SUM(G30:G31) -> 895423 | H29: =SUM(H30:H31) -> 889222 | I29: =SUM(I30:I31) -> 100947 | J29: =SUM(J30:J31) -> 1200407 | K29: =SUM(K30:K31) -> 2176199 | L29: =SUM(L30:L31) -> 43492 | ... P29: =SUM(P30:P31) -> 0 | Q29: =SUM(E29:P29) -> 6037603
D30: Remanente local | E30: 0 | F30: 0 | G30: 895423 | H30: 889222 | I30: 100947 | J30: 1200407 | K30: =1236199+940000 -> 2176199 | L30: 43492 | M30: 731913 | N30: 0 | O30: 0 | Q30: =SUM(E30:P30) -> 6037603 | R30: =+Q30-'SPF-C01'!$R$32 -> 940000
D31: Remanente Federal | E31: 0 | F31: 0 | G31: 0 | H31: 0 | I31: 0 | J31: 0 | K31: 0 | L31: 0 | M31: 0 | N31: 0 | O31: 0 | Q31: =SUM(E31:P31) -> 0
D32: Aportaciones del GDF | E32: =+E33+E36 -> 0 | F32: =+F33+F36 -> 833332 | G32: =+G33+G36 -> 416667 | H32: =+H33+H36 -> 416667 | I32: =+I33+I36 -> 416667 | J32: =+J33+J36 -> 416667 | K32: =+K33+K36 -> 416667 | L32: =+L33+L36 -> 416667 | ... P32: =+P33+P36 -> 416665 | Q32: =SUM(E32:P32) -> 5000000
D33: Corrientes | E33: =+E34+E35 -> 0 | F33: =+F34+F35 -> 833332 | G33: =+G34+G35 -> 416667 | H33: =+H34+H35 -> 416667 | I33: =+I34+I35 -> 416667 | J33: =+J34+J35 -> 416667 | K33: =+K34+K35 -> 416667 | L33: =+L34+L35 -> 416667 | ... P33: =+P34+P35 -> 416665 | Q33: =SUM(E33:P33) -> 5000000
D34: Operación | E34: 0 | F34: 833332 | G34: 416667 | H34: 416667 | I34: 416667 | J34: 416667 | K34: 416667 | L34: 416667 | M34: 416667 | N34: 416667 | O34: 416667 | P34: 416665 | Q34: =SUM(E34:P34) -> 5000000
D35: Intereses de la deuda | Q35: =SUM(E35:P35) -> 0
D36: Capital | E36: =+E37+E38 -> 0 | F36: =+F37+F38 -> 0 | G36: =+G37+G38 -> 0 | H36: =+H37+H38 -> 0 | I36: =+I37+I38 -> 0 | J36: =+J37+J38 -> 0 | K36: =+K37+K38 -> 0 | L36: =+L37+L38 -> 0 | ... P36: =+P37+P38 -> 0 | Q36: =SUM(E36:P36) -> 0
D37: Operación | Q37: =SUM(E37:P37) -> 0
D38: Amortización deuda | Q38: =SUM(E38:P38) -> 0
D39: Transferencias del Gobierno Federal | E39: =+E40+E41 -> 0 | F39: =+F40+F41 -> 0 | G39: =+G40+G41 -> 0 | H39: =+H40+H41 -> 0 | I39: =+I40+I41 -> 0 | J39: =+J40+J41 -> 0 | K39: =+K40+K41 -> 0 | L39: =+L40+L41 -> 0 | ... P39: =+P40+P41 -> 0 | Q39: =SUM(E39:P39) -> 0
D40: Corrientes | Q40: =SUM(E40:P40) -> 0
D41: Capital | Q41: =SUM(E41:P41) -> 0
D42: Ingresos Extraordinarios | E42: =+E43 -> 0 | F42: =+F43 -> 0 | G42: =+G43 -> 0 | H42: =+H43 -> 0 | I42: =+I43 -> 0 | J42: =+J43 -> 0 | K42: =+K43 -> 0 | L42: =+L43 -> 0 | ... Q42: =+Q43 -> 0
D43: Financiamiento Neto | E43: =+E44-E45 -> 0 | F43: =+F44-F45 -> 0 | G43: =+G44-G45 -> 0 | H43: =+H44-H45 -> 0 | I43: =+I44-I45 -> 0 | J43: =+J44-J45 -> 0 | K43: =+K44-K45 -> 0 | L43: =+L44-L45 -> 0 | ... P43: =+P44-P45 -> 0 | Q43: =SUM(E43:P43) -> 0
D44: Colocación | E44: 0 | F44: 0 | G44: 0 | H44: 0 | I44: 0 | J44: 0 | K44: 0 | L44: 0 | M44: 0 | N44: 0 | O44: 0 | Q44: =SUM(E44:P44) -> 0
D45: Amortización | E45: 0 | F45: 0 | G45: 0 | H45: 0 | I45: 0 | J45: 0 | K45: 0 | L45: 0 | M45: 0 | N45: 0 | O45: 0 | Q45: =SUM(E45:P45) -> 0
D48: NOTA: El formato es indicativo no limitativo, por lo que en caso de requerir más espacios, las entidades deberán elaborarlo en la misma presentación y con las mismas características.
...

Sheet  SPF-01
E4: Ingresos Obtenidos 2014
E5: Entidad: 09PFRC FIDEICOMISO DE RECUPERACIÓN CREDITICIA DEL DISTRITO FEDERAL FIDERE III | P5: SPF-01
E6: Gobierno del Distrito Federal
E7: Mensual
E8: Pesos
E10: Entidad | F10: Enero | G10: Febrero | H10: Marzo | I10: Abril | J10: Mayo | K10: Junio | L10: Julio | M10: Agosto | N10: Septiembre | O10: Octubre | P10: Noviembre | Q10: Diciembre | R10: Ene-dic
E11: Total | F11: =+F12+F46 -> 5169851.6 | G11: =+G12+G46 -> 5649100.6 | H11: =+H12+H46 -> 5510215.7 | I11: =+I12+I46 -> 5753697.7 | J11: =+J12+J46 -> 5437168.8 | K11: =+K12+K46 -> 5958834.7 | L11: =+L12+L46 -> 6868344.7 | M11: =+M12+M46 -> 5458696.4 | ... Q11: =+Q12+Q46 -> 0 | R11: =SUM(F11:Q11) -> 51023525 | S11: =+R11-'SPF-A01'!V15 -> 0
E12: Ingresos Ordinarios | F12: =+F13+F36+F43 -> 5169851.6 | G12: =+G13+G36+G43 -> 5649100.6 | H12: =+H13+H36+H43 -> 5510215.7 | I12: =+I13+I36+I43 -> 5753697.7 | J12: =+J13+J36+J43 -> 5437168.8 | K12: =+K13+K36+K43 -> 5958834.7 | L12: =+L13+L36+L43 -> 6868344.7 | M12: =+M13+M36+M43 -> 5458696.4 | ... Q12: =+Q13+Q36+Q43 -> 0 | R12: =SUM(F12:Q12) -> 51023525
E13: Ingresos Propios | F13: =F15+F17+F23+F25+F28 -> 5169851.6 | G13: =G15+G17+G23+G25+G28 -> 4815768.6 | H13: =H15+H17+H23+H25+H28 -> 5093548.7 | I13: =I15+I17+I23+I25+I28 -> 5337030.7 | J13: =J15+J17+J23+J25+J28 -> 5020501.8 | K13: =K15+K17+K23+K25+K28 -> 5542167.7 | L13: =L15+L17+L23+L25+L28 -> 6451677.7 | M13: =M15+M17+M23+M25+M28 -> 5042029.4 | ... Q13: =Q15+Q17+Q23+Q25+Q28 -> 0 | R13: =SUM(F13:Q13) -> 47273524
E15: Venta de Bienes
E17: Venta de Servicios | F17: =SUM(F18:F21) -> 5139236.1 | G17: =SUM(G18:G21) -> 4788221.1 | H17: =SUM(H18:H21) -> 4178434.3 | I17: =SUM(I18:I21) -> 4423021.8 | J17: =SUM(J18:J21) -> 4900269.7 | K17: =SUM(K18:K21) -> 4322112.3 | L17: =SUM(L18:L21) -> 4256668.8 | M17: =SUM(M18:M21) -> 4971655.9 | ... R17: =SUM(R18:R21) -> 41044432
E18: Intereses Cobrados | F18: 170444.75 | G18: 137751.63 | H18: 158610.81 | I18: 150433.84 | J18: 144822.71 | K18: 147012.02 | L18: 133991.22 | M18: 124126.19 | N18: 131589.97 | R18: =SUM(F18:Q18) -> 1298783.1
E19: Comisiones Cobradas | F19: 4122306.1 | G19: 4112072.5 | H19: 3474934.7 | I19: 3423329.2 | J19: 3941777.9 | K19: 3538487.5 | L19: 3500192.7 | M19: 4081767.7 | N19: 3311458.8 | R19: =SUM(F19:Q19) -> 33506327
E20: Cuotas de Cobranza | F20: 394879.28 | G20: 96497.5 | H20: 51393.76 | I20: 314882.91 | J20: 341588 | K20: 186146.55 | L20: 133591.29 | M20: 285644.77 | N20: 132224.08 | R20: =SUM(F20:Q20) -> 1936848.1
E21: Otros Ingresos | F21: 451606 | G21: 441899.5 | H21: 493495.05 | I21: 534375.8 | J21: 472081.11 | K21: 450466.18 | L21: 488893.6 | M21: 480117.2 | N21: 489538.92 | R21: =SUM(F21:Q21) -> 4302473.4
E23: Venta de Inversiones
E25: Ingresos Diversos | F25: =SUM(F26:F27)+F32 -> 30615.52 | G25: =SUM(G26:G27)+G32 -> 27547.48 | H25: =SUM(H26:H27)+H32 -> 915114.37 | I25: =SUM(I26:I27)+I32 -> 914008.88 | J25: =SUM(J26:J27)+J32 -> 120232.15 | K25: =SUM(K26:K27)+K32 -> 1220055.4 | L25: =SUM(L26:L27)+L32 -> 2195008.9 | M25: =SUM(M26:M27)+M32 -> 70373.49 | ... Q25: =SUM(Q26:Q27)+Q32 -> 0 | R25: =SUM(F25:Q25) -> 6229092.6
E26: Recuperación de Carteras Propias. | F26: 30615.52 | G26: =61.21+27486.27 -> 27547.48 | H26: 19691.37 | I26: =24746.26+40.62 -> 24786.88 | J26: 19285.15 | K26: 19648.41 | L26: 18809.87 | M26: 26881.49 | N26: 4223.46 | R26: =SUM(F26:Q26) -> 191489.63
E28: Operaciones Ajenas ( Netas ) | F28: =F29+F30 -> 0 | G28: =G29+G30 -> 0 | H28: =H29+H30 -> 0 | I28: =I29+I30 -> 0 | J28: =J29+J30 -> 0 | K28: =K29+K30 -> 0 | L28: =L29+L30 -> 0 | M28: =M29+M30 -> 0 | ... Q28: =Q29+Q30 -> 0 | R28: =SUM(F28:Q28) -> 0
E29: Por cuenta de terceros
E30: Por erogaciones recuperables
E32: Remanente de ejercicios anteriores | F32: =SUM(F33:F34) -> 0 | G32: =SUM(G33:G34) -> 0 | H32: =SUM(H33:H34) -> 895423 | I32: =SUM(I33:I34) -> 889222 | J32: =SUM(J33:J34) -> 100947 | K32: =SUM(K33:K34) -> 1200407 | L32: =SUM(L33:L34) -> 2176199 | M32: =SUM(M33:M34) -> 43492 | ... Q32: =SUM(Q33:Q34) -> 0 | R32: =SUM(F32:Q32) -> 6037603
E33: Remanente local | H33: 895423 | I33: 889222 | J33: 100947 | K33: 1200407 | L33: 2176199 | M33: 43492 | N33: 731913 | R33: =SUM(F33:Q33) -> 6037603
E34: Remanente Federal
E36: Aportaciones del GDF | F36: =F37+F40 -> 0 | G36: =G37+G40 -> 833332 | H36: =H37+H40 -> 416667 | I36: =I37+I40 -> 416667 | J36: =J37+J40 -> 416667 | K36: =K37+K40 -> 416667 | L36: =L37+L40 -> 416667 | M36: =M37+M40 -> 416667 | ... Q36: =Q37+Q40 -> 0 | R36: =SUM(F36:Q36) -> 3750001
E37: Corrientes | F37: =F38+F39 -> 0 | G37: 833332 | H37: 416667 | I37: 416667 | J37: 416667 | K37: 416667 | L37: 416667 | M37: 416667 | N37: 416667 | O37: =O38+O39 -> 0 | P37: =P38+P39 -> 0 | Q37: =Q38+Q39 -> 0 | R37: =SUM(F37:Q37) -> 3750001
E38: Operación | F38: 0 | G38: 0 | H38: 0 | I38: 0 | J38: 0 | K38: 0 | L38: 0 | M38: 0 | N38: 0 | O38: 0 | P38: 0 | Q38: 0 | R38: =SUM(F38:Q38) -> 0
E39: Intereses de la deuda
E40: Capital | F40: =F41+F42 -> 0 | G40: =G41+G42 -> 0 | H40: =H41+H42 -> 0 | I40: =I41+I42 -> 0 | J40: =J41+J42 -> 0 | K40: =K41+K42 -> 0 | L40: =L41+L42 -> 0 | M40: =M41+M42 -> 0 | ... Q40: =Q41+Q42 -> 0 | R40: =SUM(F40:Q40) -> 0
E41: Operación
E42: Amortización deuda
E43: Transferencias del Gobierno del Distrito Federal | F43: =F44+F45 -> 0 | G43: =G44+G45 -> 0 | H43: =H44+H45 -> 0 | I43: =I44+I45 -> 0 | J43: =J44+J45 -> 0 | K43: =K44+K45 -> 0 | L43: =L44+L45 -> 0 | M43: =M44+M45 -> 0 | ... Q43: =Q44+Q45 -> 0 | R43: =SUM(F43:Q43) -> 0
E44: Corrientes
E45: Capital
E46: Ingresos Extraordinarios | F46: =+F47 -> 0 | G46: =+G47 -> 0 | H46: =+H47 -> 0 | I46: =+I47 -> 0 | J46: =+J47 -> 0 | K46: =+K47 -> 0 | L46: =+L47 -> 0 | M46: =+M47 -> 0 | ... Q46: =+Q47 -> 0 | R46: =SUM(F46:Q46) -> 0
E47: Financiamiento Neto | F47: =+F48+F49 -> 0 | G47: =+G48+G49 -> 0 | H47: =+H48+H49 -> 0 | I47: =+I48+I49 -> 0 | J47: =+J48+J49 -> 0 | K47: =+K48+K49 -> 0 | L47: =+L48+L49 -> 0 | M47: =+M48+M49 -> 0 | ... Q47: =+Q48+Q49 -> 0 | R47: =SUM(F47:Q47) -> 0
E48: Colocación | F48: 0 | G48: 0 | H48: 0 | I48: 0 | J48: 0 | K48: 0 | L48: 0 | M48: 0 | N48: 0 | O48: 0 | P48: 0 | Q48: 0 | R48: =SUM(F48:Q48) -> 0
E49: Amortización | F49: 0 | G49: 0 | H49: 0 | I49: 0 | J49: 0 | K49: 0 | L49: 0 | M49: 0 | N49: 0 | O49: 0 | P49: 0 | Q49: 0 | R49: =SUM(F49:Q49) -> 0
E52: NOTA: El formato es indicativo no limitativo, por lo que en caso de requerir más espacios, las entidades deberán elaborarlo en la misma presentación y con las mismas características.
E53: En caso de no contemplar todos los rubros señalados se pueden eliminar renglones sobrantes o inutilizados.
...
