Workbook

Sheet SPF-A01
T3: SPF-A01
H7: Informe Analítico de Ingresos Totales 2013
H8: Entidad: 09PFRC FIDEICOMISO DE RECUPERACIÓN CREDITICIA DEL DISTRITO FEDERAL FIDERE III
H9: Programa vs Recaudación
H10: (Pesos)
A11: Enero | H11: Mes que se Reporta: | J11: Anual | N11: Mensual | S11: Acumulado en el periodo
A12: Febrero | H12: MARZO
A13: Marzo | H13: Concepto | J13: 2012 | K13: 2013 | N13: 2012 | O13: 2013 | S13: 2012 | T13: 2013
A14: Abril | J14: Obtenido | K14: Programa Original | L14: Programa Modificado | N14: Obtenido | O14: Programado | Q14: Obtenido | S14: Obtenido | T14: Programado | V14: Obtenido
A15: Mayo | O15: Original | P15: Modificado | Q15: Importe | T15: Original | U15: Modificado
A16: Junio
A17: Julio
A18: Agosto | H18: Total de Ingresos | J18: =+J20+J54 -> 80690426 | K18: =+K20+K54 -> 80809889 | L18: =+L20+L54 -> 80809889 | M18: 0 | N18: =+N20+N54 -> 5434758.7 | O18: =+O20+O54 -> 7684194 | P18: =+P20+P54 -> 7684194 | Q18: =+Q20+Q54 -> 7224579.2 | S18: =+S20+S54 -> 18112013 | T18: =+T20+T54 -> 21416764 | U18: =+U20+U54 -> 21416764 | V18: =+V20+V54 -> 20864733
A19: Septiembre
A20: Octubre | H20: Ingresos Ordinarios | J20: =+J22+J44+J51 -> 80690426 | K20: =+K22+K44+K51 -> 80809889 | L20: =+L22+L44+L51 -> 80809889 | M20: =+M22+M44+M51 -> 0 | N20: =+N22+N44+N51 -> 5434758.7 | O20: =+O22+O44+O51 -> 7684194 | P20: =+P22+P44+P51 -> 7684194 | Q20: =+Q22+Q44+Q51 -> 7224579.2 | ... V20: =+V22+V44+V51 -> 20864733
A21: Noviembre
A22: Diciembre | H22: Ingresos Propios | J22: =SUM(J23,J25,J31,J33,J36) -> 76260857 | K22: =SUM(K23,K25,K31,K33,K36) -> 76309889 | L22: =SUM(L23,L25,L31,L33,L36) -> 76309889 | N22: =SUM(N23,N25,N31,N33,N36) -> 5065628.7 | O22: =SUM(O23,O25,O31,O33,O36) -> 7309194 | P22: =SUM(P23,P25,P31,P33,P36) -> 7309194 | Q22: =SUM(Q23,Q25,Q31,Q33,Q36) -> 6849579.2 | R22: =SUM(R23,R25,R31,R33,R36) -> 0 | S22: =SUM(S23,S25,S31,S33,S36) -> 17004623 | T22: =SUM(T23,T25,T31,T33,T36) -> 20291764 | U22: =SUM(U23,U25,U31,U33,U36) -> 20291764 | V22: =SUM(V23,V25,V31,V33,V36) -> 19739733
H23: Venta de Bienes | K23: ='SPF-C01'!R16 -> 0 | L23: =+'SPF-C02'!Q14 -> 0 | O23: {=SUM(IF($H$12='SPF-C01'!$F$12:$Q$12,'SPF-C01'!F16:Q16,0))} -> 0 | P23: {=SUMIF('SPF-C02'!$E$10:$P$10,'SPF-A01'!$H$12,'SPF-C02'!E14:P14)} -> 0 | Q23: {=SUMIF(' SPF-01'!$F$10:$Q$10,'SPF-A01'!$H$12,' SPF-01'!F15:Q15)} -> 0 | T23: {=SUMIF('SPF-C01'!$F$12:$Q$12,'SPF-A01'!$H$12,'SPF-C01'!F16:Q16)} -> 0 | U23: {=SUMIF('SPF-C02'!$E$10:$P$10,'SPF-A01'!$H$13:$H$15,'SPF-C02'!E14:P14)} -> 0 | V23: {=SUMIF(' SPF-01'!$F$10:$Q$10,'SPF-A01'!$H$12,' SPF-01'!F15:Q15)} -> 0
H25: Venta de Servicios | J25: =+J26+J27+J28+J29 -> 54124623 | K25: =+K26+K27+K28+K29 -> 63843541 | L25: =+L26+L27+L28+L29 -> 63843541 | N25: =+N26+N27+N28+N29 -> 1275055.2 | O25: =+O26+O27+O28+O29 -> 4543314 | P25: =+P26+P27+P28+P29 -> 4543314 | Q25: =+Q26+Q27+Q28+Q29 -> 4113855.9 | S25: =+S26+S27+S28+S29 -> 10526426 | T25: =+T26+T27+T28+T29 -> 15304840 | U25: =+U26+U27+U28+U29 -> 15304840 | V25: =+V26+V27+V28+V29 -> 14804218
H26: Intereses Cobrados | J26: 3275322 | K26: 3736622 | L26: 3736622 | N26: 283143.07 | O26: 283494 | P26: 283494 | Q26: 220473.54 | S26: =630576.35+N26 -> 913719.42 | T26: =612506+O26 -> 896000 | U26: =612506+P26 -> 896000 | V26: =534830.39+Q26 -> 755303.93
H27: Comisiones Cobradas | J27: 42942912 | K27: 52033469 | L27: 52033469 | N27: 545395.64 | O27: 3672510 | P27: 3672510 | Q27: 3424332.4 | S27: =7934053.18+N27 -> 8479448.8 | T27: =8799880+O27 -> 12472390 | U27: =8799880+P27 -> 12472390 | V27: =8617073.01+Q27 -> 12041405
H28: Cuotas de Cobranza | J28: 2861600.8 | K28: 2673450 | L28: 2673450 | N28: 0 | O28: 137310 | P28: 137310 | Q28: 18874.96 | S28: 236746.99 | T28: =449140+O28 -> 586450 | U28: =449140+P28 -> 586450 | V28: =637584.19+Q28 -> 656459.15
H29: Otros Ingresos | J29: 5044788.6 | K29: 5400000 | L29: 5400000 | N29: 446516.5 | O29: 450000 | P29: 450000 | Q29: 450175 | S29: =449994.5+N29 -> 896511 | T29: =900000+O29 -> 1350000 | U29: =900000+P29 -> 1350000 | V29: =900874.23+Q29 -> 1351049.2
H31: Venta de Inversiones | J31: 0 | K31: =+'SPF-C01'!R23 -> 0 | L31: =+'SPF-C02'!Q18 -> 0 | N31: 0 | O31: {=SUM(IF($H$12='SPF-C01'!$F$12:$Q$12,'SPF-C01'!F23:Q23,0))} -> 0 | P31: {=SUMIF('SPF-C02'!$E$10:$P$10,'SPF-A01'!$H$12,'SPF-C02'!E18:P18)} -> 0 | Q31: {=SUMIF(' SPF-01'!$F$10:$Q$10,'SPF-A01'!$H$12,' SPF-01'!F23:Q23)} -> 0 | S31: 0 | T31: 0 | U31: 0 | V31: 0
H33: Ingresos Diversos | J33: =+J34+J40 -> 22136234 | K33: =+K34+K40 -> 12466348 | L33: =+L34+L40 -> 12466348 | N33: =+N34+N40 -> 3790573.5 | O33: =+O34+O40 -> 2765880 | P33: =+P34+P40 -> 2765880 | Q33: =+Q34+Q40 -> 2735723.4 | S33: =+S34+S40 -> 6478196.5 | T33: =+T34+T40 -> 4986924 | U33: =+U34+U40 -> 4986924 | V33: =+V34+V40 -> 4935515.3
H34: Recuperación de Carteras Propias. | J34: 1793272.9 | K34: 1446110 | L34: 1446110 | N34: 89066.46 | O34: 92600 | P34: 92600 | Q34: =62399.89+43.48 -> 62443.37 | S34: =218086.07+N34 -> 307152.53 | T34: =232360+O34 -> 324960 | U34: =232360+P34 -> 324960 | V34: =211107.97+Q34 -> 273551.34
H36: Operaciones Ajenas (netas)
H37: Por cuenta de terceros
H38: Por erogaciones recuperables
H40: Remanente de Ejercicios Anteriores | J40: =SUM(J41:J42) -> 20342961 | K40: =SUM(K41:K42) -> 11020238 | L40: =SUM(L41:L42) -> 11020238 | N40: =SUM(N41:N42) -> 3701507 | O40: =SUM(O41:O42) -> 2673280 | P40: =SUM(P41:P42) -> 2673280 | Q40: =SUM(Q41:Q42) -> 2673280 | S40: =SUM(S41:S42) -> 6171044 | T40: =SUM(T41:T42) -> 4661964 | U40: =SUM(U41:U42) -> 4661964 | V40: =SUM(V41:V42) -> 4661964
H41: Remanente local | J41: 20342961 | K41: 11020238 | L41: 11020238 | N41: 3701507 | O41: 2673280 | P41: 2673280 | Q41: 2673280 | S41: =2469537+N41 -> 6171044 | T41: =1988684+O41 -> 4661964 | U41: =1988684+P41 -> 4661964 | V41: =1988684+Q41 -> 4661964
H42: Remanente Federal
H44: Aportaciones del GDF | J44: =+J45+J48 -> 4429569 | K44: =+K45+K48 -> 4500000 | L44: =+L45+L48 -> 4500000 | N44: =+N45+N48 -> 369130 | O44: =+O45+O48 -> 375000 | P44: =+P45+P48 -> 375000 | Q44: =+Q45+Q48 -> 375000 | S44: =+S45+S48 -> 1107390 | T44: =+T45+T48 -> 1125000 | U44: =+U45+U48 -> 1125000 | V44: =+V45+V48 -> 1125000
H45: Corrientes | J45: 4429569 | K45: 4500000 | L45: 4500000 | N45: 369130 | O45: 375000 | P45: 375000 | Q45: 375000 | S45: =738260+N45 -> 1107390 | T45: =750000+O45 -> 1125000 | U45: =750000+P45 -> 1125000 | V45: =750000+Q45 -> 1125000
H46: Operación
H47: Intereses de la deuda
H48: Capital
H49: Operación
H50: Amortización de la deuda
H51: Transferencias del Gobierno Federal | J51: =+J52+J53 -> 0 | K51: =+K52+K53 -> 0 | L51: =+L52+L53 -> 0 | N51: =+N52+N53 -> 0 | O51: =+O52+O53 -> 0 | P51: =+P52+P53 -> 0 | Q51: =+Q52+Q53 -> 0 | S51: =+S52+S53 -> 0 | T51: =+T52+T53 -> 0 | U51: =+U52+U53 -> 0 | V51: =+V52+V53 -> 0
...

Sheet SPF-A02
L1: SPF-A02
B4: Informe de Aplicación de los Ingresos Propios 2013
B5: Entidad: 09PFRC FIDEICOMISO DE RECUPERACIÓN CREDITICIA DEL DISTRITO FEDERAL FIDERE III
B6: Acumulado al mes de _MARZO 2013__________________
B7: (Pesos)
B9: Entidad | D9: Ingresos Propios | H9: Aplicación de los Ingresos Propios | M9: Variación Ingreso Real vs. Suma del Gasto
D10: Programado al mes | E10: Ingreso Real | F10: Variación | H10: Gasto Corriente | I10: % | J10: Gasto de Capital | K10: % | L10: Suma del Gasto
F11: $ | G11: % | M11: $ | N11: %
B13: Entidad: 09 PF RC FIDEICOMISO DE RECUPERACIÓN CREDITICIA DEL DISTRITO FEDERAL FIDERE III | D13: 20291764 | E13: 19739733 | F13: =+E13-D13 -> -552030.97 | G13: =IF(D13=0,"n.a.",((E13/D13)-1)*100) -> -2.7204681 | H13: 13175334 | I13: =IF(L13=0, "n.a.",H13/L13) -> 1 | J13: 0 | K13: =IF(L13=0,"n.a.",J13/L13) -> 0 | L13: =+H13+J13 -> 13175334 | M13: =E13-L13 -> 6564398.9 | N13: =IF(L13=0,"n.a.",((E13/L13)-1)*100) -> 49.823396

Sheet SPF-A03
B4: CUADRO DE EXPLICACIÓN DE LAS VARIACIONES 2013 | I4: SPF-A03
B5: ORGANISMO Ó EMPRESA: | E5: 09PFRC FIDEICOMISO DE RECUPERACIÓN CREDITICIA DEL DISTRITO FEDERAL FIDERE III
B6: PROGRAMA VS RECAUDACIÓN
B7: (PESOS)
B9: ACUMULADO AL MES DE: MARZO 2013
C11: CONCEPTO | D11: CIFRAS AL MES DE __________ | F11: VARIACIÓN 2012 | H11: EXPLICACIÓN A LAS VARIACIONES
F12: VS. | G12: ABSOLUTA
G13: REL. NOM. %
B15: INGRESOS PROPIOS | C15: VENTA DE SERVICIOS | D15: PROG. ORIGINAL | E15: 15304840 | F15: Programa | G15: =+E16-E15 -> -500622.31 | H15: Se obtuvieron menores ingresos en venta de servicios por $500,622.31 siendo inferior en un 3.27% por una menor recaudación a lo esperado en los intereses que dan las instituciones bancarias por la inversión sobre la recuperación de las carteras administradas, por la baja tasa de intereses y por una menor recuperación en las carteras gubernamentales, repercutiendo en las comisiones que cobra el fideicomiso.
D16: OBTENIDO 2013 | E16: 14804218 | G16: =IF(E15=0,"n.a.",(E16/E15-1)*100) -> -3.2710065
D17: OBTENIDO 2012 | E17: 10526426 | F17: 2013 | G17: =+E18-E17 -> 4277791.5 | H17: Se tiene una variación mayor de $4,277,791.46 que representa el 40.64% , por una captación mayor de recursos en las comisiones y cuotas de cobranza, teniéndose que reconocer los ingresos en el momento real de la facturación desfasando los ingresos a un mes en el ejericio anterior en cumplimientos a las reformas fiscales en la facturación electrónica.
D18: OBTENIDO 2013 | E18: 14804218 | G18: =IF(E17=0,"n..a",(E18/E17-1)*100) -> 40.638592
C19: INGRESOS DIVERSOS | D19: PROG. ORIGINAL | E19: 4986924 | F19: Programa | G19: =+E20-E19 -> -51408.66 | H19: Se tiene una menor recaudación por $51,408.66 siendo inferior en un 1.03% de las carteras Renovación Habitación Popular( R.H.P)., Fondo de Desarrollo Económico Cartera Mypes Locales y Federales, Fondo para la Consolidación de la Micro Empresa (Focomi Mypes) , Cartera FONDECO D.F. propiedad de FIDERE, aun con las acciones de cobranza judicial, como recordatorios de pago, llamas telefónicas, etc.
D20: OBTENIDO 2013 | E20: 4935515.3 | G20: =IF(E19=0,"n.a.",(E20/E19-1)*100) -> -1.0308691
D21: OBTENIDO 2012 | E21: 6478196.5 | F21: 2013 | G21: =+E22-E21 -> -1542681.2 | H21: Se tiene una menor recaudación por $1,542,681.19 siendo inferior en un 23.81% de las carteras Renovación Habitación Popular( R.H.P)., Fondo de Desarrollo Económico Cartera Mypes Locales y Federales, Fondo para la Consolidación de la Micro Empresa (Focomi Mypes) , Cartera FONDECO D.F. propiedad de FIDERE, aun con las acciones de cobranza judicial, como recordatorios de pago, llamas telefónicas, etc. Así como una menor utilización de nuestros remanentes de ejercicios anteriores como apoyo al gasto de operación.
D22: OBTENIDO 2013 | E22: 4935515.3 | G22: =IF(E21=0,"n.a.",(E22/E21-1)*100) -> -23.813436
B23: APORTACIONES | C23: CORRIENTES | D23: PROG. ORIGINAL | E23: 1125000 | F23: Programa | G23: =+E24-E23 -> 0 | H23: Sin variación
D24: OBTENIDO 2013 | E24: 1125000 | G24: =IF(E23=0,"n.a.",(E24/E23-1)*100) -> 0
D25: OBTENIDO 2012 | E25: 1107390 | F25: 2013 | G25: =+E26-E25 -> 17610 | H25: Se tiene una variación de $17,610.00 siendo superior en un 1.59% al año anterior por los recursos autorizados como apoyo al gasto corriente y para fortalecer el fondo colateral de garantía, siendo solamente la participación de este fideicomiso como el ente encargado de dar seguimiento e instrumentar el convenio de Colaboración para Apoyar a los Acreditados Finales del Programa FOVI DDF (Banamex Banorte), firmado el día 27 de noviembre de 2006, entre la Sociedad Hipotecaria Federal, S.N.C. y el Gobierno del Distrito Federal, con el objeto reducir el riesgo de afectación de la garantía otorgada por el entonces Departamento del Distrito Federal.
D26: OBTENIDO 2013 | E26: 1125000 | G26: =IF(E25=0,"n.a.",(E26/E25-1)*100) -> 1.5902257
C27: CAPITAL | D27: PROG. ORIGINAL | E27: 0 | F27: Programa | G27: =+E28-E27 -> 0
D28: OBTENIDO 2013 | E28: 0 | G28: =IF(E27=0,"n.a.",(E28/E27-1)*100) -> n.a.
D29: OBTENIDO 2012 | E29: 0 | F29: 2013 | G29: =+E30-E29 -> 0
D30: OBTENIDO 2013 | E30: 0 | G30: =IF(E29=0,"n.a.",(E30/E29-1)*100) -> n.a.
B31: TRANSFERENCIAS | C31: CORRIENTES | D31: PROG. ORIGINAL | F31: Programa | G31: =+E32-E31 -> 0
D32: OBTENIDO 2013 | G32: =IF(E31=0,"n.a.",(E32/E31-1)*100) -> n.a.
D33: OBTENIDO 2012 | F33: 2013 | G33: =+E34-E33 -> 0
D34: OBTENIDO 2013 | G34: =IF(E33=0,"n.a.",(E34/E33-1)*100) -> n.a.
C35: NOTA: El formato es indicativo no limitativo, por lo que en caso de requerir más espacios para el detalle, las entidades deberán elaborarlo en la misma presentación y con las mismas características.
C36: En caso de no contemplar todos los rubros señalados se pueden eliminar renglones sobrantes o inutilizados.
B40: FINANCIAMIENTO NETO | C40: VENTA DE BIENES | D40: PROG. ORIGINAL | F40: Programa | G40: =+E41-E40 -> 0
D41: OBTENIDO 2013 | G41: =IF(E40=0,"n.a.",(E41/E40-1)*100) -> n.a.
D42: OBTENIDO 2012 | F42: 2013 | G42: =+E43-E42 -> 0
D43: OBTENIDO 2013 | G43: =IF(E42=0,"n.a.",(E43/E42-1)*100) -> n.a.
C44: VENTA DE SERVICIOS | D44: PROG. ORIGINAL | F44: Programa | G44: =+E45-E44 -> 0
D45: OBTENIDO 2013 | G45: =IF(E44=0,"n.a.",(E45/E44-1)*100) -> n.a.
D46: OBTENIDO 2012 | F46: 2013 | G46: =+E47-E46 -> 0
D47: OBTENIDO 2013 | G47: =IF(E46=0,"n.a.",(E47/E46-1)*100) -> n.a.
C48: NOTA: El formato es indicativo no limitativo, por lo que en caso de requerir más espacios para el detalle, las entidades deberán elaborarlo en la misma presentación y con las mismas características.
C49: En caso de no contemplar todos los rubros señalados se pueden eliminar renglones sobrantes o inutilizados.

Sheet SPF-C01
E6: Calendario Original de Ingresos Propios 2013
E7: Entidad: 09PFRC FIDEICOMISO DE RECUPERACIÓN CREDITICIA DEL DISTRITO FEDERAL FIDERE III | P7: SPF-C01
E8: Gobierno del Distrito Federal
E9: Mensual
E10: Pesos
E12: Entidad | F12: Enero | G12: Febrero | H12: Marzo | I12: Abril | J12: Mayo | K12: Junio | L12: Julio | M12: Agosto | N12: Septiembre | O12: Octubre | P12: Noviembre | Q12: Diciembre | R12: Ene-dic
E13: Total | F13: =+F14+F44 -> 6467408 | G13: =+G14+G44 -> 7265162 | H13: =+H14+H44 -> 7684194 | I13: =+I14+I44 -> 5752139 | J13: =+J14+J44 -> 6422773 | K13: =+K14+K44 -> 6181963 | L13: =+L14+L44 -> 6212824 | M13: =+M14+M44 -> 5551554 | ... Q13: =+Q14+Q44 -> 10474877 | R13: =SUM(F13:Q13) -> 80809889
E14: Ingresos Ordinarios | F14: =+F15+F34+F41 -> 6467408 | G14: =+G15+G34+G41 -> 7265162 | H14: =+H15+H34+H41 -> 7684194 | I14: =+I15+I34+I41 -> 5752139 | J14: =+J15+J34+J41 -> 6422773 | K14: =+K15+K34+K41 -> 6181963 | L14: =+L15+L34+L41 -> 6212824 | M14: =+M15+M34+M41 -> 5551554 | ... Q14: =+Q15+Q34+Q41 -> 10474877 | R14: =SUM(F14:Q14) -> 80809889
E15: Ingresos Propios | F15: =+F16+F18+F23+F25+F28 -> 6467408 | G15: =+G16+G18+G23+G25+G28 -> 6515162 | H15: =+H16+H18+H23+H25+H28 -> 7309194 | I15: =+I16+I18+I23+I25+I28 -> 5377139 | J15: =+J16+J18+J23+J25+J28 -> 6047773 | K15: =+K16+K18+K23+K25+K28 -> 5806963 | L15: =+L16+L18+L23+L25+L28 -> 5837824 | M15: =+M16+M18+M23+M25+M28 -> 5176554 | ... Q15: =+Q16+Q18+Q23+Q25+Q28 -> 10099877 | R15: =SUM(F15:Q15) -> 76309889
E16: Venta de Bienes | F16: =SUM(F17:F17) -> 0 | G16: =SUM(G17:G17) -> 0 | H16: =SUM(H17:H17) -> 0 | I16: =SUM(I17:I17) -> 0 | J16: =SUM(J17:J17) -> 0 | K16: =SUM(K17:K17) -> 0 | L16: =SUM(L17:L17) -> 0 | M16: =SUM(M17:M17) -> 0 | ... Q16: =SUM(Q17:Q17) -> 0 | R16: =SUM(F16:Q16) -> 0
E18: Venta de Servicios | F18: =SUM(F19:F22) -> 5855643 | G18: =SUM(G19:G22) -> 4905883 | H18: =SUM(H19:H22) -> 4543314 | I18: =SUM(I19:I22) -> 4378902 | J18: =SUM(J19:J22) -> 4711421 | K18: =SUM(K19:K22) -> 4667393 | L18: =SUM(L19:L22) -> 4790957 | M18: =SUM(M19:M22) -> 4923406 | ... R18: =SUM(R19:R22) -> 63843541
E19: Intereses Cobrados | F19: 314823 | G19: 297683 | H19: 283494 | I19: 299002 | J19: 304651 | K19: 297643 | L19: 323717 | M19: 304246 | N19: 304961 | O19: 304177 | P19: 301892 | Q19: 400333 | R19: =SUM(F19:Q19) -> 3736622
E20: Comisiones Cobradas | F20: 4845260 | G20: 3954620 | H20: 3672510 | I20: 3502540 | J20: 3709110 | K20: 3766500 | L20: 3684560 | M20: 3995240 | N20: 3756670 | O20: =3769180+600000 -> 4369180 | P20: =3759660+1000000 -> 4759660 | Q20: =3728170+5889449-1600000 -> 8017619 | R20: =SUM(F20:Q20) -> 52033469
E21: Cuotas de Cobranza | F21: 245560 | G21: 203580 | H21: 137310 | I21: 127360 | J21: 247660 | K21: 153250 | L21: 332680 | M21: 173920 | N21: 384850 | O21: 219880 | P21: 224320 | Q21: 223080 | R21: =SUM(F21:Q21) -> 2673450
E22: Otros Ingresos | F22: 450000 | G22: 450000 | H22: 450000 | I22: 450000 | J22: 450000 | K22: 450000 | L22: 450000 | M22: 450000 | N22: 450000 | O22: 450000 | P22: 450000 | Q22: 450000 | R22: =SUM(F22:Q22) -> 5400000
E23: Venta de Inversiones | F23: =SUM(F24:F24) -> 0 | G23: =SUM(G24:G24) -> 0 | H23: =SUM(H24:H24) -> 0 | I23: =SUM(I24:I24) -> 0 | J23: =SUM(J24:J24) -> 0 | K23: =SUM(K24:K24) -> 0 | L23: =SUM(L24:L24) -> 0 | M23: =SUM(M24:M24) -> 0 | ... Q23: =SUM(Q24:Q24) -> 0 | R23: =SUM(F23:Q23) -> 0
E25: Ingresos Diversos | F25: =+F26+F31 -> 611765 | G25: =+G26+G31 -> 1609279 | H25: =+H26+H31 -> 2765880 | I25: =+I26+I31 -> 998237 | J25: =+J26+J31 -> 1336352 | K25: =+K26+K31 -> 1139570 | L25: =+L26+L31 -> 1046867 | M25: =+M26+M31 -> 253148 | ... R25: =+R26+R31 -> 12466348
E26: Recuperación de Carteras Propias. | F26: 107160 | G26: 125200 | H26: 92600 | I26: 94300 | J26: 73570 | K26: 141820 | L26: 218960 | M26: 119750 | N26: 119130 | O26: 118500 | P26: 117870 | Q26: 117250 | R26: =SUM(F26:Q26) -> 1446110
E28: Operaciones Ajenas ( Netas ) | F28: =+F29+F30 -> 0 | G28: =+G29+G30 -> 0 | H28: =+H29+H30 -> 0 | I28: =+I29+I30 -> 0 | J28: =+J29+J30 -> 0 | K28: =+K29+K30 -> 0 | L28: =+L29+L30 -> 0 | M28: =+M29+M30 -> 0 | ... Q28: =+Q29+Q30 -> 0 | R28: =SUM(F28:Q28) -> 0
E29: Por cuenta de terceros | R29: =SUM(F29:Q29) -> 0
E30: Por erogaciones recuperables | R30: =SUM(F30:Q30) -> 0
E31: Remanente de Ejercicios Anteriores | F31: =SUM(F32:F33) -> 504605 | G31: =SUM(G32:G33) -> 1484079 | H31: =SUM(H32:H33) -> 2673280 | I31: =SUM(I32:I33) -> 903937 | J31: =SUM(J32:J33) -> 1262782 | K31: =SUM(K32:K33) -> 997750 | L31: =SUM(L32:L33) -> 827907 | M31: =SUM(M32:M33) -> 133398 | ... Q31: =SUM(Q32:Q33) -> 891595 | R31: =SUM(F31:Q31) -> 11020238
E32: Remanente local | F32: 504605 | G32: 1484079 | H32: 2673280 | I32: 903937 | J32: 1262782 | K32: 997750 | L32: 827907 | M32: 133398 | N32: 887485 | O32: 8398 | P32: 445022 | Q32: 891595 | R32: =SUM(F32:Q32) -> 11020238
E33: Remanente Federal | F33: 0 | G33: 0 | H33: 0 | I33: 0 | J33: 0 | K33: 0 | L33: 0 | M33: 0 | N33: 0 | O33: 0 | P33: 0 | R33: =SUM(F33:Q33) -> 0
E34: Aportaciones del GDF | F34: =+F35+F38 -> 0 | G34: =+G35+G38 -> 750000 | H34: =+H35+H38 -> 375000 | I34: =+I35+I38 -> 375000 | J34: =+J35+J38 -> 375000 | K34: =+K35+K38 -> 375000 | L34: =+L35+L38 -> 375000 | M34: =+M35+M38 -> 375000 | ... Q34: =+Q35+Q38 -> 375000 | R34: =SUM(F34:Q34) -> 4500000
E35: Corrientes | F35: =+F36+F37 -> 0 | G35: =+G36+G37 -> 750000 | H35: =+H36+H37 -> 375000 | I35: =+I36+I37 -> 375000 | J35: =+J36+J37 -> 375000 | K35: =+K36+K37 -> 375000 | L35: =+L36+L37 -> 375000 | M35: =+M36+M37 -> 375000 | ... Q35: =+Q36+Q37 -> 375000 | R35: =SUM(F35:Q35) -> 4500000
E36: Operación | F36: =+F37+F38 -> 0 | G36: =375000*2 -> 750000 | H36: 375000 | I36: 375000 | J36: 375000 | K36: 375000 | L36: 375000 | M36: 375000 | N36: 375000 | O36: 375000 | P36: 375000 | Q36: 375000 | R36: =SUM(F36:Q36) -> 4500000
E37: Intereses de la deuda | R37: =SUM(F37:Q37) -> 0
E38: Capital | F38: =+F39+F40 -> 0 | G38: =+G39+G40 -> 0 | H38: =+H39+H40 -> 0 | I38: =+I39+I40 -> 0 | J38: =+J39+J40 -> 0 | K38: =+K39+K40 -> 0 | L38: =+L39+L40 -> 0 | M38: =+M39+M40 -> 0 | ... Q38: =+Q39+Q40 -> 0 | R38: =SUM(F38:Q38) -> 0
E39: Operación | R39: =SUM(F39:Q39) -> 0
E40: Amortización deuda | R40: =SUM(F40:Q40) -> 0
E41: Transferencias del Gobierno Federal | F41: =+F42+F43 -> 0 | G41: =+G42+G43 -> 0 | H41: =+H42+H43 -> 0 | I41: =+I42+I43 -> 0 | J41: =+J42+J43 -> 0 | K41: =+K42+K43 -> 0 | L41: =+L42+L43 -> 0 | M41: =+M42+M43 -> 0 | ... Q41: =+Q42+Q43 -> 0 | R41: =SUM(F41:Q41) -> 0
E42: Corrientes | R42: =SUM(F42:Q42) -> 0
E43: Capital | R43: =SUM(F43:Q43) -> 0
E44: Ingresos Extraordinarios | F44: =+F45 -> 0 | G44: =+G45 -> 0 | H44: =+H45 -> 0 | I44: =+I45 -> 0 | J44: =+J45 -> 0 | K44: =+K45 -> 0 | L44: =+L45 -> 0 | M44: =+M45 -> 0 | ... R44: =+R45 -> 0
E45: Financiamiento Neto | F45: =+F46-F47 -> 0 | G45: =+G46-G47 -> 0 | H45: =+H46-H47 -> 0 | I45: =+I46-I47 -> 0 | J45: =+J46-J47 -> 0 | K45: =+K46-K47 -> 0 | L45: =+L46-L47 -> 0 | M45: =+M46-M47 -> 0 | ... Q45: =+Q46-Q47 -> 0 | R45: =SUM(F45:Q45) -> 0
E46: Colocación | F46: 0 | G46: 0 | H46: 0 | I46: 0 | J46: 0 | K46: 0 | L46: 0 | M46: 0 | N46: 0 | O46: 0 | P46: 0 | R46: =SUM(F46:Q46) -> 0
E47: Amortización | F47: 0 | G47: 0 | H47: 0 | I47: 0 | J47: 0 | K47: 0 | L47: 0 | M47: 0 | N47: 0 | O47: 0 | P47: 0 | R47: =SUM(F47:Q47) -> 0
E50: NOTA: El formato es indicativo no limitativo, por lo que en caso de requerir más espacios, las entidades deberán elaborarlo en la misma presentación y con las mismas características.
E51: En caso de no contemplar todos los rubros señalados se pueden eliminar renglones sobrantes o inutilizados.

Sheet SPF-C02
D4: Calendario Modificado de Ingresos 2013
D5: Entidad: 09PFRC FIDEICOMISO DE RECUPERACIÓN CREDITICIA DEL DISTRITO FEDERAL FIDERE III | P5: SPF-C02
D6: Gobierno del Distrito Federal
D7: Mensual
D8: Pesos
D10: Entidad | E10: Enero | F10: Febrero | G10: Marzo | H10: Abril | I10: Mayo | J10: Junio | K10: Julio | L10: Agosto | M10: Septiembre | N10: Octubre | O10: Noviembre | P10: Diciembre | Q10: Ene-dic
D11: Total | E11: =+E12+E41 -> 0 | F11: =+F12+F41 -> 0 | G11: =+G12+G41 -> 0 | H11: =+H12+H41 -> 0 | I11: =+I12+I41 -> 0 | J11: =+J12+J41 -> 0 | K11: =+K12+K41 -> 0 | L11: =+L12+L41 -> 0 | ... P11: =+P12+P41 -> 0 | Q11: =SUM(E11:P11) -> 0
D12: Ingresos Ordinarios | E12: =+E13+E31+E38+E28 -> 0 | F12: =+F13+F31+F38+F28 -> 0 | G12: =+G13+G31+G38+G28 -> 0 | H12: =+H13+H31+H38+H28 -> 0 | I12: =+I13+I31+I38+I28 -> 0 | J12: =+J13+J31+J38+J28 -> 0 | K12: =+K13+K31+K38+K28 -> 0 | L12: =+L13+L31+L38+L28 -> 0 | ... P12: =+P13+P31+P38+P28 -> 0 | Q12: =SUM(E12:P12) -> 0
D13: Ingresos Propios | E13: =+E14+E16+E18+E20+E25+E28 -> 0 | F13: =+F14+F16+F18+F20+F25+F28 -> 0 | G13: =+G14+G16+G18+G20+G25+G28 -> 0 | H13: =+H14+H16+H18+H20+H25+H28 -> 0 | I13: =+I14+I16+I18+I20+I25+I28 -> 0 | J13: =+J14+J16+J18+J20+J25+J28 -> 0 | K13: =+K14+K16+K18+K20+K25+K28 -> 0 | L13: =+L14+L16+L18+L20+L25+L28 -> 0 | ... P13: =+P14+P16+P18+P20+P25+P28 -> 0 | Q13: =SUM(E13:P13) -> 0
D14: Venta de Bienes | E14: =SUM(E15:E15) -> 0 | F14: =SUM(F15:F15) -> 0 | G14: =SUM(G15:G15) -> 0 | H14: =SUM(H15:H15) -> 0 | I14: =SUM(I15:I15) -> 0 | J14: =SUM(J15:J15) -> 0 | K14: =SUM(K15:K15) -> 0 | L14: =SUM(L15:L15) -> 0 | ... P14: =SUM(P15:P15) -> 0 | Q14: =SUM(E14:P14) -> 0
D16: Venta de Servicios | E16: =SUM(E17:E17) -> 0 | F16: =SUM(F17:F17) -> 0 | G16: =SUM(G17:G17) -> 0 | H16: =SUM(H17:H17) -> 0 | I16: =SUM(I17:I17) -> 0 | J16: =SUM(J17:J17) -> 0 | K16: =SUM(K17:K17) -> 0 | L16: =SUM(L17:L17) -> 0 | ... P16: =SUM(P17:P17) -> 0 | Q16: =SUM(E16:P16) -> 0
D18: Venta de Inversiones | E18: =SUM(E19:E19) -> 0 | F18: =SUM(F19:F19) -> 0 | G18: =SUM(G19:G19) -> 0 | H18: =SUM(H19:H19) -> 0 | I18: =SUM(I19:I19) -> 0 | J18: =SUM(J19:J19) -> 0 | K18: =SUM(K19:K19) -> 0 | L18: =SUM(L19:L19) -> 0 | ... P18: =SUM(P19:P19) -> 0 | Q18: =SUM(E18:P18) -> 0
D20: Ingresos Diversos | E20: =SUM(E21:E24) -> 0 | F20: =SUM(F21:F24) -> 0 | G20: =SUM(G21:G24) -> 0 | H20: =SUM(H21:H24) -> 0 | I20: =SUM(I21:I24) -> 0 | J20: =SUM(J21:J24) -> 0 | K20: =SUM(K21:K24) -> 0 | L20: =SUM(L21:L24) -> 0 | ... P20: =SUM(P21:P24) -> 0 | Q20: =SUM(E20:P20) -> 0
D25: Operaciones Ajenas ( Netas ) | E25: =+E26+E27 -> 0 | F25: =+F26+F27 -> 0 | G25: =+G26+G27 -> 0 | H25: =+H26+H27 -> 0 | I25: =+I26+I27 -> 0 | J25: =+J26+J27 -> 0 | K25: =+K26+K27 -> 0 | L25: =+L26+L27 -> 0 | ... P25: =+P26+P27 -> 0 | Q25: =SUM(E25:P25) -> 0
D26: Por cuenta de terceros | Q26: =SUM(E26:P26) -> 0
D27: Por erogaciones recuperables | Q27: =SUM(E27:P27) -> 0
D28: Remanente de Ejercicios Anteriores | E28: =SUM(E29:E30) -> 0 | F28: =SUM(F29:F30) -> 0 | G28: =SUM(G29:G30) -> 0 | H28: =SUM(H29:H30) -> 0 | I28: =SUM(I29:I30) -> 0 | J28: =SUM(J29:J30) -> 0 | K28: =SUM(K29:K30) -> 0 | L28: =SUM(L29:L30) -> 0 | ... P28: =SUM(P29:P30) -> 0 | Q28: =SUM(E28:P28) -> 0
D29: Remanente local | E29: 0 | F29: 0 | G29: 0 | H29: 0 | I29: 0 | J29: 0 | K29: 0 | L29: 0 | M29: 0 | N29: 0 | O29: 0 | P29: 0 | Q29: =SUM(E29:P29) -> 0
D30: Remanente Federal | E30: 0 | F30: 0 | G30: 0 | H30: 0 | I30: 0 | J30: 0 | K30: 0 | L30: 0 | M30: 0 | N30: 0 | O30: 0 | P30: 0 | Q30: =SUM(E30:P30) -> 0
D31: Aportaciones del GDF | E31: =+E32+E35 -> 0 | F31: =+F32+F35 -> 0 | G31: =+G32+G35 -> 0 | H31: =+H32+H35 -> 0 | I31: =+I32+I35 -> 0 | J31: =+J32+J35 -> 0 | K31: =+K32+K35 -> 0 | L31: =+L32+L35 -> 0 | ... P31: =+P32+P35 -> 0 | Q31: =SUM(E31:P31) -> 0
D32: Corrientes | E32: =+E33+E34 -> 0 | F32: =+F33+F34 -> 0 | G32: =+G33+G34 -> 0 | H32: =+H33+H34 -> 0 | I32: =+I33+I34 -> 0 | J32: =+J33+J34 -> 0 | K32: =+K33+K34 -> 0 | L32: =+L33+L34 -> 0 | ... P32: =+P33+P34 -> 0 | Q32: =SUM(E32:P32) -> 0
D33: Operación | Q33: =SUM(E33:P33) -> 0
D34: Intereses de la deuda | Q34: =SUM(E34:P34) -> 0
D35: Capital | E35: =+E36+E37 -> 0 | F35: =+F36+F37 -> 0 | G35: =+G36+G37 -> 0 | H35: =+H36+H37 -> 0 | I35: =+I36+I37 -> 0 | J35: =+J36+J37 -> 0 | K35: =+K36+K37 -> 0 | L35: =+L36+L37 -> 0 | ... P35: =+P36+P37 -> 0 | Q35: =SUM(E35:P35) -> 0
D36: Operación | Q36: =SUM(E36:P36) -> 0
D37: Amortización deuda | Q37: =SUM(E37:P37) -> 0
D38: Transferencias del Gobierno Federal | E38: =+E39+E40 -> 0 | F38: =+F39+F40 -> 0 | G38: =+G39+G40 -> 0 | H38: =+H39+H40 -> 0 | I38: =+I39+I40 -> 0 | J38: =+J39+J40 -> 0 | K38: =+K39+K40 -> 0 | L38: =+L39+L40 -> 0 | ... P38: =+P39+P40 -> 0 | Q38: =SUM(E38:P38) -> 0
D39: Corrientes | Q39: =SUM(E39:P39) -> 0
D40: Capital | Q40: =SUM(E40:P40) -> 0
D41: Ingresos Extraordinarios | E41: =+E42+E28 -> 0 | F41: =+F42+F28 -> 0 | G41: =+G42+G28 -> 0 | H41: =+H42+H28 -> 0 | I41: =+I42+I28 -> 0 | J41: =+J42+J28 -> 0 | K41: =+K42+K28 -> 0 | L41: =+L42+L28 -> 0 | ... P41: =+P42+P28 -> 0 | Q41: =SUM(E41:P41) -> 0
D42: Financiamiento Neto | E42: =+E43-E44 -> 0 | F42: =+F43-F44 -> 0 | G42: =+G43-G44 -> 0 | H42: =+H43-H44 -> 0 | I42: =+I43-I44 -> 0 | J42: =+J43-J44 -> 0 | K42: =+K43-K44 -> 0 | L42: =+L43-L44 -> 0 | ... P42: =+P43-P44 -> 0 | Q42: =SUM(E42:P42) -> 0
D43: Colocación | E43: 0 | F43: 0 | G43: 0 | H43: 0 | I43: 0 | J43: 0 | K43: 0 | L43: 0 | M43: 0 | N43: 0 | O43: 0 | P43: 0 | Q43: =SUM(E43:P43) -> 0
D44: Amortización | E44: 0 | F44: 0 | G44: 0 | H44: 0 | I44: 0 | J44: 0 | K44: 0 | L44: 0 | M44: 0 | N44: 0 | O44: 0 | P44: 0 | Q44: =SUM(E44:P44) -> 0
D49: NOTA: El formato es indicativo no limitativo, por lo que en caso de requerir más espacios, las entidades deberán elaborarlo en la misma presentación y con las mismas características.
D50: En caso de no contemplar todos los rubros señalados se pueden eliminar renglones sobrantes o inutilizados.
D53: Elaboró: _____________________________ | H53: Revisó: _________________________________ | N53: Autorizó: ___________________________________
D54: Nombre: | H54: Nombre: | N54: Nombre:
D55: Cargo: | H55: Cargo: | N55: Cargo:

Sheet  SPF-01
E4: Ingresos Obtenidos 2013
E5: Entidad: 09PFRC FIDEICOMISO DE RECUPERACIÓN CREDITICIA DEL DISTRITO FEDERAL FIDERE III | P5: SPF-01
E6: Gobierno del Distrito Federal
E7: Mensual
E8: Pesos
E10: Entidad | F10: Enero | G10: Febrero | H10: Marzo | I10: Abril | J10: Mayo | K10: Junio | L10: Julio | M10: Agosto | N10: Septiembre | O10: Octubre | P10: Noviembre | Q10: Diciembre | R10: Ene-dic
E11: Total | F11: =+F12+F46 -> 5724319.3 | G11: =+G12+G46 -> 7915834.5 | H11: =+H12+H46 -> 7224579.2 | I11: =+I12+I46 -> 0 | J11: =+J12+J46 -> 0 | K11: =+K12+K46 -> 0 | L11: =+L12+L46 -> 0 | M11: =+M12+M46 -> 0 | ... Q11: =+Q12+Q46 -> 0 | R11: =SUM(F11:Q11) -> 20864733
E12: Ingresos Ordinarios | F12: =+F13+F36+F43 -> 5724319.3 | G12: =+G13+G36+G43 -> 7915834.5 | H12: =+H13+H36+H43 -> 7224579.2 | I12: =+I13+I36+I43 -> 0 | J12: =+J13+J36+J43 -> 0 | K12: =+K13+K36+K43 -> 0 | L12: =+L13+L36+L43 -> 0 | M12: =+M13+M36+M43 -> 0 | ... Q12: =+Q13+Q36+Q43 -> 0 | R12: =SUM(F12:Q12) -> 20864733
E13: Ingresos Propios | F13: =F15+F17+F23+F25+F28 -> 5724319.3 | G13: =G15+G17+G23+G25+G28 -> 7165834.5 | H13: =H15+H17+H23+H25+H28 -> 6849579.2 | I13: =I15+I17+I23+I25+I28 -> 0 | J13: =J15+J17+J23+J25+J28 -> 0 | K13: =K15+K17+K23+K25+K28 -> 0 | L13: =L15+L17+L23+L25+L28 -> 0 | M13: =M15+M17+M23+M25+M28 -> 0 | ... Q13: =Q15+Q17+Q23+Q25+Q28 -> 0 | R13: =SUM(F13:Q13) -> 19739733
E15: Venta de Bienes | F15: =SUM(F16:F16) -> 0 | G15: =SUM(G16:G16) -> 0 | H15: =SUM(H16:H16) -> 0 | I15: =SUM(I16:I16) -> 0 | J15: =SUM(J16:J16) -> 0 | K15: =SUM(K16:K16) -> 0 | L15: =SUM(L16:L16) -> 0 | M15: =SUM(M16:M16) -> 0 | ... Q15: =SUM(Q16:Q16) -> 0 | R15: =SUM(F15:Q15) -> 0
E17: Venta de Servicios | F17: =SUM(F18:F21) -> 5072435.6 | G17: =SUM(G18:G21) -> 5617926.2 | H17: =SUM(H18:H21) -> 4113855.9 | I17: =SUM(I18:I21) -> 0 | J17: =SUM(J18:J21) -> 0 | K17: =SUM(K18:K21) -> 0 | L17: =SUM(L18:L21) -> 0 | M17: =SUM(M18:M21) -> 0 | ... R17: =SUM(R18:R21) -> 14804218
E18: Intereses Cobrados | F18: 289130.25 | G18: 245700.14 | H18: 220473.54 | R18: =SUM(F18:Q18) -> 755303.93
E19: Comisiones Cobradas | F19: 3962285.1 | G19: 4654787.9 | H19: 3424332.4 | R19: =SUM(F19:Q19) -> 12041405
E20: Cuotas de Cobranza | F20: 370183.98 | G20: 267400.21 | H20: 18874.96 | R20: =SUM(F20:Q20) -> 656459.15
E21: Otros Ingresos | F21: 450836.23 | G21: 450038 | H21: 450175 | R21: =SUM(F21:Q21) -> 1351049.2
E23: Venta de Inversiones | F23: =SUM(F24:F24) -> 0 | G23: =SUM(G24:G24) -> 0 | H23: =SUM(H24:H24) -> 0 | I23: =SUM(I24:I24) -> 0 | J23: =SUM(J24:J24) -> 0 | K23: =SUM(K24:K24) -> 0 | L23: =SUM(L24:L24) -> 0 | M23: =SUM(M24:M24) -> 0 | ... Q23: =SUM(Q24:Q24) -> 0 | R23: =SUM(F23:Q23) -> 0
E25: Ingresos Diversos | F25: =SUM(F26:F27)+F32 -> 651883.71 | G25: =SUM(G26:G27)+G32 -> 1547908.3 | H25: =SUM(H26:H27)+H32 -> 2735723.4 | I25: =SUM(I26:I27)+I32 -> 0 | J25: =SUM(J26:J27)+J32 -> 0 | K25: =SUM(K26:K27)+K32 -> 0 | L25: =SUM(L26:L27)+L32 -> 0 | M25: =SUM(M26:M27)+M32 -> 0 | ... Q25: =SUM(Q26:Q27)+Q32 -> 0 | R25: =SUM(F25:Q25) -> 4935515.3
E26: Recuperación de Carteras Propias. | F26: 147278.71 | G26: 63829.26 | H26: 62443.37 | R26: =SUM(F26:Q26) -> 273551.34
E28: Operaciones Ajenas ( Netas ) | F28: =F29+F30 -> 0 | G28: =G29+G30 -> 0 | H28: =H29+H30 -> 0 | I28: =I29+I30 -> 0 | J28: =J29+J30 -> 0 | K28: =K29+K30 -> 0 | L28: =L29+L30 -> 0 | M28: =M29+M30 -> 0 | ... Q28: =Q29+Q30 -> 0 | R28: =SUM(F28:Q28) -> 0
E29: Por cuenta de terceros
E30: Por erogaciones recuperables
E32: Remanente de ejercicios anteriores | F32: =SUM(F33:F34) -> 504605 | G32: =SUM(G33:G34) -> 1484079 | H32: =SUM(H33:H34) -> 2673280 | I32: =SUM(I33:I34) -> 0 | J32: =SUM(J33:J34) -> 0 | K32: =SUM(K33:K34) -> 0 | L32: =SUM(L33:L34) -> 0 | M32: =SUM(M33:M34) -> 0 | ... Q32: =SUM(Q33:Q34) -> 0 | R32: =SUM(F32:Q32) -> 4661964
E33: Remanente local | F33: 504605 | G33: 1484079 | H33: 2673280 | R33: =SUM(F33:Q33) -> 4661964
E34: Remanente Federal
E36: Aportaciones del GDF | F36: =F37+F40 -> 0 | G36: =G37+G40 -> 750000 | H36: =H37+H40 -> 375000 | I36: =I37+I40 -> 0 | J36: =J37+J40 -> 0 | K36: =K37+K40 -> 0 | L36: =L37+L40 -> 0 | M36: =M37+M40 -> 0 | ... Q36: =Q37+Q40 -> 0 | R36: =SUM(F36:Q36) -> 1125000
E37: Corrientes | F37: =F38+F39 -> 0 | G37: =G38+G39 -> 750000 | H37: =H38+H39 -> 375000 | I37: =I38+I39 -> 0 | J37: =J38+J39 -> 0 | K37: =K38+K39 -> 0 | L37: =L38+L39 -> 0 | M37: =M38+M39 -> 0 | ... Q37: =Q38+Q39 -> 0 | R37: =SUM(F37:Q37) -> 1125000
E38: Operación | F38: 0 | G38: 750000 | H38: 375000 | I38: 0 | J38: 0 | K38: 0 | L38: 0 | M38: 0 | N38: 0 | O38: 0 | P38: 0 | Q38: 0 | R38: 0
E39: Intereses de la deuda
E40: Capital | F40: =F41+F42 -> 0 | G40: =G41+G42 -> 0 | H40: =H41+H42 -> 0 | I40: =I41+I42 -> 0 | J40: =J41+J42 -> 0 | K40: =K41+K42 -> 0 | L40: =L41+L42 -> 0 | M40: =M41+M42 -> 0 | ... Q40: =Q41+Q42 -> 0 | R40: =SUM(F40:Q40) -> 0
E41: Operación
E42: Amortización deuda
E43: Transferencias del Gobierno del Distrito Federal | F43: =F44+F45 -> 0 | G43: =G44+G45 -> 0 | H43: =H44+H45 -> 0 | I43: =I44+I45 -> 0 | J43: =J44+J45 -> 0 | K43: =K44+K45 -> 0 | L43: =L44+L45 -> 0 | M43: =M44+M45 -> 0 | ... Q43: =Q44+Q45 -> 0 | R43: =SUM(F43:Q43) -> 0
E44: Corrientes
E45: Capital
E46: Ingresos Extraordinarios | F46: =+F47 -> 0 | G46: =+G47 -> 0 | H46: =+H47 -> 0 | I46: =+I47 -> 0 | J46: =+J47 -> 0 | K46: =+K47 -> 0 | L46: =+L47 -> 0 | M46: =+M47 -> 0 | ... Q46: =+Q47 -> 0 | R46: =SUM(F46:Q46) -> 0
E47: Financiamiento Neto | F47: =+F48+F49 -> 0 | G47: =+G48+G49 -> 0 | H47: =+H48+H49 -> 0 | I47: =+I48+I49 -> 0 | J47: =+J48+J49 -> 0 | K47: =+K48+K49 -> 0 | L47: =+L48+L49 -> 0 | M47: =+M48+M49 -> 0 | ... Q47: =+Q48+Q49 -> 0 | R47: =SUM(F47:Q47) -> 0
E48: Colocación | F48: 0 | G48: 0 | H48: 0 | I48: 0 | J48: 0 | K48: 0 | L48: 0 | M48: 0 | N48: 0 | O48: 0 | P48: 0 | Q48: 0 | R48: =SUM(F48:Q48) -> 0
E49: Amortización | F49: 0 | G49: 0 | H49: 0 | I49: 0 | J49: 0 | K49: 0 | L49: 0 | M49: 0 | N49: 0 | O49: 0 | P49: 0 | Q49: 0 | R49: =SUM(F49:Q49) -> 0
E52: NOTA: El formato es indicativo no limitativo, por lo que en caso de requerir más espacios, las entidades deberán elaborarlo en la misma presentación y con las mismas características.
E53: En caso de no contemplar todos los rubros señalados se pueden eliminar renglones sobrantes o inutilizados.
...

Sheet Hoja1
